Workbook

Sheet 1_BOT
A1: Table 1 | B1: BALANCE OF TRADE - ALL ITEMS
A2: Period | C2: [Kina 000]
A3: Annually | B3: Month | C3: Exports FOB | D3: Re-exports FOB | E3: Total Exports FOB | F3: Imports CIF | G3: Trade Balance Surplus (+)/Deficit (-)
A4: 2020 | C4: 34218260 | D4: 915222.85 | E4: 35133482 | F4: 16119440 | G4: 19014042
A5: 2021 | C5: 33763345 | D5: 214201.32 | E5: 33977547 | F5: 16048461 | G5: 17929086
A6: 2022 | C6: 38539972 | D6: 184975.98 | E6: 38724948 | F6: 20525989 | G6: 18198959
A7: 2023 | C7: 47483198 | D7: 905063.23 | E7: =C7+D7 -> 48388262 | F7: 22285456 | G7: =E7-F7 -> 26102805
A8: 2024 | C8: 52189805 | D8: 1371078.7 | E8: 53560884 | F8: 25657148 | G8: 27903737
A9: 2025p | C9: =SUM(C64:C69) -> 32393692 | D9: =SUM(D64:D69) -> 198801.66 | E9: =SUM(E64:E69) -> 32592494 | F9: =SUM(F64:F69) -> 12680213 | G9: =SUM(G64:G69) -> 19912281
A11: Monthly
A12: 2021 | B12: January | C12: 2514149 | D12: 5711 | E12: 2519860 | F12: 1338999.3 | G12: 1180860.7
B13: February | C13: 2563303 | D13: 3756.4903 | E13: 2567059.5 | F13: 1225828.5 | G13: 1341231
B14: March | C14: 3072429.6 | D14: 0 | E14: 3072429.6 | F14: 1189475.5 | G14: 1882954.1
B15: April | C15: 3099920.8 | D15: 110331.55 | E15: 3210252.4 | F15: 1222125.5 | G15: 1988126.9
B16: May | C16: 2109225.7 | D16: 85249 | E16: 2194474.7 | F16: 1379002.2 | G16: 815472.48
B17: June | C17: 3180433.6 | D17: 598 | E17: 3181031.6 | F17: 1331705.4 | G17: 1849326.2
B18: July | C18: 3232403.4 | D18: 2142.8571 | E18: 3234546.3 | F18: 1446717 | G18: 1787829.3
B19: August | C19: 2785059.4 | D19: 601 | E19: 2785660.4 | F19: 1622885.1 | G19: 1162775.3
B20: September | C20: 2708176.5 | D20: 5436.8241 | E20: 2713613.4 | F20: 1309170.1 | G20: 1404443.3
B21: October | C21: 2209602.1 | D21: 107.14285 | E21: 2209709.3 | F21: 1279006.8 | G21: 930702.46
B22: November | C22: 3253081.7 | D22: 267.45119 | E22: 3253349.2 | F22: 1401823.8 | G22: 1851525.4
B23: December | C23: 3035560.4 | D23: 0 | E23: 3035560.4 | F23: 1301721.4 | G23: 1733839
A25: 2022 | B25: January | C25: 3187191 | D25: 43194.395 | E25: 3230385.4 | F25: 1624258.7 | G25: 1606126.7
B26: February | C26: 2228504.9 | D26: 0 | E26: 2228504.9 | F26: 1490514.2 | G26: 737990.73
B27: March | C27: 5005272.1 | D27: 88544.656 | E27: 5093816.8 | F27: 1711195.7 | G27: 3382621
B28: April | C28: 2922203.1 | D28: 0 | E28: 2922203.1 | F28: 1419520.4 | G28: 1502682.7
B29: May | C29: 3218996.6 | D29: 9179.7136 | E29: 3228176.3 | F29: 1783158.3 | G29: 1445018
B30: June | C30: 3335322 | D30: 273.61136 | E30: 3335595.6 | F30: 1782389.9 | G30: 1553205.7
B31: July | C31: 3209806.3 | D31: 0 | E31: 3209806.3 | F31: 1598363.6 | G31: 1611442.7
B32: August | C32: 2953151.8 | D32: 13692.526 | E32: 2966844.3 | F32: 2062334.7 | G32: 904509.65
B33: September | C33: 4266847.1 | D33: 955.36206 | E33: 4267802.5 | F33: 1759153.1 | G33: 2508649.3
B34: October | C34: 2464625.5 | D34: 210.33577 | E34: 2464835.8 | F34: 1885186.7 | G34: 579649.08
B35: November | C35: 3487901.5 | D35: 26670.977 | E35: 3514572.5 | F35: 1816597.9 | G35: 1697974.6
B36: December | C36: 2260149.8 | D36: 2254.4072 | E36: 2262404.3 | F36: 1593315.3 | G36: 669088.96
A38: 2023 | B38: January | C38: 4901912.7 | D38: 268.32577 | E38: =SUM(C38:D38) -> 4902181.1 | F38: 1690431.9 | G38: 1450403.6
B39: February | C39: 4444644.5 | D39: 2114.6953 | E39: =SUM(C39:D39) -> 4446759.2 | F39: 1777033.6 | G39: 631872.59
B40: March | C40: 4887311.7 | D40: 361395.46 | E40: =SUM(C40:D40) -> 5248707.1 | F40: 2058137 | G40: 1855459.2
B41: April | C41: 3259604.4 | D41: 0 | E41: =SUM(C41:D41) -> 3259604.4 | F41: 1597099.2 | G41: 1353180.7
B42: May | C42: 4115867.9 | D42: 1883.8522 | E42: =SUM(C42:D42) -> 4117751.7 | F42: 2011139.5 | G42: 1244028.4
B43: June | C43: 3368310.2 | D43: 426128.7 | E43: =SUM(C43:D43) -> 3794438.9 | F43: 1672966.9 | G43: 1199342.6
B44: July | C44: 3153906.8 | D44: 44290.909 | E44: =SUM(C44:D44) -> 3198197.7 | F44: 1821071.4 | G44: 750353.22
B45: August | C45: 4260505 | D45: 535.58386 | E45: =SUM(C45:D45) -> 4261040.6 | F45: 1792196.3 | G45: 2037507
B46: September | C46: 3675693.4 | D46: 316.90703 | E46: =SUM(C46:D46) -> 3676010.3 | F46: 1708713.9 | G46: 1293932
B47: October | C47: 2886423.7 | D47: 41353.384 | E47: =SUM(C47:D47) -> 2927777.1 | F47: 2020356.1 | G47: 647556.51
B48: November | C48: 3807394.8 | D48: 17897.765 | E48: =SUM(C48:D48) -> 3825292.6 | F48: 2219251.9 | G48: 800023.42
B49: December | C49: 4721623.4 | D49: 8877.6481 | E49: =SUM(C49:D49) -> 4730501.1 | F49: 1917058.5 | G49: 1206391.9
A51: 2024 | B51: January | C51: 4829854.5 | D51: 168112.7 | E51: =C51+D51 -> 4997967.2 | F51: 2201290.6 | G51: 2796676.6
B52: February | C52: 3922886.8 | D52: 130878.62 | E52: =C52+D52 -> 4053765.5 | F52: 1819780.3 | G52: 2233985.2
B53: March | C53: 3490674.1 | D53: 224825.75 | E53: =C53+D53 -> 3715499.9 | F53: 1711185.4 | G53: 2004314.5
B54: April | C54: 3976254 | D54: 390561.17 | E54: =C54+D54 -> 4366815.2 | F54: 1919649.7 | G54: 2447165.5
B55: May | C55: 3840891.7 | D55: 0 | E55: =C55+D55 -> 3840891.7 | F55: 2198482.2 | G55: 1642409.5
B56: June | C56: 3393509.9 | D56: 125575.25 | E56: =C56+D56 -> 3519085.2 | F56: 2324473.8 | G56: 1194611.4
B57: July | C57: 4720408.3 | D57: 92280.085 | E57: =C57+D57 -> 4812688.4 | F57: 2222677.5 | G57: 2590010.8
B58: August | C58: 4969397.3 | D58: 8457.1387 | E58: =C58+D58 -> 4977854.5 | F58: 2193153.4 | G58: 2784701.1
B59: September | C59: 4793789.7 | D59: 55778.389 | E59: =C59+D59 -> 4849568.1 | F59: 2081350.1 | G59: 2768218
B60: October | C60: 4769242.7 | D60: 84622.598 | E60: =C60+D60 -> 4853865.3 | F60: 2765886.6 | G60: 2087978.6
B61: November | C61: 4335559.9 | D61: 54672.053 | E61: =C61+D61 -> 4390231.9 | F61: 2228618.7 | G61: 2161613.3
B62: December | C62: 5147336.5 | D62: 35314.975 | E62: =C62+D62 -> 5182651.4 | F62: 1990599.3 | G62: 3192052.1
A64: 2025 | B64: January | C64: 4844689.2 | D64: 59178.862 | E64: =SUM(C64:D64) -> 4903868 | F64: 2123945.2 | G64: =E64-F64 -> 2779922.8
B65: February | C65: 5510381.9 | D65: 49220.673 | E65: =SUM(C65:D65) -> 5559602.5 | F65: 1971553.5 | G65: =E65-F65 -> 3588049.1
B66: March | C66: 4783595.7 | D66: 8206.8117 | E66: =SUM(C66:D66) -> 4791802.5 | F66: 2143063.3 | G66: =E66-F66 -> 2648739.1
B67: April | C67: 5360497.5 | E67: =SUM(C67:D67) -> 5360497.5 | F67: 2003529.8 | G67: =E67-F67 -> 3356967.8
B68: May | C68: 5628133.4 | D68: 42351.511 | E68: =SUM(C68:D68) -> 5670484.9 | F68: 2404835.2 | G68: =E68-F68 -> 3265649.7
B69: June | C69: 6266394.3 | D69: 39843.804 | E69: =SUM(C69:D69) -> 6306238.1 | F69: 2033286.1 | G69: =E69-F69 -> 4272952
B70: July | E70: =SUM(C70:D70) -> 0 | G70: =E70-F70 -> 0
B71: August | E71: =SUM(C71:D71) -> 0 | G71: =E71-F71 -> 0
B72: September | E72: =SUM(C72:D72) -> 0 | G72: =E72-F72 -> 0
B73: October | E73: =SUM(C73:D73) -> 0 | G73: =E73-F73 -> 0
B74: November | E74: =SUM(C74:D74) -> 0 | G74: =E74-F74 -> 0
B75: December | E75: =SUM(C75:D75) -> 0 | G75: =E75-F75 -> 0
A77: Source | B77: Customs and Enterprises
A78: Note: | B78: Classification used: HS 2022 from 2022
B79: p provisional
B80: r revised

Sheet 2_M
A1: Table 2 | C1: IMPORTS BY HS
C2: [Kina 000]
A3: HS Sections® | C3: I | D3: II | E3: III | F3: IV | G3: V | H3: VI | I3: VII | J3: VIII | K3: IX | L3: X | M3: XI | N3: XII | O3: XIII | P3: XIV | Q3: XV | R3: XVI | S3: XVII | T3: XVIII | U3: XIX | V3: XX | W3: XXI | X3: XXII | Y3: Total
C4: Live animals: animal products | D4: Vegetable products | E4: Animal or vegetable oils & fats | F4: Prepared foodstuffs, beverages, spirits & tobacco | G4: Mineral products | H4: Chemicals and allied products | I4: Plastic, rubber & articles thereof | J4: Raw hides, skins, leather articles & travel goods | K4: Wood, cork & articles thereof & plaiting material | L4: Wood pulp, paper & paperboard & articles thereof | M4: Textiles & textile articles | N4: Footwear, headgear, umbrellas & parts thereof | O4: Articles of stone, plaster, cement, glass & ceremic products | P4: Pearls, precious & semi-precious stones & metals | Q4: Base metals & articles thereof | R4: Machinery & mechanical & electrical appliances & parts thereof | S4: Vehicles, aircraft & associated transport equipment | T4: Photographic & optical, medical & surgical goods & clocks/watches & musical instruments | U4: Arms and ammunition, parts & accessories thereof | V4: Miscellaneous manufactured articles | W4: Works of art, collectors pieces & antiques | X4: Others
A5: Year¯ | B5: Column1 | C5: 01 -05 | D5: 06 -14 | E5: 15 | F5: 16 - 24 | G5: 25 - 27 | H5: 28 - 38 | I5: 39 - 40 | J5: 41 - 43 | K5: 44 - 46 | L5: 47 - 49 | M5: 50 - 63 | N5: 64 - 67 | O5: 68 - 70 | P5: 71 | Q5: 72 - 83 | R5: 84 - 85 | S5: 86 - 89 | T5: 90 - 92 | U5: 93 | V5: 94 - 96 | W5: 97 | X5: 99 | Y5: Total
A6: Annually
A7: 2020 | C7: 641824.05 | D7: 1122392.7 | E7: 99655.151 | F7: 1121847.3 | G7: 2816586.1 | H7: 1207319.3 | I7: 780496.53 | J7: 25878.578 | K7: 18908.393 | L7: 239483.87 | M7: 402274.97 | N7: 88560.087 | O7: 167206.26 | P7: 5098.1717 | Q7: 1386598.5 | R7: 4127221.3 | S7: 1330786.7 | T7: 242365.05 | U7: 803.13642 | V7: 277272.05 | W7: 1530.4018 | X7: 15331.656 | Y7: 16119440
A8: 2021 | C8: 647725.35 | D8: 1121252.4 | E8: 224143.56 | F8: 1078856.5 | G8: 2250168.8 | H8: 1272543.5 | I8: 834366.24 | J8: 31896.465 | K8: 20444.036 | L8: 262618.16 | M8: 447725.25 | N8: 102828.78 | O8: 149769.93 | P8: 2039.0252 | Q8: 1592727.2 | R8: 4145839.7 | S8: 1259951.8 | T8: 256796.8 | U8: 1001.4138 | V8: 324879.58 | W8: 399.88959 | X8: 20484.819 | Y8: 16048459
A9: 2022 | C9: 753548.5 | D9: 1304358.5 | E9: 291185.33 | F9: 1387459.8 | G9: 3449229 | H9: 1658054.9 | I9: 1178579.9 | J9: 37814.235 | K9: 24181.446 | L9: 318123.54 | M9: 524190.14 | N9: 144801.35 | O9: 222708 | P9: 16115.394 | Q9: 2062553.4 | R9: 4789828.4 | S9: 1602040.8 | T9: 357858.49 | U9: 5973.0564 | V9: 378993.87 | W9: 418.41131 | X9: 17972.005 | Y9: 20525988
A10: 2023 | C10: =SUM(C42:C53) -> 830569.33 | D10: =SUM(D42:D53) -> 1420771 | E10: =SUM(E42:E53) -> 126329.33 | F10: =SUM(F42:F53) -> 1329683.7 | G10: =SUM(G42:G53) -> 4137206 | H10: =SUM(H42:H53) -> 1624296.5 | I10: =SUM(I42:I53) -> 958806.33 | J10: =SUM(J42:J53) -> 40844.072 | ... X10: =SUM(X42:X53) -> 15915.012 | Y10: 22285456
A11: 2024 | C11: 867075.31 | D11: 1670627.7 | E11: 187140.8 | F11: 1630851.7 | G11: 4714211.8 | H11: 1693785.3 | I11: 1183338.5 | J11: 48501.896 | K11: 27117.664 | L11: 438321.79 | M11: 538399.86 | N11: 158906.03 | O11: 206459.09 | P11: 22349.249 | Q11: 2145630.5 | R11: 6006290.5 | S11: 2874637 | T11: 405225.55 | U11: 7486.7164 | V11: 806417.9 | W11: 570.43986 | X11: 23802.346 | Y11: 25657148
A12: 2025 p | C12: =SUM(C68:C79) -> 431790.91 | D12: =SUM(D68:D79) -> 813560.42 | E12: =SUM(E68:E79) -> 74460.014 | F12: =SUM(F68:F79) -> 873146.6 | G12: =SUM(G68:G79) -> 16502.742 | H12: =SUM(H68:H79) -> 2447890.9 | I12: =SUM(I68:I79) -> 860901.57 | J12: =SUM(J68:J79) -> 565074.87 | ... Y12: =SUM(Y68:Y79) -> 12680213
A14: Monthly
A15: Year | B15: Months | C15: 01-05 | D15: 06-14 | E15: 15 | F15: 16-24 | G15: 25-27 | H15: 28-38 | I15: 39-40 | J15: 41-43 | K15: 44-46 | L15: 47-49 | M15: 50-63 | N15: 64-67 | O15: 68-70 | P15: 71 | Q15: 72-83 | R15: 84-85 | S15: 86-89 | T15: 90-92 | U15: 93 | V15: 94-96 | W15: 97 | X15: 99 | Y15: Total
A16: 2021 | B16: January | C16: 34997.822 | D16: 113903.2 | E16: 12715.223 | F16: 82427.837 | G16: 143356.83 | H16: 82866.302 | I16: 67763.903 | J16: 2438.9826 | K16: 1584.9732 | L16: 18654.182 | M16: 35960.939 | N16: 7831.9034 | O16: 12522.814 | P16: 109.34558 | Q16: 102750.4 | R16: 456239.22 | S16: 111067.42 | T16: 24725.872 | U16: 1.16368 | V16: 25166.692 | W16: 4 | X16: 1909.9816 | Y16: 1338999
B17: February | C17: 52553.88 | D17: 63646.797 | E17: 13211.924 | F17: 111661.54 | G17: 181317.15 | H17: 116079.72 | I17: 59649.376 | J17: 2500.8458 | K17: 1150.9111 | L17: 22457.983 | M17: 30646.328 | N17: 6352.0469 | O17: 12899.92 | P17: 110.69704 | Q17: 99469.397 | R17: 320525.6 | S17: 93369.979 | T17: 15785.933 | U17: 4 | V17: 19779.787 | W17: 7 | X17: 2647 | Y17: 1225827.8
B18: March | C18: 54484.529 | D18: 65272.512 | E18: 14750.672 | F18: 75849.656 | G18: 203361.39 | H18: 102927.81 | I18: 54975.102 | J18: 1658.2084 | K18: 1160.0406 | L18: 15153.71 | M18: 35099.685 | N18: 8311.0885 | O18: 10601.753 | P18: 256.76934 | Q18: 102731.76 | R18: 296294.93 | S18: 102228.23 | T18: 19860.784 | U18: 0 | V18: 23018.673 | W18: 16 | X18: 1462 | Y18: 1189475.3
B19: April | C19: 52954.396 | D19: 78245.491 | E19: 18131.998 | F19: 107430.67 | G19: 170480.99 | H19: 106254.16 | I19: 60247.087 | J19: 2269.5074 | K19: 1538.5658 | L19: 22840.145 | M19: 35653.248 | N19: 7247.5569 | O19: 12641.925 | P19: 105.08086 | Q19: 117259.36 | R19: 293033.89 | S19: 88101.404 | T19: 21608.4 | U19: 0 | V19: 23017.758 | W19: 20 | X19: 3043.2204 | Y19: 1222124.9
B20: May | C20: 57996.108 | D20: 96292.493 | E20: 16644.674 | F20: 77589.232 | G20: 214037.15 | H20: 104598.39 | I20: 71249.584 | J20: 2811.9762 | K20: 2099.5051 | L20: 28245.521 | M20: 38096.017 | N20: 7553.1231 | O20: 13218.143 | P20: 121 | Q20: 158803.02 | R20: 348815.64 | S20: 103906.46 | T20: 4993.6348 | U20: 10 | V20: 29747.214 | W20: 12 | X20: 2161.3569 | Y20: 1379002.2
B21: June | C21: 50940.736 | D21: 69397.388 | E21: 14470.554 | F21: 88609.382 | G21: 105121.63 | H21: 132293.64 | I21: 90633.74 | J21: 2928.4688 | K21: 1762.2152 | L21: 26090.959 | M21: 40988.171 | N21: 8249.2492 | O21: 10414.243 | P21: 134.9906 | Q21: 141851.04 | R21: 381190.3 | S21: 115892.2 | T21: 23523.641 | U21: 0 | V21: 26050.773 | W21: 9.83734 | X21: 1152 | Y21: 1331705.2
B22: July | C22: 44711.712 | D22: 71066.272 | E22: 15201.355 | F22: 75890.213 | G22: 306901.72 | H22: 105067.31 | I22: 77276.715 | J22: 2284.017 | K22: 1836.0732 | L22: 17438.996 | M22: 35733.67 | N22: 7603.6599 | O22: 13065.363 | P22: 321.43512 | Q22: 161249.42 | R22: 364412.09 | S22: 95170.992 | T22: 22700.186 | U22: 55.27432 | V22: 28073.757 | W22: 30.95873 | X22: 625.76906 | Y22: 1446717
B23: August | C23: 85044.204 | D23: 195527.36 | E23: 17745.463 | F23: 100594.03 | G23: 226759.31 | H23: 120339.95 | I23: 71115.52 | J23: 3401.6608 | K23: 2017.387 | L23: 13829.959 | M23: 43603.153 | N23: 9301.5848 | O23: 8959.2827 | P23: 228.11541 | Q23: 151085.83 | R23: 389704.86 | S23: 124259.72 | T23: 26945.547 | U23: 868.58839 | V23: 30368.331 | W23: 25.66905 | X23: 1159.5364 | Y23: 1622885.1
B24: September | C24: 46115.419 | D24: 102529.67 | E24: 14035.014 | F24: 93507.124 | G24: 115627.91 | H24: 102203 | I24: 71319.414 | J24: 2562.8181 | K24: 1257.9671 | L24: 25256.815 | M24: 39768.772 | N24: 10227.583 | O24: 16825.955 | P24: 106.82897 | Q24: 154885.11 | R24: 356643.1 | S24: 95970.539 | T24: 20671.151 | U24: 2.13064 | V24: 38833.86 | W24: 11.51338 | X24: 807.99785 | Y24: 1309169.7
B25: October | C25: 47932.463 | D25: 75854.025 | E25: 45708.664 | F25: 73816.643 | G25: 249578.28 | H25: 104058.12 | I25: 65962 | J25: 3147.0525 | K25: 1674.1976 | L25: 19831.242 | M25: 36130 | N25: 10251.629 | O25: 12312.058 | P25: 169.31333 | Q25: 114315.88 | R25: 271414.51 | S25: 99579.847 | T25: 21989.492 | U25: 60.25675 | V25: 23143.334 | W25: 210.18036 | X25: 1867.9626 | Y25: 1279007.1
B26: November | C26: 55904.351 | D26: 94601.655 | E26: 23529.326 | F26: 91612 | G26: 205330.96 | H26: 91570.501 | I26: 63382.167 | J26: 2757 | K26: 2158.3459 | L26: 30750.924 | M26: 36819.458 | N26: 10069.708 | O26: 11879.192 | P26: 277.23814 | Q26: 144342.99 | R26: 343636.79 | S26: 137308.34 | T26: 28677.56 | U26: 0 | V26: 26132.906 | W26: 13.99556 | X26: 1069 | Y26: 1401824.4
B27: December | C27: 64089.733 | D27: 94915.522 | E27: 17998.696 | F27: 99868.133 | G27: 128295.46 | H27: 104284.59 | I27: 80791.637 | J27: 3135.9279 | K27: 2203.8543 | L27: 22067.728 | M27: 39225.807 | N27: 9829.649 | O27: 14429.281 | P27: 98.21079 | Q27: 143982.93 | R27: 323928.79 | S27: 93096.668 | T27: 25314.595 | U27: 0 | V27: 31546.494 | W27: 38.73517 | X27: 2578.9945 | Y27: 1301721.4
A29: 2022 | B29: January | C29: 43247.155 | D29: 85698.382 | E29: 22342.328 | F29: 88605.129 | G29: 279468.86 | H29: 142319.97 | I29: 81923.59 | J29: 2696.3993 | K29: 994.00087 | L29: 21514.373 | M29: 40006.003 | N29: 10735.86 | O29: 19252.64 | P29: 48.50069 | Q29: 180777.56 | R29: 406904.78 | S29: 132466.91 | T29: 34596.7 | U29: 33.28493 | V29: 28797.19 | W29: 25.79164 | X29: 1803.243 | Y29: 1624258.7
B30: February | C30: 48733.271 | D30: 97814.704 | E30: 19586.712 | F30: 79088.552 | G30: 350887.44 | H30: 104030.96 | I30: 63018.234 | J30: 2399.3719 | K30: 1144.4379 | L30: 18436.674 | M30: 40777.59 | N30: 10843.392 | O30: 19611.599 | P30: 118.93197 | Q30: 163051.11 | R30: 327402.37 | S30: 93816.44 | T30: 23477.601 | U30: 13.0264 | V30: 24748.162 | W30: 26.72889 | X30: 1486.8906 | Y30: 1490514.2
B31: March | C31: 54768.69 | D31: 118626.58 | E31: 24425.214 | F31: 170679.7 | G31: 324196.41 | H31: 151565.95 | I31: 94978.588 | J31: 2748.3105 | K31: 1562.8555 | L31: 22112.181 | M31: 33549.419 | N31: 13257.393 | O31: 14219.749 | P31: 223.08708 | Q31: 187643.34 | R31: 354640.23 | S31: 83505.002 | T31: 24770.822 | U31: 251.90889 | V31: 30087.07 | W31: 22.74727 | X31: 3360.4982 | Y31: 1711195.7
B32: April | C32: 56319.896 | D32: 79267.344 | E32: 21659.692 | F32: 96922.03 | G32: 274450.96 | H32: 93298.492 | I32: 71974.94 | J32: 3378.779 | K32: 2039.1281 | L32: 28545.719 | M32: 41957.763 | N32: 11719.598 | O32: 15043.504 | P32: 1776.6992 | Q32: 142461.1 | R32: 329688.04 | S32: 97365.631 | T32: 23143.372 | U32: 1.90835 | V32: 27625.584 | W32: 6.25826 | X32: 873.93979 | Y32: 1419520.4
B33: May | C33: 71916.58 | D33: 126593.03 | E33: 27490.301 | F33: 141958.22 | G33: 306292.04 | H33: 116744.37 | I33: 104294.36 | J33: 3210.2746 | K33: 1770.3125 | L33: 27704.781 | M33: 47008.269 | N33: 10964.44 | O33: 17213.447 | P33: 329.5092 | Q33: 171780.2 | R33: 399065.89 | S33: 144914.59 | T33: 29386.081 | U33: 284.85248 | V33: 32841.802 | W33: 75.70236 | X33: 1319.2343 | Y33: 1783158.3
B34: June | C34: 55879.856 | D34: 150367.6 | E34: 28602.615 | F34: 118816.27 | G34: 173392.24 | H34: 160088.01 | I34: 104291.07 | J34: 4718.0144 | K34: 2475.5583 | L34: 24316.989 | M34: 44596.024 | N34: 13850.885 | O34: 23857.888 | P34: 2970.6199 | Q34: 250229.39 | R34: 428356.22 | S34: 122123.98 | T34: 36442.229 | U34: 868.88398 | V34: 34108.156 | W34: 12.98829 | X34: 2024.4179 | Y34: 1782389.9
B35: July | C35: 61400.253 | D35: 60068.828 | E35: 19666.973 | F35: 94502.303 | G35: 243204.24 | H35: 130491.16 | I35: 96051.483 | J35: 3082.7274 | K35: 2491.9395 | L35: 20436.582 | M35: 57253.738 | N35: 10518.229 | O35: 20160.105 | P35: 144.37499 | Q35: 170754.17 | R35: 413020.37 | S35: 128185.08 | T35: 27799.09 | U35: 3311.3029 | V35: 34903.52 | W35: 3.75587 | X35: 913.35907 | Y35: 1598363.6
B36: August | C36: 78007.728 | D36: 169227.36 | E36: 26511.92 | F36: 151902.84 | G36: 332949.75 | H36: 201301.78 | I36: 123361.14 | J36: 3102.6831 | K36: 3242.6242 | L36: 35694.205 | M36: 51659.091 | N36: 12146.936 | O36: 17914.017 | P36: 1219.1648 | Q36: 197956.99 | R36: 461195.37 | S36: 125854.32 | T36: 29902.287 | U36: 82.93672 | V36: 37514.234 | W36: 11.68388 | X36: 1575.624 | Y36: 2062334.7
B37: September | C37: 50353.917 | D37: 89156.706 | E37: 30393.321 | F37: 100357.11 | G37: 239495.82 | H37: 133788.26 | I37: 185265.96 | J37: 2745.8791 | K37: 1914.9296 | L37: 25240.513 | M37: 41591.507 | N37: 11691.239 | O37: 19126.601 | P37: 108.36074 | Q37: 153754.31 | R37: 422911.79 | S37: 179182.58 | T37: 38493.239 | U37: 454.95161 | V37: 31569.52 | W37: 2.32987 | X37: 1554.288 | Y37: 1759153.1
B38: October | C38: 78594.148 | D38: 137063.07 | E38: 32200.585 | F38: 118262.62 | G38: 314051.1 | H38: 176795.67 | I38: 79976.303 | J38: 3800.6315 | K38: 3513.3964 | L38: 31985.708 | M38: 45195.464 | N38: 12629.1 | O38: 21670.153 | P38: 6024.8817 | Q38: 156740.34 | R38: 423148.43 | S38: 184382.61 | T38: 24457.215 | U38: 243.61748 | V38: 32674.7 | W38: 31.02491 | X38: 1745.8709 | Y38: 1885186.6
B39: November | C39: 90779.751 | D39: 86164.169 | E39: 23566.787 | F39: 94266.363 | G39: 272149.49 | H39: 140291.85 | I39: 96261.683 | J39: 3588.1278 | K39: 1709.8043 | L39: 34479.974 | M39: 42482.894 | N39: 13325.137 | O39: 20690.024 | P39: 3024.914 | Q39: 148444.35 | R39: 507252.71 | S39: 164358.11 | T39: 38808.926 | U39: 40.18211 | V39: 34130.973 | W39: 73.40336 | X39: 708.30515 | Y39: 1816597.9
B40: December | C40: 63547.252 | D40: 104310.76 | E40: 14738.882 | F40: 132098.69 | G40: 338690.58 | H40: 107338.4 | I40: 77182.5 | J40: 2343.0361 | K40: 1322.4586 | L40: 27655.844 | M40: 38112.38 | N40: 13119.137 | O40: 13948.267 | P40: 126.34949 | Q40: 138960.6 | R40: 316242.16 | S40: 145885.56 | T40: 26580.933 | U40: 386.20058 | V40: 29992.959 | W40: 125.99671 | X40: 606.33396 | Y40: 1593315.3
A42: 2023 | B42: January | C42: 56040.331 | D42: 125377.53 | E42: 15676.513 | F42: 113335.44 | G42: 331856.13 | H42: 146396.5 | I42: 68848.372 | J42: 2855.1526 | K42: 2297.3099 | L42: 17331.321 | M42: 37887.282 | N42: 9151.3848 | O42: 15538.655 | P42: 126.74639 | Q42: 119934.38 | R42: 420072.42 | S42: 146841.61 | T42: 21398.738 | U42: 1.20774 | V42: 38701.198 | W42: 9.2497 | X42: 754.47679 | Y42: =SUM(C42:X42) -> 1690431.9
B43: February | C43: 63944.935 | D43: 83505.437 | E43: 8007.0369 | F43: 118166.65 | G43: 132351.18 | H43: 105163.49 | I43: 58263.313 | J43: 1859.6987 | K43: 1491.588 | L43: 17241.62 | M43: 30280.154 | N43: 10058.382 | O43: 12066.305 | P43: 59.27186 | Q43: 181522.1 | R43: 397769.05 | S43: 499592.23 | T43: 31190.281 | U43: 79.32423 | V43: 21980.155 | W43: 41.75754 | X43: 2399.6741 | Y43: =SUM(C43:X43) -> 1777033.6
B44: March | C44: 66252.249 | D44: 44125.955 | E44: 7579.8259 | F44: 125388.17 | G44: 724283.04 | H44: 167515.84 | I44: 83925.531 | J44: 2512.9235 | K44: 1793.8873 | L44: 22653.072 | M44: 43994.509 | N44: 11466.608 | O44: 15659.959 | P44: 194.55858 | Q44: 153204.08 | R44: 405162.97 | S44: 124869.25 | T44: 29535.567 | U44: 1455.7703 | V44: 23744.466 | W44: 53.35827 | X44: 2765.4006 | Y44: =SUM(C44:X44) -> 2058137
B45: April | C45: 50358.254 | D45: 88371.587 | E45: 14786.721 | F45: 125694.84 | G45: 236641.36 | H45: 155899.13 | I45: 82210.074 | J45: 3005.6755 | K45: 1332.9118 | L45: 20197.196 | M45: 32879.637 | N45: 9762.4418 | O45: 14837.313 | P45: 4328.0978 | Q45: 119625.66 | R45: 382537.01 | S45: 208218.23 | T45: 19485.891 | U45: 0 | V45: 25989.364 | W45: 33.69176 | X45: 904.13618 | Y45: =SUM(C45:X45) -> 1597099.2
B46: May | C46: 64798.68 | D46: 169597.3 | E46: 10856.766 | F46: 91348.867 | G46: 467922.01 | H46: 140319.78 | I46: 76639.271 | J46: 4191.7979 | K46: 4313.0408 | L46: 23838.144 | M46: 46959.505 | N46: 13932.059 | O46: 15498.229 | P46: 139.04491 | Q46: 200780.48 | R46: 422906.78 | S46: 198329.84 | T46: 25742.536 | U46: 0 | V46: 32240.98 | W46: 40.5303 | X46: 743.84498 | Y46: =SUM(C46:X46) -> 2011139.5
B47: June | C47: 58546.972 | D47: 115820.6 | E47: 5603.925 | F47: 107672.11 | G47: 273324.69 | H47: 103524.62 | I47: 77364.54 | J47: 3487.5678 | K47: 5096.349 | L47: 21222.116 | M47: 49802.691 | N47: 10434.53 | O47: 18018.955 | P47: 176.69875 | Q47: 160400.3 | R47: 422954.97 | S47: 185715.45 | T47: 21378.159 | U47: 295.97391 | V47: 30891.522 | W47: 72.00885 | X47: 1162.1542 | Y47: =SUM(C47:X47) -> 1672966.9
B48: July | C48: 66810.772 | D48: 118290.86 | E48: 8700.9838 | F48: 90736.721 | G48: 215617.56 | H48: 148018.99 | I48: 78461.015 | J48: 3725.7644 | K48: 2199.1829 | L48: 30727.17 | M48: 40281.277 | N48: 12925.679 | O48: 19976.337 | P48: 172.38827 | Q48: 201015.66 | R48: 503553.01 | S48: 216627.96 | T48: 24652.159 | U48: 294.28783 | V48: 37333.411 | W48: 27.13682 | X48: 923.05708 | Y48: =SUM(C48:X48) -> 1821071.4
B49: August | C49: 75092.63 | D49: 56392.006 | E49: 11468.4 | F49: 115885.54 | G49: 229005.27 | H49: 139494.18 | I49: 89790.631 | J49: 3709.7412 | K49: 1889.4399 | L49: 45913.355 | M49: 42449.072 | N49: 12553.697 | O49: 22522.896 | P49: 238.92468 | Q49: 160738.17 | R49: 510758.63 | S49: 207012.35 | T49: 28745.202 | U49: 11.50939 | V49: 37759.399 | W49: 39.78166 | X49: 725.51224 | Y49: =SUM(C49:X49) -> 1792196.3
B50: September | C50: 81394.082 | D50: 101491.89 | E50: 7249.0026 | F50: 98858.242 | G50: 333023.8 | H50: 118397.03 | I50: 84550.323 | J50: 3007.9267 | K50: 2211.7708 | L50: 51301.045 | M50: 33171.804 | N50: 9588.7484 | O50: 11769.424 | P50: 353.24306 | Q50: 109806.2 | R50: 386942.37 | S50: 210421.39 | T50: 21889.192 | U50: 159.2185 | V50: 42358.919 | W50: 32.55779 | X50: 735.69014 | Y50: =SUM(C50:X50) -> 1708713.9
B51: October | C51: 75439.607 | D51: 180534.04 | E51: 11081.005 | F51: 103657.98 | G51: 434447.03 | H51: 143011.53 | I51: 82160.022 | J51: 3195.0382 | K51: 3641.5895 | L51: 33910.772 | M51: 41783.784 | N51: 11594.269 | O51: 14565.533 | P51: 767.75899 | Q51: 143946.36 | R51: 447576.65 | S51: 220828.77 | T51: 22261.446 | U51: 6.85214 | V51: 44206.447 | W51: 6.97728 | X51: 1732.65 | Y51: =SUM(C51:X51) -> 2020356.1
B52: November | C52: 103634.83 | D52: 149095.05 | E52: 13037.123 | F52: 123474.34 | G52: 550733.23 | H52: 123814.38 | I52: 87621.058 | J52: 5131.1184 | K52: 1700.6136 | L52: 31074.915 | M52: 48365.172 | N52: 14320.973 | O52: 14684.558 | P52: 2809.135 | Q52: 144880.17 | R52: 555659.25 | S52: 185053.16 | T52: 25002.43 | U52: 464.38497 | V52: 36038.18 | W52: 15.68357 | X52: 2642.1628 | Y52: =SUM(C52:X52) -> 2219251.9
B53: December | C53: 68255.989 | D53: 188168.78 | E53: 12282.033 | F53: 115464.82 | G53: 208000.74 | H53: 132741.03 | I53: 88972.181 | J53: 4161.6667 | K53: 3224.8 | L53: 48160.457 | M53: 45730.274 | N53: 11222.885 | O53: 14679.806 | P53: 534.30652 | Q53: 160297.95 | R53: 519157.01 | S53: 233645.54 | T53: 27112.386 | U53: 0 | V53: 34810.266 | W53: 9.33484 | X53: 426.25256 | Y53: =SUM(C53:X53) -> 1917058.5
A55: 2024 | B55: January | C55: 72506.904 | D55: 158601.5 | E55: 14488.345 | F55: 136225.8 | G55: 434541.98 | H55: 156013.5 | I55: 101353.54 | J55: 4837.2721 | K55: 1650.2028 | L55: 33744.495 | M55: 49279.553 | N55: 13341.205 | O55: 14330.245 | P55: 256.59296 | Q55: 195679.59 | R55: 527152.22 | S55: 187790.51 | T55: 54729.506 | U55: 27.38706 | V55: 43257.211 | W55: 17.91848 | X55: 1465.1586 | Y55: 2201290.6
B56: February | C56: 59843.395 | D56: 67523.17 | E56: 12792.348 | F56: 103267.35 | G56: 469199.19 | H56: 126003.1 | I56: 69034.355 | J56: 2764.9971 | K56: 2147.0867 | L56: 21606.952 | M56: 36288.546 | N56: 11974.967 | O56: 12799.575 | P56: 131.66004 | Q56: 151777 | R56: 415409.86 | S56: 188480.07 | T56: 30162.909 | U56: 506.72592 | V56: 35811.609 | W56: 0.86945 | X56: 2254.5329 | Y56: 1819780.3
B57: March | C57: 53579.454 | D57: 81393.185 | E57: 11618.711 | F57: 130394.73 | G57: 316290.53 | H57: 118335.47 | I57: 76955.453 | J57: 2743.8504 | K57: 1072.4127 | L57: 29314.171 | M57: 33830.524 | N57: 9117.9439 | O57: 9816.8208 | P57: 115.73052 | Q57: 150880.29 | R57: 406644.78 | S57: 216397.19 | T57: 32644.025 | U57: 3.15757 | V57: 25609.262 | W57: 12.8507 | X57: 4414.8416 | Y57: 1711185.4
B58: April | C58: 82638.885 | D58: 158167.38 | E58: 10106.669 | F58: 117090 | G58: 341320.3 | H58: 137538.78 | I58: 109236.51 | J58: 3331.6773 | K58: 2351.4753 | L58: 34059.382 | M58: 37994.313 | N58: 13692.603 | O58: 11957.582 | P58: 4691.1755 | Q58: 173614.21 | R58: 439407.82 | S58: 187869.91 | T58: 22236.23 | U58: 336.9534 | V58: 28711.67 | W58: 6.37091 | X58: 3289.832 | Y58: 1919649.7
B59: May | C59: 71385.632 | D59: 130454.98 | E59: 10398.947 | F59: 108015.39 | G59: 397758.61 | H59: 145880.06 | I59: 105168.21 | J59: 4445.7202 | K59: 2739.1856 | L59: 31034.644 | M59: 46273.81 | N59: 12967.615 | O59: 16510.824 | P59: 272.37302 | Q59: 184867.39 | R59: 517635.51 | S59: 331767.96 | T59: 36499.889 | U59: 56.79821 | V59: 42507.629 | W59: 11.29486 | X59: 1829.699 | Y59: 2198482.2
B60: June | C60: 51472.788 | D60: 67241.209 | E60: 13123.595 | F60: 107422.68 | G60: 414402.21 | H60: 135659.37 | I60: 83402.506 | J60: 3135.121 | K60: 2602.1524 | L60: 30340.85 | M60: 40283.856 | N60: 12884.487 | O60: 14833.992 | P60: 4642.4538 | Q60: 146197.74 | R60: 515344.63 | S60: 302154.35 | T60: 40006.847 | U60: 0 | V60: 337597.92 | W60: 295.92116 | X60: 1429.0916 | Y60: 2324473.8
B61: July | C61: 70792.587 | D61: 115181.99 | E61: 15179.569 | F61: 140892.36 | G61: 474349.89 | H61: 159143.31 | I61: 98467.88 | J61: 4237.7235 | K61: 2207.9786 | L61: 52970.012 | M61: 46581.865 | N61: 14843.797 | O61: 17443.052 | P61: 214.52359 | Q61: 173578.6 | R61: 481101.49 | S61: 256378.51 | T61: 36713.605 | U61: 1197.9356 | V61: 59144.826 | W61: 50.9471 | X61: 2005.0758 | Y61: 2222677.5
B62: August | C62: 79356.079 | D62: 80345.572 | E62: 19691.093 | F62: 150778.38 | G62: 371894.76 | H62: 164615.23 | I62: 108316.51 | J62: 4904.8651 | K62: 3058.7484 | L62: 34916.269 | M62: 45894.926 | N62: 11395.96 | O62: 21728.655 | P62: 6487.1227 | Q62: 220883.13 | R62: 511493.08 | S62: 290059.08 | T62: 26064.878 | U62: 595.77235 | V62: 39138.512 | W62: 51.75016 | X62: 1482.986 | Y62: 2193153.4
B63: September | C63: 83014.149 | D63: 130889.24 | E63: 22775.822 | F63: 148015.14 | G63: 361141.79 | H63: 146692.93 | I63: 103158.08 | J63: 4135.1631 | K63: 2143.2144 | L63: 30437.334 | M63: 50882.419 | N63: 12403.459 | O63: 23972.584 | P63: 221.06208 | Q63: 183552.86 | R63: 512077.99 | S63: 183268.66 | T63: 34196.01 | U63: 3266.2799 | V63: 43468.82 | W63: 32.18982 | X63: 1604.8708 | Y63: 2081350.1
B64: October | C64: 86399.628 | D64: 349093.78 | E64: 24103.633 | F64: 181556 | G64: 562990.61 | H64: 146838.71 | I64: 118197.83 | J64: 6228.4571 | K64: 2424.9524 | L64: 42273.467 | M64: 54516.158 | N64: 19138.495 | O64: 25623.315 | P64: 415.41871 | Q64: 209147.97 | R64: 533858.45 | S64: 312145.78 | T64: 28968.253 | U64: 0.71554 | V64: 60601.612 | W64: 23.47591 | X64: 1339.9472 | Y64: 2765886.6
B65: November | C65: 83338.135 | D65: 205386.46 | E65: 14416.565 | F65: 165296.21 | G65: 243047.73 | H65: 129879.88 | I65: 113804.27 | J65: 3686.4576 | K65: 2201.8961 | L65: 45840.336 | M65: 49038.128 | N65: 13001.863 | O65: 22934.762 | P65: 2217.689 | Q65: 173369.72 | R65: 618138.59 | S65: 266128.25 | T65: 30710.038 | U65: 875.09741 | V65: 43730.435 | W65: 31.16684 | X65: 1544.99 | Y65: 2228618.7
B66: December | C66: 72747.673 | D66: 126349.21 | E66: 18445.505 | F66: 141897.63 | G66: 327274.13 | H66: 127184.97 | I66: 96243.325 | J66: 4050.5914 | K66: 2518.3585 | L66: 51783.878 | M66: 47535.757 | N66: 14143.641 | O66: 14507.681 | P66: 2683.4468 | Q66: 182082.04 | R66: 528026.12 | S66: 152196.71 | T66: 32293.363 | U66: 619.89338 | V66: 46838.401 | W66: 35.68447 | X66: 1141.3201 | Y66: 1990599.3
A68: 2025p | B68: January | C68: 58409.476 | D68: 174875.15 | E68: 12957.025 | F68: 109878.8 | G68: 3302.1502 | H68: 393363.51 | I68: 144575.1 | J68: 97590.472 | K68: 4248.2661 | L68: 35124.211 | M68: 51414.637 | N68: 18159.405 | O68: 20727.387 | P68: 5542.043 | Q68: 887.20487 | R68: 206687.84 | S68: 501502.67 | T68: 185502.62 | U68: 32314.235 | V68: 65615.288 | W68: 33.47562 | X68: 1234.2602 | Y68: =SUM(C68:X68) -> 2123945.2
B69: February | C69: 55387.426 | D69: 64634.172 | E69: 19020.082 | F69: 167965.37 | G69: 3160.2511 | H69: 409927.31 | I69: 155054.74 | J69: 83244.147 | K69: 2891.9629 | L69: 32520.288 | M69: 39670.779 | N69: 10489.414 | O69: 17843.888 | P69: 3469.5608 | Q69: 710.0901 | R69: 172224.46 | S69: 501664.82 | T69: 174708.28 | U69: 21583.329 | V69: 32265.341 | W69: 5.30781 | X69: 3112.4341 | Y69: =SUM(C69:X69) -> 1971553.5
B70: March | C70: 65478.562 | D70: 136242.83 | E70: 16467.692 | F70: 154317.03 | G70: 1921.1522 | H70: 576931.23 | I70: 125596.05 | J70: 86079.018 | K70: 2234.2116 | L70: 28460.273 | M70: 33782.066 | N70: 12209.028 | O70: 11437.3 | P70: 194.47013 | Q70: 0 | R70: 175637.24 | S70: 419692.86 | T70: 234111.6 | U70: 34118.699 | V70: 25162.838 | W70: 2.13946 | X70: 2987.0493 | Y70: =SUM(C70:X70) -> 2143063.3
B71: April | C71: 81745.355 | D71: 139391.34 | E71: 4749.8807 | F71: 143028.72 | G71: 2585.9382 | H71: 377367.38 | I71: 152256.14 | J71: 91134.137 | K71: 3738.7345 | L71: 39035.199 | M71: 51240.353 | N71: 17334.833 | O71: 15959.897 | P71: 296.73497 | Q71: 17.01518 | R71: 178509.3 | S71: 461045.81 | T71: 177674.12 | U71: 32790.468 | V71: 32312.75 | W71: 140.11901 | X71: 1175.5243 | Y71: =SUM(C71:X71) -> 2003529.8
B72: May | C72: 81018.469 | D72: 173015.48 | E72: 10717.351 | F72: 168592.02 | G72: 2730.5138 | H72: 379898.94 | I72: 149535.94 | J72: 113373.07 | K72: 3897.0459 | L72: 38235.957 | M72: 42947.27 | N72: 17762.053 | O72: 24870.102 | P72: 211.24218 | Q72: 8.3633 | R72: 235512.68 | S72: 617856.36 | T72: 275936.48 | U72: 21985.378 | V72: 45039.093 | W72: 23.85641 | X72: 1667.5622 | Y72: =SUM(C72:X72) -> 2404835.2
B73: June | C73: 89751.619 | D73: 125401.45 | E73: 10547.983 | F73: 129364.67 | G73: 2802.7361 | H73: 310402.55 | I73: 133883.59 | J73: 93654.027 | K73: 3603.4302 | L73: 30447.876 | M73: 45861.5 | N73: 14660.382 | O73: 17989.568 | P73: 196.52458 | Q73: 1058.3746 | R73: 208066.47 | S73: 511615.48 | T73: 228940.47 | U73: 28372.965 | V73: 44236.594 | W73: 1383.612 | X73: 1044.2315 | Y73: =SUM(C73:X73) -> 2033286.1
B74: July
B75: August
B76: September
B77: October
B78: November
B79: December
A81: Source | B81: Customs and Enterprises
A82: Note: | B82: Classification used: HS 2022 from 2022
B83: p provisional
B84: r revised

Sheet 3_X
A1: Table 3 | C1: DOMESTIC EXPORTS BY HS
C2: [Kina 000]
A3: HS Sections® | C3: I | D3: II | E3: III | F3: IV | G3: V | H3: VI | I3: VII | J3: VIII | K3: IX | L3: X | M3: XI | N3: XII | O3: XIII | P3: XIV | Q3: XV | R3: XVI | S3: XVII | T3: XVIII | U3: XIX | V3: XX | W3: XXI | X3: XXII | Y3: Total
C4: Live animals: animal products | D4: Vegetable products | E4: Animal or vegetable oils & fats | F4: Prepared foodstuffs, beverages, spirits & tobacco | G4: Mineral products | H4: Chemicals and allied products | I4: Plastic, rubber & articles thereof | J4: Raw hides, skins, leather articles thereof & travel goods | K4: Wood, cork & articles thereof & plaiting material | L4: Wood pulp, paper & paperboard & articles thereof | M4: Textiles & textile articles | N4: Footwear, headgear, umbrellas & parts thereof | O4: Articles of stone, plaster, cement, glass & ceremic products | P4: Pearls, precious & semi-precious stones & metals | Q4: Base metals & articles thereof | R4: Machinery & mechanical & electrical appliances & parts thereof | S4: Vehicles, aircraft & associated transport equipment | T4: Photographic & optical, medical & surgical goods & clocks/watches & musical instruments | U4: Arms and ammunition, parts & accessories thereof | V4: Miscellaneous manufactured articles | W4: Works of art, collectors pieces & antiques | X4: Others
A5: Periods¯ | B5: HS Codes | C5: 01 -05 | D5: 06 -14 | E5: 15 | F5: 16 - 24 | G5: 25 - 27 | H5: 28 - 38 | I5: 39 - 40 | J5: 41 - 43 | K5: 44 - 46 | L5: 47 - 49 | M5: 50 - 63 | N5: 64 - 67 | O5: 68 - 70 | P5: 71 | Q5: 72 - 83 | R5: 84 - 85 | S5: 86 - 89 | T5: 90 - 92 | U5: 93 | V5: 94 - 96 | W5: 97 | X5: 99 | Y5: Total
A6: Annually
A7: 2020 | C7: 1085458.7 | D7: 472083.24 | E7: 1824132.4 | F7: 914562.33 | G7: 19397660 | H7: 12956.378 | I7: 21620.485 | J7: 1025.5605 | K7: 1135829.7 | L7: 1044.8112 | M7: 1083.9349 | N7: 218.78877 | O7: 267.03393 | P7: 7856814.6 | Q7: 1070326.6 | R7: 214778.43 | S7: 158500.52 | T7: 29124.682 | U7: 0 | V7: 1089.5 | W7: 0.52331 | X7: 19681.514 | Y7: 34218260
A8: 2021 | C8: 1392088.5 | D8: 675559.44 | E8: 3253598.4 | F8: 924061.4 | G8: 18765606 | H8: 31100.096 | I8: 23043.28 | J8: 585.56897 | K8: 1085818.4 | L8: 2560.1318 | M8: 1338.1768 | N8: 313.56954 | O8: 9360.5569 | P8: 5874979 | Q8: 1142216.2 | R8: 278282.33 | S8: 272274.46 | T8: 10657.046 | U8: 0 | V8: 3767.1213 | W8: 1709.3458 | X8: 14428.489 | Y8: 33763348
A9: 2022 | C9: 2461377.6 | D9: 838149.87 | E9: 3646767.9 | F9: 870037.75 | G9: 21426253 | H9: 22397.02 | I9: 29373.47 | J9: 840.32684 | K9: 1174918.3 | L9: 4079.3161 | M9: 1189.3248 | N9: 311.48903 | O9: 67330.53 | P9: 6730672.9 | Q9: 963488.01 | R9: 206586.91 | S9: 61142.701 | T9: 16717.672 | U9: 20.82357 | V9: 1053.2006 | W9: 57.93349 | X9: 17205.349 | Y9: 38539972
A10: 2023 | C10: 1662392.2 | D10: 892808.21 | E10: 3304911.3 | F10: 1183801.3 | G10: 25018001 | H10: 42741.103 | I10: 21289.396 | J10: 714.1922 | K10: 983523.9 | L10: 3427.5934 | M10: 2084.3254 | N10: 270.90582 | O10: 98722.277 | P10: 12477979 | Q10: 1309661.7 | R10: 294397.78 | S10: 138182.23 | T10: 24615.653 | U10: 0 | V10: 950.29669 | W10: 35.88894 | X10: 22687.783 | Y10: 47483198
A11: 2024 | C11: 2026482 | D11: 871246.83 | E11: 3070965.4 | F11: 2202137.7 | G11: 30700125 | H11: 35448.468 | I11: 37748.396 | J11: 856.73118 | K11: 919849.33 | L11: 4054.8709 | M11: 1687.0723 | N11: 447.28978 | O11: 127109.62 | P11: 10183041 | Q11: 1295607.9 | R11: 507822.55 | S11: 148159.83 | T11: 31054.783 | U11: 63.46075 | V11: 1847.3681 | W11: 53.84275 | X11: 23996.381 | Y11: 52189805
A12: 2025 p | C12: =SUM(C67:C78) -> 1540404.7 | D12: =SUM(D67:D78) -> 502256.22 | E12: =SUM(E67:E78) -> 2226118.4 | F12: =SUM(F67:F78) -> 1404822.6 | G12: =SUM(G67:G78) -> 17099632 | H12: =SUM(H67:H78) -> 15690 | I12: =SUM(I67:I78) -> 74923.036 | J12: =SUM(J67:J78) -> 153.10432 | ... Y12: =SUM(Y67:Y78) -> 32393692
B14: Monthly | C14: 01 -05 | D14: 06 -14 | E14: 15 | F14: 16 - 24 | G14: 25 - 27 | H14: 28 - 38 | I14: 39 - 40 | J14: 41 - 43 | K14: 44 - 46 | L14: 47 - 49 | M14: 50 - 63 | N14: 64 - 67 | O14: 68 - 70 | P14: 71 | Q14: 72 - 83 | R14: 84 - 85 | S14: 86 - 89 | T14: 90 - 92 | U14: 93 | V14: 94 - 96 | W14: 97 | X14: 99 | Y14: Total
A15: 2021 | B15: January | C15: 205632 | D15: 24758 | E15: 157957 | F15: 87058 | G15: 1471147 | H15: 1811 | I15: 2437 | J15: 5 | K15: 72081 | L15: 2 | M15: 209 | N15: 144 | O15: 0 | P15: 421067 | Q15: 58501 | R15: 8455 | S15: 868 | T15: 837 | U15: 0 | V15: 103 | W15: 0 | X15: 1077 | Y15: 2514149
B16: February | C16: 117692 | D16: 27695 | E16: 103678 | F16: 68485 | G16: 1446510 | H16: 755 | I16: 1487 | J16: 4 | K16: 73186 | L16: 30 | M16: 4 | N16: 1 | O16: 1 | P16: 553753 | Q16: 116126 | R16: 42789 | S16: 9653 | T16: 36 | U16: 0 | V16: 52 | W16: 0 | X16: 1366 | Y16: 2563303
B17: March | C17: 206723.98 | D17: 29106.282 | E17: 144833.52 | F17: 70528.269 | G17: 1545819.4 | H17: 2229.0909 | I17: 3362.2604 | J17: 191.936 | K17: 86098.06 | L17: 0 | M17: 44 | N17: 0 | O17: 0 | P17: 825605.93 | Q17: 139910.06 | R17: 12781.831 | S17: 3955.3452 | T17: 463.82603 | U17: 0 | V17: 3 | W17: 0 | X17: 773.49708 | Y17: 3072430.3
B18: April | C18: 215411.45 | D18: 25156.162 | E18: 455425.13 | F18: 103604.11 | G18: 1564533.7 | H18: 412.00295 | I18: 286.33999 | J18: 3 | K18: 172159.27 | L18: 2 | M18: 31 | N18: 5 | O18: 0 | P18: 445005.04 | Q18: 92168.74 | R18: 22484.854 | S18: 2167.6887 | T18: 146 | U18: 0 | V18: 7 | W18: 23 | X18: 890 | Y18: 3099921.5
B19: May | C19: 80560.421 | D19: 45648.684 | E19: 380659.49 | F19: 86301.779 | G19: 1033745 | H19: 2617.4068 | I19: 752.30949 | J19: 2 | K19: 59004.813 | L19: 96.2494 | M19: 2 | N19: 0 | O19: 8 | P19: 343036.27 | Q19: 46253.377 | R19: 12526.258 | S19: 16482.326 | T19: 39 | U19: 0 | V19: 37 | W19: 6 | X19: 1447.9791 | Y19: 2109226.3
B20: June | C20: 43417.149 | D20: 59348.469 | E20: 188891.01 | F20: 77885.406 | G20: 1704587.8 | H20: 1844.0783 | I20: 2399.1104 | J20: 0 | K20: 81822.33 | L20: 88.68202 | M20: 60.7103 | N20: 113.07145 | O20: 6.73048 | P20: 668558.53 | Q20: 90599.285 | R20: 45560.138 | S20: 209432.61 | T20: 5172.3868 | U20: 0 | V20: 13.5103 | W20: 0 | X20: 633 | Y20: 3180434
B21: July | C21: 14030.827 | D21: 63543.265 | E21: 337515.63 | F21: 61570.447 | G21: 1980684.9 | H21: 2285.173 | I21: 2418 | J21: 120 | K21: 69896.094 | L21: 134.64931 | M21: 224.00864 | N21: 3.49809 | O21: 12.10184 | P21: 584279.82 | Q21: 85528.845 | R21: 21844.248 | S21: 6007.2103 | T21: 498.26393 | U21: 0 | V21: 81.25781 | W21: 121.11943 | X21: 1604 | Y21: 3232403.4
B22: August | C22: 56118.597 | D22: 67943.045 | E22: 204129.81 | F22: 71897.577 | G22: 1632766 | H22: 765.61413 | I22: 3849.8631 | J22: 135 | K22: 83635.572 | L22: 27.27836 | M22: 58.6142 | N22: 0 | O22: 4.7246 | P22: 409600.71 | Q22: 183083.9 | R22: 54159.568 | S22: 14180.717 | T22: 950.23993 | U22: 0 | V22: 196.35321 | W22: 1556.2264 | X22: 0 | Y22: 2785059.4
B23: September | C23: 47514.59 | D23: 90655.88 | E23: 314703.97 | F23: 80405.973 | G23: 1501354.6 | H23: 1446.8338 | I23: 811.23867 | J23: 1.7813 | K23: 94835.746 | L23: 258.87014 | M23: 48.02306 | N23: 0 | O23: 0 | P23: 506886.3 | Q23: 51449.109 | R23: 13915.348 | S23: 391.00186 | T23: 1578.2838 | U23: 0 | V23: 2 | W23: 0 | X23: 1917 | Y23: 2708176.5
B24: October | C24: 124069.18 | D24: 81591.41 | E24: 107280.94 | F24: 70510.659 | G24: 1208341.4 | H24: 5651.4024 | I24: 1958.4637 | J24: 88.07403 | K24: 75047.701 | L24: 193.8141 | M24: 107.26115 | N24: 26 | O24: 1 | P24: 381628.04 | Q24: 133215.2 | R24: 15462.388 | S24: 2341.1278 | T24: 607.56373 | U24: 0 | V24: 111 | W24: 0 | X24: 1369.464 | Y24: 2209602.1
B25: November | C25: 127939.78 | D25: 77064.839 | E25: 231364.2 | F25: 69889.225 | G25: 2275709.9 | H25: 10615.756 | I25: 1188.8923 | J25: 18.89764 | K25: 113762.21 | L25: 159.93844 | M25: 0 | N25: 2 | O25: 6934 | P25: 234940.06 | Q25: 96431.661 | R25: 1988.189 | S25: 703.86727 | T25: 247.97071 | U25: 0 | V25: 3159 | W25: 3 | X25: 958.30866 | Y25: 3253081.7
B26: December | C26: 152978.55 | D26: 83048.4 | E26: 627159.66 | F26: 75924.956 | G26: 1400406.5 | H26: 666.73809 | I26: 2092.8021 | J26: 15.88 | K26: 104289.61 | L26: 1566.65 | M26: 549.55944 | N26: 19 | O26: 2393 | P26: 500618.27 | Q26: 48949.014 | R26: 26315.507 | S26: 6091.5668 | T26: 80.51082 | U26: 0 | V26: 2 | W26: 0 | X26: 2392.2404 | Y26: 3035560.4
A28: 2022 | B28: January | C28: 140306.59 | D28: 37096.045 | E28: 94440.387 | F28: 72888.771 | G28: 1970172.2 | H28: 475.75969 | I28: 1219.6989 | J28: 239.90282 | K28: 98454.324 | L28: 1374.2571 | M28: 110.22012 | N28: 5.01565 | O28: 3350.1 | P28: 697069.69 | Q28: 56011.27 | R28: 9091.6602 | S28: 936.34654 | T28: 1603.6425 | U28: 0 | V28: 40.78812 | W28: 0.76707 | X28: 2303.5539 | Y28: 3187191
B29: February | C29: 127726.69 | D29: 36407.021 | E29: 299968.97 | F29: 44909.635 | G29: 1027266.5 | H29: 3455.3069 | I29: 1820.3111 | J29: 58.05062 | K29: 113353.5 | L29: 98.94593 | M29: 84.35418 | N29: 78.35109 | O29: 6965.2223 | P29: 469211.77 | Q29: 52186.845 | R29: 39175.562 | S29: 4132.113 | T29: 633.04664 | U29: 0 | V29: 11.24992 | W29: 2.64286 | X29: 958.86306 | Y29: 2228504.9
B30: March | C30: 177270.95 | D30: 50190.345 | E30: 173918.23 | F30: 87792.531 | G30: 3761223.6 | H30: 1868.4394 | I30: 3209.5768 | J30: 12.394 | K30: 78892.076 | L30: 0.38704 | M30: 104.18653 | N30: 3.68559 | O30: 1217.3479 | P30: 506302.28 | Q30: 145251.39 | R30: 15267.911 | S30: 1506.1932 | T30: 320.33567 | U30: 0 | V30: 179.00117 | W30: 0 | X30: 741.25956 | Y30: 5005272.1
B31: April | C31: 126742.87 | D31: 27152.101 | E31: 175582.36 | F31: 73747.808 | G31: 1547702.8 | H31: 1067.5841 | I31: 2582.2855 | J31: 135.90341 | K31: 95799.211 | L31: 0.26306 | M31: 33.75631 | N31: 53.72031 | O31: 1934.894 | P31: 735000.6 | Q31: 99750.198 | R31: 25886.791 | S31: 4990.4363 | T31: 2713.7099 | U31: 0 | V31: 112.43639 | W31: 0.027 | X31: 1213.2676 | Y31: 2922203.1
B32: May | C32: 278201.48 | D32: 53345.958 | E32: 553624.18 | F32: 76539.607 | G32: 1417554.1 | H32: 3844.4696 | I32: 2151.1863 | J32: 20.39953 | K32: 113864.72 | L32: 79.07348 | M32: 79.77215 | N32: 15.235 | O32: 7561.0027 | P32: 637584.01 | Q32: 55930.28 | R32: 13016.271 | S32: 3659.703 | T32: 740.54601 | U32: 0 | V32: 220.76036 | W32: 34.15796 | X32: 929.71241 | Y32: 3218996.6
B33: June | C33: 409398.81 | D33: 38709.995 | E33: 348346.34 | F33: 102877.23 | G33: 1495601.4 | H33: 1339.5569 | I33: 3100.4475 | J33: 0.46 | K33: 90380.19 | L33: 174.8819 | M33: 2.23377 | N33: 49.828 | O33: 7355.8182 | P33: 728273.27 | Q33: 99057.856 | R33: 5612.3762 | S33: 2713.4131 | T33: 1044.7328 | U33: 20.82357 | V33: 4.0364 | W33: 0 | X33: 1258.2868 | Y33: 3335322
B34: July | C34: 303957.86 | D34: 92114.409 | E34: 226636.48 | F34: 99998.503 | G34: 1719746.2 | H34: 442.7558 | I34: 2154.3137 | J34: 0.42322 | K34: 88380.487 | L34: 42.17866 | M34: 112.84423 | N34: 0.034 | O34: 3620.2656 | P34: 564360.5 | Q34: 54767.365 | R34: 28705.878 | S34: 23818.844 | T34: 723.87964 | U34: 0 | V34: 2.55169 | W34: 0 | X34: 220.4739 | Y34: 3209806.3
B35: August | C35: 248582.58 | D35: 102518.85 | E35: 328366.07 | F35: 94300.521 | G35: 1067988.6 | H35: 4487.5281 | I35: 2550.5382 | J35: 132.417 | K35: 95212.867 | L35: 285.90007 | M35: 122.28118 | N35: 1.57373 | O35: 10995.213 | P35: 874056.62 | Q35: 111343.49 | R35: 6180.2701 | S35: 2808.7906 | T35: 2325.462 | U35: 0 | V35: 55.80156 | W35: 0.4086 | X35: 836.02614 | Y35: 2953151.8
B36: September | C36: 87800.319 | D36: 50299.243 | E36: 1019656.6 | F36: 45667.933 | G36: 2427358.7 | H36: 1409.3138 | I36: 2246.6906 | J36: 66.0784 | K36: 99780.608 | L36: 170.58638 | M36: 84.23563 | N36: 73.62756 | O36: 3984.1486 | P36: 488484.17 | Q36: 23681.443 | R36: 10412.895 | S36: 1597.2568 | T36: 2637.5862 | U36: 0 | V36: 31.98869 | W36: 0 | X36: 1403.7046 | Y36: 4266847.1
B37: October | C37: 101264 | D37: 138133.91 | E37: 217007.24 | F37: 57723.676 | G37: 1385516 | H37: 1573.1687 | I37: 3245.3651 | J37: 148.97907 | K37: 123338.28 | L37: 19.45113 | M37: 297.82628 | N37: 1.18971 | O37: 132.26491 | P37: 287384.14 | Q37: 118955.98 | R37: 18162.393 | S37: 6951.9146 | T37: 2145.2605 | U37: 0 | V37: 86.55117 | W37: 13.43 | X37: 2524.4645 | Y37: 2464625.5
B38: November | C38: 190622.17 | D38: 142732.92 | E38: 74207.271 | F38: 55991.214 | G38: 2287484.9 | H38: 1119.997 | I38: 1633.5748 | J38: 22.11002 | K38: 56455.409 | L38: 1638.491 | M38: 131.84258 | N38: 21.83481 | O38: 7278.6778 | P38: 548211.71 | Q38: 93145.819 | R38: 16436.826 | S38: 6039.999 | T38: 1511.4485 | U38: 0 | V38: 250.20904 | W38: 0 | X38: 2965.0706 | Y38: 3487901.5
B39: December | C39: 269503.3 | D39: 69449.074 | E39: 135013.78 | F39: 57600.315 | G39: 1318638.3 | H39: 1313.1399 | I39: 3459.4819 | J39: 3.20875 | K39: 121006.6 | L39: 194.90026 | M39: 25.77187 | N39: 7.39358 | O39: 12935.576 | P39: 194734.2 | Q39: 53406.065 | R39: 18638.079 | S39: 1987.6903 | T39: 318.02191 | U39: 0 | V39: 57.82605 | W39: 6.5 | X39: 1850.6655 | Y39: 2260149.8
A41: 2023 | B41: January | C41: 233209.37 | D41: 68233.354 | E41: 213232.59 | F41: 154836.02 | G41: 2892758.8 | H41: 1520.6757 | I41: 1889.8289 | J41: 125.36302 | K41: 113500.98 | L41: 243.74805 | M41: 16.9022 | N41: 25.90721 | O41: 5060.2513 | P41: 985343.27 | Q41: 201115.34 | R41: 24479.173 | S41: 1718.4004 | T41: 996.13187 | U41: 0 | V41: 724.01869 | W41: 1.48 | X41: 2881.1264 | Y41: 4901912.7
B42: February | C42: 120656.31 | D42: 57903.401 | E42: 159066.07 | F42: 85652.704 | G42: 2897283.3 | H42: 878.09119 | I42: 2516.4318 | J42: 41.78098 | K42: 53160.788 | L42: 945.89427 | M42: 367.04367 | N42: 59.27311 | O42: 11086.525 | P42: 959111.18 | Q42: 50978.804 | R42: 35739.537 | S42: 6710.7149 | T42: 460.61788 | U42: 0 | V42: 11.01976 | W42: 5 | X42: 2009.9753 | Y42: 4444644.5
B43: March | C43: 169384.68 | D43: 48836.787 | E43: 365124.37 | F43: 88232.942 | G43: 2963431.2 | H43: 1365.4149 | I43: 2498.2715 | J43: 151.8099 | K43: 93539.986 | L43: 76.49837 | M43: 76.90344 | N43: 0.35599 | O43: 8407.5923 | P43: 981907.6 | Q43: 156310.73 | R43: 3555.6629 | S43: 1803.4203 | T43: 500.65907 | U43: 0 | V43: 25.96116 | W43: 0 | X43: 2080.8893 | Y43: 4887311.7
B44: April | C44: 260588.56 | D44: 41261.151 | E44: 209519.83 | F44: 80088.44 | G44: 1659008 | H44: 267.15313 | I44: 913.40199 | J44: 1.00876 | K44: 56767.043 | L44: 13.59756 | M44: 22.51202 | N44: 1.31293 | O44: 18652.847 | P44: 797662.76 | Q44: 53824.252 | R44: 34973.751 | S44: 40354.028 | T44: 3974.9697 | U44: 0 | V44: 41.49319 | W44: 0 | X44: 1668.2906 | Y44: 3259604.4
B45: May | C45: 105478.93 | D45: 62274.007 | E45: 446415.48 | F45: 95660.925 | G45: 1801507.5 | H45: 3119.9108 | I45: 2046.124 | J45: 1.39928 | K45: 82358.192 | L45: 28.57217 | M45: 133.88692 | N45: 75.31079 | O45: 11033.009 | P45: 1312308.6 | Q45: 119183.74 | R45: 28166.7 | S45: 39470.736 | T45: 5847.5797 | U45: 0 | V45: 4.54 | W45: 0 | X45: 752.76253 | Y45: 4115867.9
B46: June | C46: 70106.392 | D46: 53400.277 | E46: 117949.66 | F46: 114278.1 | G46: 1819265.6 | H46: 14660.288 | I46: 1520.1847 | J46: 44.3717 | K46: 44890.688 | L46: 201.9653 | M46: 12.92504 | N46: 24.65167 | O46: 4774.3063 | P46: 988803.36 | Q46: 103830.44 | R46: 26089.243 | S46: 2079.8507 | T46: 4339.1372 | U46: 0 | V46: 24.48162 | W46: 27.29 | X46: 1986.9529 | Y46: 3368310.2
B47: July | C47: 85753.973 | D47: 78552.039 | E47: 170678.67 | F47: 119658.39 | G47: 1523922.5 | H47: 818.32718 | I47: 243.7528 | J47: 80.58371 | K47: 53144.399 | L47: 356.80644 | M47: 19.51908 | N47: 17.0464 | O47: 5797.261 | P47: 971798.82 | Q47: 107184.66 | R47: 15154.204 | S47: 16547.923 | T47: 1332.4433 | U47: 0 | V47: 7.05584 | W47: 0.5 | X47: 2837.8886 | Y47: 3153906.8
B48: August | C48: 129878.37 | D48: 92194.911 | E48: 176166.09 | F48: 117507.42 | G48: 2658523.9 | H48: 1047.4938 | I48: 2425.1242 | J48: 39.66559 | K48: 74066.256 | L48: 538.04001 | M48: 33.98842 | N48: 48.43147 | O48: 3869.5037 | P48: 851535.11 | Q48: 127376.7 | R48: 21292.699 | S48: 1380.1104 | T48: 1840.4709 | U48: 0 | V48: 0.76548 | W48: 0.00365 | X48: 739.95094 | Y48: 4260505
B49: September | C49: 77374.407 | D49: 82880.626 | E49: 806473.65 | F49: 77112.701 | G49: 1320045.8 | H49: 2250.8695 | I49: 1745.692 | J49: 1.75602 | K49: 89939.405 | L49: 142.53426 | M49: 36.15699 | N49: 8.40914 | O49: 6518.092 | P49: 1072233.1 | Q49: 96682.33 | R49: 35264.372 | S49: 4422.4422 | T49: 799.24843 | U49: 0 | V49: 49.29059 | W49: 0.077 | X49: 1712.429 | Y49: 3675693.4
B50: October | C50: 151735.02 | D50: 99594.973 | E50: 106266.1 | F50: 81927.858 | G50: 1282290.5 | H50: 730.84225 | I50: 2141.6445 | J50: 126.01083 | K50: 53724.178 | L50: 496.25524 | M50: 1340.5518 | N50: 1.09633 | O50: 10071.195 | P50: 908110.21 | Q50: 165244.24 | R50: 10547.918 | S50: 8906.8344 | T50: 1390.9387 | U50: 0 | V50: 29.45877 | W50: 0 | X50: 1747.8693 | Y50: 2886423.7
B51: November | C51: 167867.62 | D51: 110356.07 | E51: 142514.53 | F51: 81639.039 | G51: 1780803.7 | H51: 14761.04 | I51: 1949.7657 | J51: 57.71983 | K51: 185046.92 | L51: 365.07547 | M51: 17.62221 | N51: 3.93598 | O51: 7380.9928 | P51: 1217415.6 | Q51: 75864.807 | R51: 15006.086 | S51: 2882.8061 | T51: 1936.6977 | U51: 0 | V51: 5.37766 | W51: 1.41829 | X51: 1518.0356 | Y51: 3807394.8
B52: December | C52: 90358.575 | D52: 97320.61 | E52: 391504.28 | F52: 87206.767 | G52: 2419160.3 | H52: 1320.9963 | I52: 1399.1739 | J52: 42.72258 | K52: 83385.063 | L52: 18.60623 | M52: 6.31368 | N52: 5.1748 | O52: 6070.7021 | P52: 1431749.7 | Q52: 52065.677 | R52: 44128.431 | S52: 11904.96 | T52: 1196.7587 | U52: 0 | V52: 26.83393 | W52: 0.12 | X52: 2751.6124 | Y52: 4721623.4
A54: 2024 | B54: January | C54: 187104.16 | D54: 51704.406 | E54: 177221.69 | F54: 75081.532 | G54: 3498983.4 | H54: 1832.2551 | I54: 2611.6304 | J54: 56.04916 | K54: 59458.677 | L54: 22.36552 | M54: 7.67581 | N54: 2.70825 | O54: 8919.6517 | P54: 558730.71 | Q54: 174393.35 | R54: 27946.882 | S54: 2930.7479 | T54: 732.60946 | U54: 0.13621 | V54: 9.57615 | W54: 0.101 | X54: 2104.2645 | Y54: 4829854.5
B55: February | C55: 151815.94 | D55: 59116.534 | E55: 118158.82 | F55: 97312.034 | G55: 2503192.3 | H55: 1446.3703 | I55: 1139.388 | J55: 66.16849 | K55: 87684.112 | L55: 144.3466 | M55: 137.30503 | N55: 7.1394 | O55: 9197.4306 | P55: 821145.48 | Q55: 59345.959 | R55: 7574.6524 | S55: 884.70654 | T55: 2661.8301 | U55: 0 | V55: 1.42174 | W55: 0 | X55: 1854.8936 | Y55: 3922886.8
B56: March | C56: 117241.04 | D56: 58598.224 | E56: 274862.23 | F56: 109579.71 | G56: 2045983.8 | H56: 2165.8849 | I56: 1750.0226 | J56: 36.39015 | K56: 73828.291 | L56: 102.54552 | M56: 21.91426 | N56: 1.09234 | O56: 8743.2837 | P56: 639414.78 | Q56: 67337.048 | R56: 76862.842 | S56: 6734.0761 | T56: 6307.532 | U56: 0 | V56: 177.00935 | W56: 0 | X56: 926.34205 | Y56: 3490674.1
B57: April | C57: 119346.77 | D57: 47989.479 | E57: 436678.32 | F57: 172280.95 | G57: 2244904.8 | H57: 1637.7934 | I57: 3894.2793 | J57: 178.72919 | K57: 83158.206 | L57: 4.57529 | M57: 255.0808 | N57: 136.63013 | O57: 5987.1056 | P57: 702961.84 | Q57: 116419.34 | R57: 34015.728 | S57: 3203.7171 | T57: 1672.9112 | U57: 0 | V57: 293.39526 | W57: 13.5144 | X57: 1220.8624 | Y57: 3976254
B58: May | C58: 276415.16 | D58: 67010.953 | E58: 345832.83 | F58: 251401.66 | G58: 2026498.3 | H58: 11297.491 | I58: 3892.0002 | J58: 18.3168 | K58: 52793.944 | L58: 61.03527 | M58: 206.86979 | N58: 11.32059 | O58: 10229.384 | P58: 629109.67 | Q58: 124456.67 | R58: 29507.893 | S58: 6366.2515 | T58: 3652.6835 | U58: 0 | V58: 131.82737 | W58: 31.57853 | X58: 1965.8592 | Y58: 3840891.7
B59: June | C59: 155880.86 | D59: 72256.557 | E59: 189688.36 | F59: 228944.54 | G59: 1525157.8 | H59: 1699.3436 | I59: 2033.3915 | J59: 30.44056 | K59: 89116.803 | L59: 17.15753 | M59: 7.83615 | N59: 4.32811 | O59: 11926.6 | P59: 978423.15 | Q59: 83381.001 | R59: 13177.829 | S59: 35412.849 | T59: 3603.762 | U59: 0 | V59: 178.93282 | W59: 2.98998 | X59: 2565.3405 | Y59: 3393509.9
B60: July | C60: 175880.94 | D60: 93068.42 | E60: 169147.42 | F60: 226784.13 | G60: 3202674.7 | H60: 718.7822 | I60: 4491.8035 | J60: 66.00856 | K60: 73047.198 | L60: 51.62707 | M60: 559.64215 | N60: 31.82482 | O60: 16153.416 | P60: 644683.91 | Q60: 84553.2 | R60: 19627.599 | S60: 5924.6344 | T60: 1548.6341 | U60: 0 | V60: 119.73522 | W60: 1.25636 | X60: 1273.4257 | Y60: 4720408.3
B61: August | C61: 125402.02 | D61: 94579.722 | E61: 91383.129 | F61: 303369.11 | G61: 3032515.2 | H61: 3145.1526 | I61: 3358.114 | J61: 84.60784 | K61: 81304.158 | L61: 594.5454 | M61: 23.66918 | N61: 7.39065 | O61: 7345.5478 | P61: 1081159 | Q61: 123968.12 | R61: 12247.475 | S61: 3503.8558 | T61: 3770.268 | U61: 0 | V61: 123.89473 | W61: 2.42076 | X61: 1510.0055 | Y61: 4969397.3
B62: September | C62: 159660.23 | D62: 116980.2 | E62: 621212.95 | F62: 186176.38 | G62: 2465874.1 | H62: 3576.4722 | I62: 2431.9371 | J62: 15.61793 | K62: 71449.898 | L62: 1521.8412 | M62: 137.38389 | N62: 1.37556 | O62: 15938.701 | P62: 1001061.2 | Q62: 118282.28 | R62: 14310.573 | S62: 10924.381 | T62: 1626.4415 | U62: 0 | V62: 234.60752 | W62: 0.51543 | X62: 2372.5457 | Y62: 4793789.7
B63: October | C63: 124175.66 | D63: 76979.218 | E63: 211878.47 | F63: 243856.69 | G63: 2835223.8 | H63: 2094.1622 | I63: 4630.5521 | J63: 182.32391 | K63: 117533.74 | L63: 6.86988 | M63: 110.49869 | N63: 211.39543 | O63: 17926.328 | P63: 954638.54 | Q63: 134630.17 | R63: 36109.568 | S63: 3759.2343 | T63: 3440.8298 | U63: 0 | V63: 112.00807 | W63: 0.20148 | X63: 1742.4325 | Y63: 4769242.7
B64: November | C64: 221035.15 | D64: 67720.591 | E64: 203528.13 | F64: 153718.76 | G64: 2535811.6 | H64: 1769.8083 | I64: 5648.3271 | J64: 119.88027 | K64: 65514.864 | L64: 1367.8211 | M64: 160.2456 | N64: 24.54776 | O64: 14279.425 | P64: 653187.8 | Q64: 145798.95 | R64: 212896.68 | S64: 47873.977 | T64: 1538.7669 | U64: 63.32454 | V64: 422.17733 | W64: 1.25781 | X64: 3077.8026 | Y64: 4335559.9
B65: December | C65: 212524.03 | D65: 65242.528 | E65: 231373.02 | F65: 153632.17 | G65: 2783304.9 | H65: 4064.953 | I65: 1866.9502 | J65: 2.19832 | K65: 64959.431 | L65: 160.1406 | M65: 58.95093 | N65: 7.53674 | O65: 462.74313 | P65: 1518524.9 | Q65: 63041.838 | R65: 23544.826 | S65: 20641.403 | T65: 498.51404 | U65: 0 | V65: 42.78252 | W65: 0.007 | X65: 3382.6071 | Y65: 5147336.5
A67: 2025 p | B67: January | C67: 592254.86 | D67: 58943.545 | E67: 113399.85 | F67: 207876.34 | G67: 2398664.4 | H67: 2580.1014 | I67: 5492.0328 | J67: 16.16575 | K67: 105100.25 | L67: 849.70311 | M67: 18.75214 | N67: 0.03 | O67: 6907.9477 | P67: 1228344.4 | Q67: 66934.885 | R67: 43096.159 | S67: 10223.445 | T67: 1220.4159 | U67: 24.56436 | V67: 6.70457 | W67: 2734.6258 | X67: 0 | Y67: 4844689.2
B68: February | C68: 127713.04 | D68: 57607.946 | E68: 483170.46 | F68: 193615.92 | G68: 3122814.9 | H68: 3354.5677 | I68: 6416.1094 | J68: 41.54848 | K68: 77299.541 | L68: 945.53848 | M68: 7.71757 | N68: 0.67451 | O68: 6305.5906 | P68: 1320576.3 | Q68: 67894.265 | R68: 16708.058 | S68: 22798.855 | T68: 1907.9895 | U68: 26.77484 | V68: 0.001 | W68: 1176.0562 | X68: 0 | Y68: 5510381.9
B69: March | C69: 179561.59 | D69: 46327.575 | E69: 473649.62 | F69: 179146.17 | G69: 2620615.3 | H69: 2360.5906 | I69: 4414.6095 | J69: 0.69414 | K69: 94788.424 | L69: 487.49575 | M69: 33.18074 | N69: 8.25166 | O69: 19039.679 | P69: 1034509.6 | Q69: 71939.653 | R69: 31434.269 | S69: 12265.292 | T69: 12070.329 | U69: 101.46797 | V69: 0 | W69: 841.92662 | X69: 0 | Y69: 4783595.7
B70: April | C70: 186715.69 | D70: 89763.753 | E70: 400740.21 | F70: 195264.06 | G70: 2532972.7 | H70: 1845.0046 | I70: 4102.1686 | J70: 12.95787 | K70: 92034.8 | L70: 368.56352 | M70: 16.42073 | N70: 1.05807 | O70: 18293.671 | P70: 1679181.8 | Q70: 122689.15 | R70: 15847.941 | S70: 14115.286 | T70: 4831.2306 | U70: 29.26887 | V70: 0 | W70: 1671.7926 | X70: 0 | Y70: 5360497.5
B71: May | C71: 192263.57 | D71: 114064.49 | E71: 553743.09 | F71: 277619.38 | G71: 3040109.2 | H71: 2564.0179 | I71: 5626.2998 | J71: 46.11826 | K71: 96365.129 | L71: 608.43882 | M71: 27.70941 | N71: 2.92165 | O71: 16338.128 | P71: 1144057.3 | Q71: 129773.05 | R71: 30947.072 | S71: 16653.821 | T71: 5780.9526 | U71: 51.79892 | V71: 0.315 | W71: 1490.5516 | X71: 0 | Y71: 5628133.4
B72: June | C72: 261895.97 | D72: 135548.92 | E72: 201415.14 | F72: 351300.7 | G72: 3384455.5 | H72: 2985.7179 | I72: 48871.816 | J72: 35.61982 | K72: 52197.805 | L72: 249.43111 | M72: 19.17865 | N72: 0 | O72: 12242.759 | P72: 1659747.6 | Q72: 123598.5 | R72: 22193.257 | S72: 5830.0202 | T72: 2329.5668 | U72: 70.55686 | V72: 0 | W72: 1397.8195 | X72: 8.39631 | Y72: 6266394.3 | Z72: =SUM(Y67:Y72) -> 32393692
B73: July | Z73: 198801.66
B74: August | Z74: =SUM(Z72:Z73) -> 32592494
B75: September
B76: October
B77: November
B78: December
A81: Source | B81: Customs and Enterprises
A82: Note: | B82: Classification used: HS 2022 from 2022
B83: p provisional
B84: r revised

Sheet 4_ReX
A1: Table 4 | C1: RE-EXPORTS BY HS
C2: [Kina 000]
A3: HS Sections® | C3: I | D3: II | E3: III | F3: IV | G3: V | H3: VI | I3: VII | J3: VIII | K3: IX | L3: X | M3: XI | N3: XII | O3: XIII | P3: XIV | Q3: XV | R3: XVI | S3: XVII | T3: XVIII | U3: XIX | V3: XX | W3: XXI | X3: XXII | Y3: Total
C4: Live animals: animal products | D4: Vegetable products | E4: Animal or vegetable oils & fats | F4: Prepared foodstuffs, beverages, spirits & tobacco | G4: Mineral products | H4: Chemicals and allied products | I4: Plastic, rubber & articles thereof | J4: Raw hides, skins, leather articles thereof & travel goods | K4: Wood, cork & articles thereof & plaiting material | L4: Wood pulp, paper & paperboard & articles thereof | M4: Textiles & textile articles | N4: Footwear, headgear, umbrellas & parts thereof | O4: Articles of stone, plaster, cement, glass & ceremic products | P4: Pearls, precious & semi-precious stones & metals | Q4: Base metals & articles thereof | R4: Machinery & mechanical & electrical appliances & parts thereof | S4: Vehicles, aircraft & associated transport equipment | T4: Photographic & optical, medical & surgical goods & clocks/watches & musical instruments | U4: Arms and ammunition, parts & accessories thereof | V4: Miscellaneous manufactured articles | W4: Works of art, collectors pieces & antiques | X4: Others
A5: Periods¯ | B5: HS Codes | C5: 01 -05 | D5: 06 -14 | E5: 15 | F5: 16 - 24 | G5: 25 - 27 | H5: 28 - 38 | I5: 39 - 40 | J5: 41 - 43 | K5: 44 - 46 | L5: 47 - 49 | M5: 50 - 63 | N5: 64 - 67 | O5: 68 - 70 | P5: 71 | Q5: 72 - 83 | R5: 84 - 85 | S5: 86 - 89 | T5: 90 - 92 | U5: 93 | V5: 94 - 96 | W5: 97 | X5: 99
A6: 2020 | C6: 0 | D6: 0 | E6: 0 | F6: 0 | G6: 4.95199 | H6: 2.77517 | I6: 68.64438 | J6: 0.3259 | K6: 4.86123 | L6: 0 | M6: 49.51978 | N6: 0 | O6: 21.31502 | P6: 0 | Q6: 708.9089 | R6: 3051.7138 | S6: 911134.92 | T6: 155.33504 | U6: 0 | V6: 19.57473 | W6: 0 | X6: 0 | Y6: 915222.85
A7: 2021 | C7: 0 | D7: 0 | E7: 0 | F7: 0 | G7: 0 | H7: 57 | I7: 40.36589 | J7: 0 | K7: 0 | L7: 0 | M7: 13 | N7: 0 | O7: 0 | P7: 0 | Q7: 241 | R7: 4806.8519 | S7: 207519.89 | T7: 1382 | U7: 0 | V7: 140 | W7: 0 | X7: 0 | Y7: 214200.11
A8: 2022 | C8: 0 | D8: 0 | E8: 0 | F8: 0 | G8: 0 | H8: 0 | I8: 23.05979 | J8: 10.25576 | K8: 0 | L8: 0 | M8: 14.79957 | N8: 19.37667 | O8: 0 | P8: 0 | Q8: 119.61806 | R8: 7770.7699 | S8: 168670.94 | T8: 8309.6543 | U8: 0 | V8: 37.51377 | W8: 0 | X8: 0 | Y8: 184975.98
A9: 2023 | C9: 0 | D9: 0 | E9: 0 | F9: 0 | G9: 0 | H9: 0.85009 | I9: 14.76343 | J9: 0.71344 | K9: 0 | L9: 0.27704 | M9: 31.82032 | N9: 0 | O9: 0.58824 | P9: 0 | Q9: 223.61367 | R9: 1683.8119 | S9: 898527.49 | T9: 4459.9326 | U9: 117.84664 | V9: 1.51802 | W9: 0 | X9: 0 | Y9: 905063.23
A10: 2024 | C10: 0 | D10: 0 | E10: 0 | F10: 0 | G10: 0 | H10: 2.24716 | I10: 69.91207 | J10: 0.67115 | K10: 0 | L10: 0 | M10: 0.26624 | N10: 0 | O10: 0 | P10: 0 | Q10: 289.49559 | R10: 91807.367 | S10: 1272332.1 | T10: 6530.1165 | U10: 0 | V10: 46.52476 | W10: 0 | X10: 0 | Y10: 1371078.7
A11: 2025 p | C11: =SUM(C66:C77) -> 0 | D11: =SUM(D66:D77) -> 0 | E11: =SUM(E66:E77) -> 0 | F11: =SUM(F66:F77) -> 0 | G11: =SUM(G66:G77) -> 0 | H11: =SUM(H66:H77) -> 0 | I11: =SUM(I66:I77) -> 0 | J11: =SUM(J66:J77) -> 0 | ... Y11: =SUM(Y66:Y77) -> 198801.66
A13: Monthly
A14: 2021 | B14: January | C14: 0 | D14: 0 | E14: 0 | F14: 0 | G14: 0 | H14: 10 | I14: 31.36589 | J14: 0 | K14: 0 | L14: 0 | M14: 13 | N14: 0 | O14: 0 | P14: 0 | Q14: 16 | R14: 259.85191 | S14: 5300.3533 | T14: 66 | U14: 0 | V14: 14 | W14: 0 | X14: 0 | Y14: 5710.5711
B15: February | C15: 0 | D15: 0 | E15: 0 | F15: 0 | G15: 0 | H15: 0 | I15: 0 | J15: 0 | K15: 0 | L15: 0 | M15: 0 | N15: 0 | O15: 0 | P15: 0 | Q15: 0 | R15: 3589 | S15: 0 | T15: 167 | U15: 0 | V15: 0 | W15: 0 | X15: 0 | Y15: 3756
B16: March | C16: 0 | D16: 0 | E16: 0 | F16: 0 | G16: 0 | H16: 0 | I16: 0 | J16: 0 | K16: 0 | L16: 0 | M16: 0 | N16: 0 | O16: 0 | P16: 0 | Q16: 0 | R16: 0 | S16: 0 | T16: 0 | U16: 0 | V16: 0 | W16: 0 | X16: 0 | Y16: 0
B17: April | C17: 0 | D17: 0 | E17: 0 | F17: 0 | G17: 0 | H17: 0 | I17: 0 | J17: 0 | K17: 0 | L17: 0 | M17: 0 | N17: 0 | O17: 0 | P17: 0 | Q17: 0 | R17: 0 | S17: 110331.55 | T17: 0 | U17: 0 | V17: 0 | W17: 0 | X17: 0 | Y17: 110331.55
B18: May | C18: 0 | D18: 0 | E18: 0 | F18: 0 | G18: 0 | H18: 0 | I18: 0 | J18: 0 | K18: 0 | L18: 0 | M18: 0 | N18: 0 | O18: 0 | P18: 0 | Q18: 3 | R18: 61 | S18: 84382.982 | T18: 802 | U18: 0 | V18: 0 | W18: 0 | X18: 0 | Y18: 85248.982
B19: June | C19: 0 | D19: 0 | E19: 0 | F19: 0 | G19: 0 | H19: 47 | I19: 0 | J19: 0 | K19: 0 | L19: 0 | M19: 0 | N19: 0 | O19: 0 | P19: 0 | Q19: 81 | R19: 470 | S19: 0 | T19: 0 | U19: 0 | V19: 0 | W19: 0 | X19: 0 | Y19: 598
B20: July | C20: 0 | D20: 0 | E20: 0 | F20: 0 | G20: 0 | H20: 0 | I20: 0 | J20: 0 | K20: 0 | L20: 0 | M20: 0 | N20: 0 | O20: 0 | P20: 0 | Q20: 0 | R20: 0 | S20: 2142.8571 | T20: 0 | U20: 0 | V20: 0 | W20: 0 | X20: 0 | Y20: 2142.8571
B21: August | C21: 0 | D21: 0 | E21: 0 | F21: 0 | G21: 0 | H21: 0 | I21: 9 | J21: 0 | K21: 0 | L21: 0 | M21: 0 | N21: 0 | O21: 0 | P21: 0 | Q21: 141 | R21: 320 | S21: 5 | T21: 0 | U21: 0 | V21: 126 | W21: 0 | X21: 0 | Y21: 601
B22: September | C22: 0 | D22: 0 | E22: 0 | F22: 0 | G22: 0 | H22: 0 | I22: 0 | J22: 0 | K22: 0 | L22: 0 | M22: 0 | N22: 0 | O22: 0 | P22: 0 | Q22: 0 | R22: 0 | S22: 5357.1429 | T22: 80 | U22: 0 | V22: 0 | W22: 0 | X22: 0 | Y22: 5437.1429
B23: October | C23: 0 | D23: 0 | E23: 0 | F23: 0 | G23: 0 | H23: 0 | I23: 0 | J23: 0 | K23: 0 | L23: 0 | M23: 0 | N23: 0 | O23: 0 | P23: 0 | Q23: 0 | R23: 107 | S23: 0 | T23: 0 | U23: 0 | V23: 0 | W23: 0 | X23: 0 | Y23: 107
B24: November | C24: 0 | D24: 0 | E24: 0 | F24: 0 | G24: 0 | H24: 0 | I24: 0 | J24: 0 | K24: 0 | L24: 0 | M24: 0 | N24: 0 | O24: 0 | P24: 0 | Q24: 0 | R24: 0 | S24: 0 | T24: 267 | U24: 0 | V24: 0 | W24: 0 | X24: 0 | Y24: 267
B25: December | C25: 0 | D25: 0 | E25: 0 | F25: 0 | G25: 0 | H25: 0 | I25: 0 | J25: 0 | K25: 0 | L25: 0 | M25: 0 | N25: 0 | O25: 0 | P25: 0 | Q25: 0 | R25: 0 | S25: 0
A27: 2022 | B27: January | C27: 0 | D27: 0 | E27: 0 | F27: 0 | G27: 0 | H27: 0 | I27: 0 | J27: 0 | K27: 0 | L27: 0 | M27: 0 | N27: 0 | O27: 0 | P27: 0 | Q27: 0 | R27: 137.19907 | S27: 42724.8 | T27: 332.39581 | U27: 0 | V27: 0 | W27: 0 | X27: 0 | Y27: 43194.395
B28: February | C28: 0 | D28: 0 | E28: 0 | F28: 0 | G28: 0 | H28: 0 | I28: 0 | J28: 0 | K28: 0 | L28: 0 | M28: 0 | N28: 0 | O28: 0 | P28: 0 | Q28: 0 | R28: 0 | S28: 0 | T28: 0 | U28: 0 | V28: 0 | W28: 0 | X28: 0 | Y28: 0
B29: March | C29: 0 | D29: 0 | E29: 0 | F29: 0 | G29: 0 | H29: 0 | I29: 0 | J29: 0 | K29: 0 | L29: 0 | M29: 0 | N29: 0 | O29: 0 | P29: 0 | Q29: 0 | R29: 0 | S29: 88327.387 | T29: 217.26882 | U29: 0 | V29: 0 | W29: 0 | X29: 0 | Y29: 88544.656
B30: April | C30: 0 | D30: 0 | E30: 0 | F30: 0 | G30: 0 | H30: 0 | I30: 0 | J30: 0 | K30: 0 | L30: 0 | M30: 0 | N30: 0 | O30: 0 | P30: 0 | Q30: 0 | R30: 0 | S30: 0 | T30: 0 | U30: 0 | V30: 0 | W30: 0 | X30: 0 | Y30: 0
B31: May | C31: 0 | D31: 0 | E31: 0 | F31: 0 | G31: 0 | H31: 0 | I31: 22.95179 | J31: 1.87848 | K31: 0 | L31: 0 | M31: 13.74558 | N31: 19.2082 | O31: 0 | P31: 0 | Q31: 117.6186 | R31: 7588.97 | S31: 278.43875 | T31: 1136.9022 | U31: 0 | V31: 0 | W31: 0 | X31: 0 | Y31: 9179.7136
B32: June | C32: 0 | D32: 0 | E32: 0 | F32: 0 | G32: 0 | H32: 0 | I32: 0 | J32: 0 | K32: 0 | L32: 0 | M32: 0 | N32: 0 | O32: 0 | P32: 0 | Q32: 0 | R32: 1.03279 | S32: 0 | T32: 272.57857 | U32: 0 | V32: 0 | W32: 0 | X32: 0 | Y32: 273.61136
B33: July | C33: 0 | D33: 0 | E33: 0 | F33: 0 | G33: 0 | H33: 0 | I33: 0 | J33: 0 | K33: 0 | L33: 0 | M33: 0 | N33: 0 | O33: 0 | P33: 0 | Q33: 0 | R33: 0 | S33: 0 | T33: 0 | U33: 0 | V33: 0 | W33: 0 | X33: 0 | Y33: 0
B34: August | C34: 0 | D34: 0 | E34: 0 | F34: 0 | G34: 0 | H34: 0 | I34: 0 | J34: 0 | K34: 0 | L34: 0 | M34: 0 | N34: 0 | O34: 0 | P34: 0 | Q34: 1.79211 | R34: 0 | S34: 13678.19 | T34: 11.64875 | U34: 0 | V34: 0.89606 | W34: 0 | X34: 0 | Y34: 13692.526
B35: September | C35: 0 | D35: 0 | E35: 0 | F35: 0 | G35: 0 | H35: 0 | I35: 0 | J35: 0 | K35: 0 | L35: 0 | M35: 0 | N35: 0 | O35: 0 | P35: 0 | Q35: 0 | R35: 0 | S35: 0 | T35: 955.36206 | U35: 0 | V35: 0 | W35: 0 | X35: 0 | Y35: 955.36206
B36: October | C36: 0 | D36: 0 | E36: 0 | F36: 0 | G36: 0 | H36: 0 | I36: 0 | J36: 0 | K36: 0 | L36: 0 | M36: 0 | N36: 0 | O36: 0 | P36: 0 | Q36: 0 | R36: 0 | S36: 0 | T36: 210.33577 | U36: 0 | V36: 0 | W36: 0 | X36: 0 | Y36: 210.33577
B37: November | C37: 0 | D37: 0 | E37: 0 | F37: 0 | G37: 0 | H37: 0 | I37: 0 | J37: 0 | K37: 0 | L37: 0 | M37: 0 | N37: 0 | O37: 0 | P37: 0 | Q37: 0 | R37: 0 | S37: 23662.121 | T37: 3008.856 | U37: 0 | V37: 0 | W37: 0 | X37: 0 | Y37: 26670.977
B38: December | C38: 0 | D38: 0 | E38: 0 | F38: 0 | G38: 0 | H38: 0 | I38: 0.108 | J38: 8.37728 | K38: 0 | L38: 0 | M38: 1.05399 | N38: 0.16847 | O38: 0 | P38: 0 | Q38: 0.20735 | R38: 43.56804 | S38: 0 | T38: 2164.3063 | U38: 0 | V38: 36.61771 | W38: 0 | X38: 0 | Y38: 2254.4072
A40: 2023 | B40: January | C40: 0 | D40: 0 | E40: 0 | F40: 0 | G40: 0 | H40: 0 | I40: 0 | J40: 0 | K40: 0 | L40: 0 | M40: 0 | N40: 0 | O40: 0 | P40: 0 | Q40: 0 | R40: 0 | S40: 0 | T40: 268.32577 | U40: 0 | V40: 0 | W40: 0 | X40: 0 | Y40: 268.32577
B41: February | C41: 0 | D41: 0 | E41: 0 | F41: 0 | G41: 0 | H41: 0 | I41: 0 | J41: 0 | K41: 0 | L41: 0 | M41: 0 | N41: 0 | O41: 0 | P41: 0 | Q41: 0 | R41: 0 | S41: 2114.6953 | T41: 0 | U41: 0 | V41: 0 | W41: 0 | X41: 0 | Y41: 2114.6953
B42: March | C42: 0 | D42: 0 | E42: 0 | F42: 0 | G42: 0 | H42: 0 | I42: 0 | J42: 0 | K42: 0 | L42: 0 | M42: 0 | N42: 0 | O42: 0 | P42: 0 | Q42: 136.83508 | R42: 0 | S42: 358422.94 | T42: 2835.6849 | U42: 0 | V42: 0 | W42: 0 | X42: 0 | Y42: 361395.46
B43: April | C43: 0 | D43: 0 | E43: 0 | F43: 0 | G43: 0 | H43: 0 | I43: 0 | J43: 0 | K43: 0 | L43: 0 | M43: 0 | N43: 0 | O43: 0 | P43: 0 | Q43: 0 | R43: 0 | S43: 0 | T43: 0 | U43: 0 | V43: 0 | W43: 0 | X43: 0 | Y43: 0
B44: May | C44: 0 | D44: 0 | E44: 0 | F44: 0 | G44: 0 | H44: 0 | I44: 0 | J44: 0 | K44: 0 | L44: 0 | M44: 0 | N44: 0 | O44: 0 | P44: 0 | Q44: 0 | R44: 984.46892 | S44: 315.76391 | T44: 583.61933 | U44: 0 | V44: 0 | W44: 0 | X44: 0 | Y44: 1883.8522
B45: June | C45: 0 | D45: 0 | E45: 0 | F45: 0 | G45: 0 | H45: 0 | I45: 0.24351 | J45: 0 | K45: 0 | L45: 0 | M45: 0 | N45: 0 | O45: 0 | P45: 0 | Q45: 0.02341 | R45: 403.79077 | S45: 425724.64 | T45: 0 | U45: 0 | V45: 0 | W45: 0 | X45: 0 | Y45: 426128.7
B46: July | C46: 0 | D46: 0 | E46: 0 | F46: 0 | G46: 0 | H46: 0 | I46: 0 | J46: 0 | K46: 0 | L46: 0 | M46: 0 | N46: 0 | O46: 0 | P46: 0 | Q46: 0 | R46: 0 | S46: 44290.909 | T46: 0 | U46: 0 | V46: 0 | W46: 0 | X46: 0 | Y46: 44290.909
B47: August | C47: 0 | D47: 0 | E47: 0 | F47: 0 | G47: 0 | H47: 0 | I47: 0 | J47: 0 | K47: 0 | L47: 0 | M47: 0 | N47: 0 | O47: 0 | P47: 0 | Q47: 0 | R47: 0 | S47: 0 | T47: 417.73722 | U47: 117.84664 | V47: 0 | W47: 0 | X47: 0 | Y47: 535.58386
B48: September | C48: 0 | D48: 0 | E48: 0 | F48: 0 | G48: 0 | H48: 0 | I48: 0 | J48: 0.71344 | K48: 0 | L48: 0 | M48: 0.95125 | N48: 0 | O48: 0 | P48: 0 | Q48: 0 | R48: 0 | S48: 35.47777 | T48: 279.76457 | U48: 0 | V48: 0 | W48: 0 | X48: 0 | Y48: 316.90703
B49: October | C49: 0 | D49: 0 | E49: 0 | F49: 0 | G49: 0 | H49: 0 | I49: 0 | J49: 0 | K49: 0 | L49: 0 | M49: 0 | N49: 0 | O49: 0 | P49: 0 | Q49: 0 | R49: 0 | S49: 41353.384 | T49: 0 | U49: 0 | V49: 0 | W49: 0 | X49: 0 | Y49: 41353.384
B50: November | C50: 0 | D50: 0 | E50: 0 | F50: 0 | G50: 0 | H50: 0 | I50: 0 | J50: 0 | K50: 0 | L50: 0 | M50: 0 | N50: 0 | O50: 0 | P50: 0 | Q50: 0 | R50: 0 | S50: 17897.765 | T50: 0 | U50: 0 | V50: 0 | W50: 0 | X50: 0 | Y50: 17897.765
B51: December | C51: 0 | D51: 0 | E51: 0 | F51: 0 | G51: 0 | H51: 0.85009 | I51: 14.51992 | J51: 0 | K51: 0 | L51: 0.27704 | M51: 30.86907 | N51: 0 | O51: 0.58824 | P51: 0 | Q51: 86.75518 | R51: 295.55217 | S51: 8371.9176 | T51: 74.80076 | U51: 0 | V51: 1.51802 | W51: 0 | X51: 0 | Y51: 8877.6481
A53: 2024 | B53: January | C53: 0 | D53: 0 | E53: 0 | F53: 0 | G53: 0 | H53: 0 | I53: 0 | J53: 0 | K53: 0 | L53: 0 | M53: 0 | N53: 0 | O53: 0 | P53: 0 | Q53: 0 | R53: 0 | S53: 168112.7 | T53: 0 | U53: 0 | V53: 0 | W53: 0 | X53: 0 | Y53: 168112.7
B54: February | C54: 0 | D54: 0 | E54: 0 | F54: 0 | G54: 0 | H54: 0 | I54: 0 | J54: 0 | K54: 0 | L54: 0 | M54: 0 | N54: 0 | O54: 0 | P54: 0 | Q54: 265.25779 | R54: 5478.7522 | S54: 124968.93 | T54: 125.82814 | U54: 0 | V54: 39.85056 | W54: 0 | X54: 0 | Y54: 130878.62
B55: March | C55: 0 | D55: 0 | E55: 0 | F55: 0 | G55: 0 | H55: 0 | I55: 0 | J55: 0 | K55: 0 | L55: 0 | M55: 0 | N55: 0 | O55: 0 | P55: 0 | Q55: 4.03226 | R55: 38359.104 | S55: 186462.62 | T55: 0 | U55: 0 | V55: 0 | W55: 0 | X55: 0 | Y55: 224825.75
B56: April | C56: 0 | D56: 0 | E56: 0 | F56: 0 | G56: 0 | H56: 0 | I56: 0 | J56: 0 | K56: 0 | L56: 0 | M56: 0 | N56: 0 | O56: 0 | P56: 0 | Q56: 0 | R56: 0 | S56: 390561.17 | T56: 0 | U56: 0 | V56: 0 | W56: 0 | X56: 0 | Y56: 390561.17
B57: May | C57: 0 | D57: 0 | E57: 0 | F57: 0 | G57: 0 | H57: 0 | I57: 0 | J57: 0 | K57: 0 | L57: 0 | M57: 0 | N57: 0 | O57: 0 | P57: 0 | Q57: 0 | R57: 0 | S57: 0 | T57: 0 | U57: 0 | V57: 0 | W57: 0 | X57: 0 | Y57: 0
B58: June | C58: 0 | D58: 0 | E58: 0 | F58: 0 | G58: 0 | H58: 0 | I58: 5.0399 | J58: 0.67115 | K58: 0 | L58: 0 | M58: 0 | N58: 0 | O58: 0 | P58: 0 | Q58: 0.41999 | R58: 47259.616 | S58: 78247.261 | T58: 57.20286 | U58: 0 | V58: 5.0399 | W58: 0 | X58: 0 | Y58: 125575.25
B59: July | C59: 0 | D59: 0 | E59: 0 | F59: 0 | G59: 0 | H59: 0 | I59: 0.02662 | J59: 0 | K59: 0 | L59: 0 | M59: 0.26624 | N59: 0 | O59: 0 | P59: 0 | Q59: 0 | R59: 14.38232 | S59: 92265.41 | T59: 0 | U59: 0 | V59: 0 | W59: 0 | X59: 0 | Y59: 92280.085
B60: August | C60: 0 | D60: 0 | E60: 0 | F60: 0 | G60: 0 | H60: 0 | I60: 0 | J60: 0 | K60: 0 | L60: 0 | M60: 0 | N60: 0 | O60: 0 | P60: 0 | Q60: 0 | R60: 0 | S60: 8457.1387 | T60: 0 | U60: 0 | V60: 0 | W60: 0 | X60: 0 | Y60: 8457.1387
B61: September | C61: 0 | D61: 0 | E61: 0 | F61: 0 | G61: 0 | H61: 0 | I61: 0 | J61: 0 | K61: 0 | L61: 0 | M61: 0 | N61: 0 | O61: 0 | P61: 0 | Q61: 0 | R61: 0 | S61: 55643.879 | T61: 134.51022 | U61: 0 | V61: 0 | W61: 0 | X61: 0 | Y61: 55778.389
B62: October | C62: 0 | D62: 0 | E62: 0 | F62: 0 | G62: 0 | H62: 0 | I62: 0 | J62: 0 | K62: 0 | L62: 0 | M62: 0 | N62: 0 | O62: 0 | P62: 0 | Q62: 0 | R62: 0 | S62: 84622.598 | T62: 0 | U62: 0 | V62: 0 | W62: 0 | X62: 0 | Y62: 84622.598
B63: November | C63: 0 | D63: 0 | E63: 0 | F63: 0 | G63: 0 | H63: 2.24716 | I63: 0 | J63: 0 | K63: 0 | L63: 0 | M63: 0 | N63: 0 | O63: 0 | P63: 0 | Q63: 0 | R63: 100.66946 | S63: 54567.502 | T63: 0 | U63: 0 | V63: 1.6343 | W63: 0 | X63: 0 | Y63: 54672.053
B64: December | C64: 0 | D64: 0 | E64: 0 | F64: 0 | G64: 0 | H64: 0 | I64: 64.84555 | J64: 0 | K64: 0 | L64: 0 | M64: 0 | N64: 0 | O64: 0 | P64: 0 | Q64: 19.78555 | R64: 594.84299 | S64: 28422.925 | T64: 6212.5753 | U64: 0 | V64: 0 | W64: 0 | X64: 0 | Y64: 35314.975
A66: 2025 p | B66: January | R66: 3805.3416 | S66: 55237.316 | T66: 24.19797 | V66: 112.00612 | Y66: =SUM(C66:X66) -> 59178.862
B67: February | S67: 49220.673 | Y67: =SUM(C67:X67) -> 49220.673
B68: March | S68: 8206.8117 | Y68: =SUM(C68:X68) -> 8206.8117
B69: April | Y69: =SUM(C69:X69) -> 0
B70: May | S70: 42351.511 | Y70: =SUM(C70:X70) -> 42351.511
B71: June | S71: 39843.804 | Y71: =SUM(C71:X71) -> 39843.804 | Z71: =SUM(Y66:Y71) -> 198801.66
B72: July
B73: August
B74: September
B75: October
B76: November
B77: December

Sheet 5_TX
A1: Table 5 | C1: TOTAL EXPORTS BY HS
C2: [Kina 000]
C3: Includes exports and re-exports
A4: HS Sections® | C4: I | D4: II | E4: III | F4: IV | G4: V | H4: VI | I4: VII | J4: VIII | K4: IX | L4: X | M4: XI | N4: XII | O4: XIII | P4: XIV | Q4: XV | R4: XVI | S4: XVII | T4: XVIII | U4: XIX | V4: XX | W4: XXI | X4: XXII
C5: Live animals: animal products | D5: Vegetable products | E5: Animal or vegetable oils & fats | F5: Prepared foodstuffs, beverages, spirits & tobacco | G5: Mineral products | H5: Chemicals and allied products | I5: Plastic, rubber & articles thereof | J5: Raw hides, skins, leather articles thereof & travel goods | K5: Wood, cork & articles thereof & plaiting material | L5: Wood pulp, paper & paperboard & articles thereof | M5: Textiles & textile articles | N5: Footwear, headgear, umbrellas & parts thereof | O5: Articles of stone, plaster, cement, glass & ceremic products | P5: Pearls, precious & semi-precious stones & metals | Q5: Base metals & articles thereof | R5: Machinery & mechanical & electrical appliances & parts thereof | S5: Vehicles, aircraft & associated transport equipment | T5: Photographic & optical, medical & surgical goods & clocks/watches & musical instruments | U5: Arms and ammunition, parts & accessories thereof | V5: Miscellaneous manufactured articles | W5: Works of art, collectors pieces & antiques | X5: Others | Y5: Total
A6: Periods¯ | B6: HS Codes | C6: 01 -05 | D6: 06 -14 | E6: 15 | F6: 16 - 24 | G6: 25 - 27 | H6: 28 - 38 | I6: 39 - 40 | J6: 41 - 43 | K6: 44 - 46 | L6: 47 - 49 | M6: 50 - 63 | N6: 64 - 67 | O6: 68 - 70 | P6: 71 | Q6: 72 - 83 | R6: 84 - 85 | S6: 86 - 89 | T6: 90 - 92 | U6: 93 | V6: 94 - 96 | W6: 97 | X6: 99 | Y6: Column2
A7: Annually
A8: 2020 | C8: 1085458.7 | D8: 472083.24 | E8: 1824132.4 | F8: 914562.33 | G8: 19397665 | H8: 12959.153 | I8: 21689.129 | J8: 1025.8864 | K8: 1135834.5 | L8: 1044.8112 | M8: 1133.4547 | N8: 218.78877 | O8: 288.34895 | P8: 7856814.6 | Q8: 1071035.5 | R8: 217830.14 | S8: 1069635.4 | T8: 29280.017 | U8: 0 | V8: 1109.0747 | W8: 0.52331 | X8: 19681.514 | Y8: 35133482
A9: 2021 | C9: 1392088.5 | D9: 675559.44 | E9: 3253598.4 | F9: 924061.4 | G9: 18765606 | H9: 31157.096 | I9: 23083.646 | J9: 585.56897 | K9: 1085818.4 | L9: 2560.1318 | M9: 1351.1768 | N9: 313.56954 | O9: 9360.5569 | P9: 5874979 | Q9: 1142457.2 | R9: 283089.18 | S9: 479794.35 | T9: 12039.046 | U9: 0 | V9: 3907.1213 | W9: 1709.3458 | X9: 14428.489 | Y9: 33977548
A10: 2022 | C10: 2461377.6 | D10: 838149.87 | E10: 3646767.9 | F10: 870037.75 | G10: 21426253 | H10: 22397.02 | I10: 29396.53 | J10: 850.5826 | K10: 1174918.3 | L10: 4079.3161 | M10: 1204.1244 | N10: 330.8657 | O10: 67330.53 | P10: 6730672.9 | Q10: 963607.63 | R10: 214357.68 | S10: 229813.64 | T10: 25027.327 | U10: 20.82357 | V10: 1090.7143 | W10: 57.93349 | X10: 17205.349 | Y10: 38724948
A11: 2023 | C11: 1662392.2 | D11: 892808.21 | E11: 3304911.3 | F11: 1183801.3 | G11: 18746389 | H11: 42741.953 | I11: 21304.159 | J11: 714.90564 | K11: 983523.9 | L11: 3427.8704 | M11: 2116.1457 | N11: 270.90582 | O11: 98722.866 | P11: 7116837.1 | Q11: 1309885.3 | R11: 296081.59 | S11: 1036709.7 | T11: 29075.586 | U11: 117.84664 | V11: 951.81471 | W11: 35.88894 | X11: 22687.783 | Y11: =SUM(C11:X11) -> 36755507
A12: 2024 | C12: 2026482 | D12: 871246.83 | E12: 3070965.4 | F12: 2202137.7 | G12: 30700125 | H12: 35450.716 | I12: 37818.308 | J12: 857.40233 | K12: 919849.33 | L12: 4054.8709 | M12: 1687.3385 | N12: 447.28978 | O12: 127109.62 | P12: 10183041 | Q12: 1295897.4 | R12: 599629.92 | S12: 1420492 | T12: 37584.899 | U12: 63.46075 | V12: 1893.8928 | W12: 53.84275 | X12: 23996.381 | Y12: 53560884
A13: 2025 p
A15: Monthly
A16: 2020 | B16: January | C16: 78228.124 | D16: 25224.184 | E16: 117517.43 | F16: 66190.995 | G16: 1965093.7 | H16: 260.74397 | I16: 2117.0108 | J16: 93.55935 | K16: 84828.578 | L16: 1.74878 | M16: 2.42887 | N16: 0.17331 | O16: 0 | P16: 817487.31 | Q16: 6649.1816 | R16: 48274.37 | S16: 27380.134 | T16: 4555.9449 | U16: 0 | V16: 10.27882 | W16: 0 | X16: 1138.7085 | Y16: 3245054.6
B17: February | C17: 34273.273 | D17: 26776.93 | E17: 238072.45 | F17: 51595.137 | G17: 925356.46 | H17: 1393.9795 | I17: 1593.1199 | J17: 129.06916 | K17: 106167.18 | L17: 89.76097 | M17: 322.8403 | N17: 0 | O17: 93.44931 | P17: 674626.33 | Q17: 124028.21 | R17: 6211.257 | S17: 105613.45 | T17: 2071.4763 | U17: 0 | V17: 1.80068 | W17: 0 | X17: 964.65192 | Y17: 2299380.8
B18: March | C18: 96122.91 | D18: 23713.445 | E18: 121185.08 | F18: 60022.181 | G18: 1877999.6 | H18: 2945.8605 | I18: 971.72164 | J18: 261.29235 | K18: 100050.05 | L18: 174.98241 | M18: 134.91193 | N18: 4.61012 | O18: 25.75565 | P18: 992084.91 | Q18: 39250.784 | R18: 28254.065 | S18: 1369.8356 | T18: 5984.6193 | U18: 0 | V18: 121.24829 | W18: 0 | X18: 1453.1217 | Y18: 3352131
B19: April | C19: 116313.4 | D19: 13977.311 | E19: 195445.41 | F19: 47564.201 | G19: 1023601.2 | H19: 88.59585 | I19: 779.1362 | J19: 9.45 | K19: 41783.918 | L19: 118.87422 | M19: 63.8173 | N19: 0.00714 | O19: 1.81196 | P19: 788938.93 | Q19: 52526.414 | R19: 9735.6584 | S19: 720674.86 | T19: 5857.6597 | U19: 0 | V19: 286.62255 | W19: 0 | X19: 1726.6077 | Y19: 3019493.9
B20: May | C20: 91695.499 | D20: 29251.602 | E20: 158412.2 | F20: 59389.09 | G20: 1092411.5 | H20: 942.9067 | I20: 2436.5923 | J20: 0.4 | K20: 106507.72 | L20: 78.49361 | M20: 21.367 | N20: 27.67646 | O20: 3.53744 | P20: 541200.02 | Q20: 83615.663 | R20: 20744.229 | S20: 4380.849 | T20: 7725.2514 | U20: 0 | V20: 252.3957 | W20: 0 | X20: 1986.1469 | Y20: 2201083.2
B21: June | C21: 63942.345 | D21: 44419.442 | E21: 144136.12 | F21: 74690.963 | G21: 2759799.8 | H21: 1121.7418 | I21: 1953.6338 | J21: 35.218 | K21: 94135.719 | L21: 23.22626 | M21: 166.41865 | N21: 8.76391 | O21: 13.80922 | P21: 608136.64 | Q21: 127838.97 | R21: 15526.406 | S21: 17365.758 | T21: 536.37715 | U21: 0 | V21: 129.5715 | W21: 0 | X21: 1749.6018 | Y21: 3955730.5
B22: July | C22: 106200.28 | D22: 53202.091 | E22: 135556.44 | F22: 98509.395 | G22: 1476380.4 | H22: 805.71515 | I22: 1811.4918 | J22: 127.60431 | K22: 102785.26 | L22: 0.71387 | M22: 41.97084 | N22: 0 | O22: 105.27745 | P22: 634032.2 | Q22: 45394.089 | R22: 17521.68 | S22: 3532.8052 | T22: 440.0538 | U22: 0 | V22: 59.84897 | W22: 0 | X22: 1615.2599 | Y22: 2678122.6
B23: August | C23: 88008.975 | D23: 49550.12 | E23: 110446.7 | F23: 96104.055 | G23: 1565365.4 | H23: 302.28371 | I23: 2131.5962 | J23: 178.81699 | K23: 76310.162 | L23: 120.15845 | M23: 107.92488 | N23: 90.76112 | O23: 5.5031 | P23: 669370.24 | Q23: 42164.347 | R23: 30580.169 | S23: 81470.321 | T23: 462.85554 | U23: 0 | V23: 78.9136 | W23: 0 | X23: 1137.2685 | Y23: 2813986.5
B24: September | C24: 80581.807 | D24: 53277.771 | E24: 81702.679 | F24: 108873.87 | G24: 1555392.8 | H24: 1003.7853 | I24: 1989.5311 | J24: 0.23488 | K24: 77653.503 | L24: 81.61522 | M24: 116.96153 | N24: 4.17606 | O24: 20.64507 | P24: 439543.96 | Q24: 134416.41 | R24: 4436.9811 | S24: 54226.405 | T24: 591.28711 | U24: 0 | V24: 88.1439 | W24: 0 | X24: 2866.5588 | Y24: 2596869.2
B25: October | C25: 57356.525 | D25: 49234.762 | E25: 283592.04 | F25: 91888.843 | G25: 1801055.4 | H25: 2375.8508 | I25: 2590.2889 | J25: 0.3759 | K25: 111427.02 | L25: 210.33806 | M25: 86.67304 | N25: 77.96491 | O25: 1.95431 | P25: 798808.43 | Q25: 103125.62 | R25: 9747.9674 | S25: 12660.284 | T25: 472.26359 | U25: 0 | V25: 15.39672 | W25: 0.5 | X25: 1917.967 | Y25: 3326646.5
B26: November | C26: 98178.123 | D26: 49366.205 | E26: 153508.45 | F26: 83874.148 | G26: 1528562.9 | H26: 647.84044 | I26: 2213.8547 | J26: 3.37742 | K26: 138079.21 | L26: 56.2418 | M26: 64.77804 | N26: 4.65574 | O26: 12.96888 | P26: 472148.64 | Q26: 153043.62 | R26: 17171.262 | S26: 2962.9587 | T26: 391.24494 | U26: 0 | V26: 54.04383 | W26: 0.02331 | X26: 2119.9693 | Y26: 2702464.6
B27: December | C27: 174557.44 | D27: 54089.371 | E27: 84557.429 | F27: 75859.452 | G27: 1826645.4 | H27: 1069.8491 | I27: 1101.1521 | J27: 186.48804 | K27: 96106.221 | L27: 88.65757 | M27: 3.36232 | N27: 0 | O27: 3.63656 | P27: 420436.95 | Q27: 158982.16 | R27: 9626.0932 | S27: 37997.775 | T27: 190.98357 | U27: 0 | V27: 10.81012 | W27: 0 | X27: 1005.6525 | Y27: 2942518.9
A29: 2021 | B29: January | C29: 205632 | D29: 24758 | E29: 157957 | F29: 87058 | G29: 1471147 | H29: 1821 | I29: 2468.3659 | J29: 5 | K29: 72081 | L29: 2 | M29: 222 | N29: 144 | O29: 0 | P29: 421067 | Q29: 58517 | R29: 8714.8519 | S29: 6168.3533 | T29: 903 | U29: 0 | V29: 117 | W29: 0 | X29: 1077 | Y29: 2519859.6
B30: February | C30: 117692 | D30: 27695 | E30: 103678 | F30: 68485 | G30: 1446510 | H30: 755 | I30: 1487 | J30: 4 | K30: 73186 | L30: 30 | M30: 4 | N30: 1 | O30: 1 | P30: 553753 | Q30: 116126 | R30: 46378 | S30: 9653 | T30: 203 | U30: 0 | V30: 52 | W30: 0 | X30: 1366 | Y30: 2567059
B31: March | C31: 206723.98 | D31: 29106.282 | E31: 144833.52 | F31: 70528.269 | G31: 1545819.4 | H31: 2229.0909 | I31: 3362.2604 | J31: 191.936 | K31: 86098.06 | L31: 0 | M31: 44 | N31: 0 | O31: 0 | P31: 825605.93 | Q31: 139910.06 | R31: 12781.831 | S31: 3955.3452 | T31: 463.82603 | U31: 0 | V31: 3 | W31: 0 | X31: 773.49708 | Y31: 3072430.3
B32: April | C32: 215411.45 | D32: 25156.162 | E32: 455425.13 | F32: 103604.11 | G32: 1564533.7 | H32: 412.00295 | I32: 286.33999 | J32: 3 | K32: 172159.27 | L32: 2 | M32: 31 | N32: 5 | O32: 0 | P32: 445005.04 | Q32: 92168.74 | R32: 22484.854 | S32: 112499.24 | T32: 146 | U32: 0 | V32: 7 | W32: 23 | X32: 890 | Y32: 3210253
B33: May | C33: 80560.421 | D33: 45648.684 | E33: 380659.49 | F33: 86301.779 | G33: 1033745 | H33: 2617.4068 | I33: 752.30949 | J33: 2 | K33: 59004.813 | L33: 96.2494 | M33: 2 | N33: 0 | O33: 8 | P33: 343036.27 | Q33: 46256.377 | R33: 12587.258 | S33: 100865.31 | T33: 841 | U33: 0 | V33: 37 | W33: 6 | X33: 1447.9791 | Y33: 2194475.3
B34: June | C34: 43417.149 | D34: 59348.469 | E34: 188891.01 | F34: 77885.406 | G34: 1704587.8 | H34: 1891.0783 | I34: 2399.1104 | J34: 0 | K34: 81822.33 | L34: 88.68202 | M34: 60.7103 | N34: 113.07145 | O34: 6.73048 | P34: 668558.53 | Q34: 90680.285 | R34: 46030.138 | S34: 209432.61 | T34: 5172.3868 | U34: 0 | V34: 13.5103 | W34: 0 | X34: 633 | Y34: 3181032
B35: July | C35: 14030.827 | D35: 63543.265 | E35: 337515.63 | F35: 61570.447 | G35: 1980684.9 | H35: 2285.173 | I35: 2418 | J35: 120 | K35: 69896.094 | L35: 134.64931 | M35: 224.00864 | N35: 3.49809 | O35: 12.10184 | P35: 584279.82 | Q35: 85528.845 | R35: 21844.248 | S35: 8150.0674 | T35: 498.26393 | U35: 0 | V35: 81.25781 | W35: 121.11943 | X35: 1604 | Y35: 3234546.3
B36: August | C36: 56118.597 | D36: 67943.045 | E36: 204129.81 | F36: 71897.577 | G36: 1632766 | H36: 765.61413 | I36: 3858.8631 | J36: 135 | K36: 83635.572 | L36: 27.27836 | M36: 58.6142 | N36: 0 | O36: 4.7246 | P36: 409600.71 | Q36: 183224.9 | R36: 54479.568 | S36: 14185.717 | T36: 950.23993 | U36: 0 | V36: 322.35321 | W36: 1556.2264 | X36: 0 | Y36: 2785660.4
B37: September | C37: 47514.59 | D37: 90655.88 | E37: 314703.97 | F37: 80405.973 | G37: 1501354.6 | H37: 1446.8338 | I37: 811.23867 | J37: 1.7813 | K37: 94835.746 | L37: 258.87014 | M37: 48.02306 | N37: 0 | O37: 0 | P37: 506886.3 | Q37: 51449.109 | R37: 13915.348 | S37: 5748.1447 | T37: 1658.2838 | U37: 0 | V37: 2 | W37: 0 | X37: 1917 | Y37: 2713613.7
B38: October | C38: 124069.18 | D38: 81591.41 | E38: 107280.94 | F38: 70510.659 | G38: 1208341.4 | H38: 5651.4024 | I38: 1958.4637 | J38: 88.07403 | K38: 75047.701 | L38: 193.8141 | M38: 107.26115 | N38: 26 | O38: 1 | P38: 381628.04 | Q38: 133215.2 | R38: 15569.388 | S38: 2341.1278 | T38: 607.56373 | U38: 0 | V38: 111 | W38: 0 | X38: 1369.464 | Y38: 2209709.1
B39: November | C39: 127939.78 | D39: 77064.839 | E39: 231364.2 | F39: 69889.225 | G39: 2275709.9 | H39: 10615.756 | I39: 1188.8923 | J39: 18.89764 | K39: 113762.21 | L39: 159.93844 | M39: 0 | N39: 2 | O39: 6934 | P39: 234940.06 | Q39: 96431.661 | R39: 1988.189 | S39: 703.86727 | T39: 514.97071 | U39: 0 | V39: 3159 | W39: 3 | X39: 958.30866 | Y39: 3253348.7
B40: December | C40: 152978.55 | D40: 83048.4 | E40: 627159.66 | F40: 75924.956 | G40: 1400406.5 | H40: 666.73809 | I40: 2092.8021 | J40: 15.88 | K40: 104289.61 | L40: 1566.65 | M40: 549.55944 | N40: 19 | O40: 2393 | P40: 500618.27 | Q40: 48949.014 | R40: 26315.507 | S40: 6091.5668 | T40: 80.51082 | U40: 0 | V40: 2 | W40: 0 | X40: 2392.2404 | Y40: 3035560.4
A42: 2022 | B42: January | C42: 140306.59 | D42: 37096.045 | E42: 94440.387 | F42: 72888.771 | G42: 1970172.2 | H42: 475.75969 | I42: 1219.6989 | J42: 239.90282 | K42: 98454.324 | L42: 1374.2571 | M42: 110.22012 | N42: 5.01565 | O42: 3350.1 | P42: 697069.69 | Q42: 56011.27 | R42: 9228.8593 | S42: 43661.146 | T42: 1936.0383 | U42: 0 | V42: 40.78812 | W42: 0.76707 | X42: 2303.5539 | Y42: 3230385.4
B43: February | C43: 127726.69 | D43: 36407.021 | E43: 299968.97 | F43: 44909.635 | G43: 1027266.5 | H43: 3455.3069 | I43: 1820.3111 | J43: 58.05062 | K43: 113353.5 | L43: 98.94593 | M43: 84.35418 | N43: 78.35109 | O43: 6965.2223 | P43: 469211.77 | Q43: 52186.845 | R43: 39175.562 | S43: 4132.113 | T43: 633.04664 | U43: 0 | V43: 11.24992 | W43: 2.64286 | X43: 958.86306 | Y43: 2228504.9
B44: March | C44: 177270.95 | D44: 50190.345 | E44: 173918.23 | F44: 87792.531 | G44: 3761223.6 | H44: 1868.4394 | I44: 3209.5768 | J44: 12.394 | K44: 78892.076 | L44: 0.38704 | M44: 104.18653 | N44: 3.68559 | O44: 1217.3479 | P44: 506302.28 | Q44: 145251.39 | R44: 15267.911 | S44: 89833.58 | T44: 537.60449 | U44: 0 | V44: 179.00117 | W44: 0 | X44: 741.25956 | Y44: 5093816.8
B45: April | C45: 126742.87 | D45: 27152.101 | E45: 175582.36 | F45: 73747.808 | G45: 1547702.8 | H45: 1067.5841 | I45: 2582.2855 | J45: 135.90341 | K45: 95799.211 | L45: 0.26306 | M45: 33.75631 | N45: 53.72031 | O45: 1934.894 | P45: 735000.6 | Q45: 99750.198 | R45: 25886.791 | S45: 4990.4363 | T45: 2713.7099 | U45: 0 | V45: 112.43639 | W45: 0.027 | X45: 1213.2676 | Y45: 2922203.1
B46: May | C46: 278201.48 | D46: 53345.958 | E46: 553624.18 | F46: 76539.607 | G46: 1417554.1 | H46: 3844.4696 | I46: 2174.1381 | J46: 22.27801 | K46: 113864.72 | L46: 79.07348 | M46: 93.51773 | N46: 34.4432 | O46: 7561.0027 | P46: 637584.01 | Q46: 56047.898 | R46: 20605.241 | S46: 3938.1418 | T46: 1877.4482 | U46: 0 | V46: 220.76036 | W46: 34.15796 | X46: 929.71241 | Y46: 3228176.3
B47: June | C47: 409398.81 | D47: 38709.995 | E47: 348346.34 | F47: 102877.23 | G47: 1495601.4 | H47: 1339.5569 | I47: 3100.4475 | J47: 0.46 | K47: 90380.19 | L47: 174.8819 | M47: 2.23377 | N47: 49.828 | O47: 7355.8182 | P47: 728273.27 | Q47: 99057.856 | R47: 5613.409 | S47: 2713.4131 | T47: 1317.3114 | U47: 20.82357 | V47: 4.0364 | W47: 0 | X47: 1258.2868 | Y47: 3335595.6
B48: July | C48: 303957.86 | D48: 92114.409 | E48: 226636.48 | F48: 99998.503 | G48: 1719746.2 | H48: 442.7558 | I48: 2154.3137 | J48: 0.42322 | K48: 88380.487 | L48: 42.17866 | M48: 112.84423 | N48: 0.034 | O48: 3620.2656 | P48: 564360.5 | Q48: 54767.365 | R48: 28705.878 | S48: 23818.844 | T48: 723.87964 | U48: 0 | V48: 2.55169 | W48: 0 | X48: 220.4739 | Y48: 3209806.3
B49: August | C49: 248582.58 | D49: 102518.85 | E49: 328366.07 | F49: 94300.521 | G49: 1067988.6 | H49: 4487.5281 | I49: 2550.5382 | J49: 132.417 | K49: 95212.867 | L49: 285.90007 | M49: 122.28118 | N49: 1.57373 | O49: 10995.213 | P49: 874056.62 | Q49: 111345.28 | R49: 6180.2701 | S49: 16486.98 | T49: 2337.1108 | U49: 0 | V49: 56.69762 | W49: 0.4086 | X49: 836.02614 | Y49: 2966844.3
B50: September | C50: 87800.319 | D50: 50299.243 | E50: 1019656.6 | F50: 45667.933 | G50: 2427358.7 | H50: 1409.3138 | I50: 2246.6906 | J50: 66.0784 | K50: 99780.608 | L50: 170.58638 | M50: 84.23563 | N50: 73.62756 | O50: 3984.1486 | P50: 488484.17 | Q50: 23681.443 | R50: 10412.895 | S50: 1597.2568 | T50: 3592.9483 | U50: 0 | V50: 31.98869 | W50: 0 | X50: 1403.7046 | Y50: 4267802.5
B51: October | C51: 101264 | D51: 138133.91 | E51: 217007.24 | F51: 57723.676 | G51: 1385516 | H51: 1573.1687 | I51: 3245.3651 | J51: 148.97907 | K51: 123338.28 | L51: 19.45113 | M51: 297.82628 | N51: 1.18971 | O51: 132.26491 | P51: 287384.14 | Q51: 118955.98 | R51: 18162.393 | S51: 6951.9146 | T51: 2355.5963 | U51: 0 | V51: 86.55117 | W51: 13.43 | X51: 2524.4645 | Y51: 2464835.8
B52: November | C52: 190622.17 | D52: 142732.92 | E52: 74207.271 | F52: 55991.214 | G52: 2287484.9 | H52: 1119.997 | I52: 1633.5748 | J52: 22.11002 | K52: 56455.409 | L52: 1638.491 | M52: 131.84258 | N52: 21.83481 | O52: 7278.6778 | P52: 548211.71 | Q52: 93145.819 | R52: 16436.826 | S52: 29702.12 | T52: 4520.3045 | U52: 0 | V52: 250.20904 | W52: 0 | X52: 2965.0706 | Y52: 3514572.5
B53: December | C53: 269503.3 | D53: 69449.074 | E53: 135013.78 | F53: 57600.315 | G53: 1318638.3 | H53: 1313.1399 | I53: 3459.5899 | J53: 11.58603 | K53: 121006.6 | L53: 194.90026 | M53: 26.82586 | N53: 7.56205 | O53: 12935.576 | P53: 194734.2 | Q53: 53406.272 | R53: 18681.647 | S53: 1987.6903 | T53: 2482.3283 | U53: 0 | V53: 94.44376 | W53: 6.5 | X53: 1850.6655 | Y53: 2262404.3
A55: 2023 | B55: January | C55: 233209.37 | D55: 68233.354 | E55: 213232.59 | F55: 154836.02 | G55: 2892758.8 | H55: 1520.6757 | I55: 1889.8289 | J55: 125.36302 | K55: 113500.98 | L55: 243.74805 | M55: 16.9022 | N55: 25.90721 | O55: 5060.2513 | P55: 985343.27 | Q55: 201115.34 | R55: 24479.173 | S55: 1718.4004 | T55: 1264.4576 | U55: 0 | V55: 724.01869 | W55: 1.48 | X55: 2881.1264 | Y55: =SUM(C55:X55) -> 4902181.1
B56: February | C56: 120656.31 | D56: 57903.401 | E56: 159066.07 | F56: 85652.704 | G56: 2897283.3 | H56: 878.09119 | I56: 2516.4318 | J56: 41.78098 | K56: 53160.788 | L56: 945.89427 | M56: 367.04367 | N56: 59.27311 | O56: 11086.525 | P56: 959111.18 | Q56: 50978.804 | R56: 35739.537 | S56: 8825.4103 | T56: 460.61788 | U56: 0 | V56: 11.01976 | W56: 5 | X56: 2009.9753 | Y56: =SUM(C56:X56) -> 4446759.2
B57: March | C57: 169384.68 | D57: 48836.787 | E57: 365124.37 | F57: 88232.942 | G57: 2963431.2 | H57: 1365.4149 | I57: 2498.2715 | J57: 151.8099 | K57: 93539.986 | L57: 76.49837 | M57: 76.90344 | N57: 0.35599 | O57: 8407.5923 | P57: 981907.6 | Q57: 156447.56 | R57: 3555.6629 | S57: 360226.36 | T57: 3336.344 | U57: 0 | V57: 25.96116 | W57: 0 | X57: 2080.8893 | Y57: =SUM(C57:X57) -> 5248707.1
B58: April | C58: 260588.56 | D58: 41261.151 | E58: 209519.83 | F58: 80088.44 | G58: 1659008 | H58: 267.15313 | I58: 913.40199 | J58: 1.00876 | K58: 56767.043 | L58: 13.59756 | M58: 22.51202 | N58: 1.31293 | O58: 18652.847 | P58: 797662.76 | Q58: 53824.252 | R58: 34973.751 | S58: 40354.028 | T58: 3974.9697 | U58: 0 | V58: 41.49319 | W58: 0 | X58: 1668.2906 | Y58: =SUM(C58:X58) -> 3259604.4
B59: May | C59: 105478.93 | D59: 62274.007 | E59: 446415.48 | F59: 95660.925 | G59: 1801507.5 | H59: 3119.9108 | I59: 2046.124 | J59: 1.39928 | K59: 82358.192 | L59: 28.57217 | M59: 133.88692 | N59: 75.31079 | O59: 11033.009 | P59: 1312308.6 | Q59: 119183.74 | R59: 29151.169 | S59: 39786.5 | T59: 6431.1991 | U59: 0 | V59: 4.54 | W59: 0 | X59: 752.76253 | Y59: =SUM(C59:X59) -> 4117751.7
B60: June | C60: 70106.392 | D60: 53400.277 | E60: 117949.66 | F60: 114278.1 | G60: 1819265.6 | H60: 14660.288 | I60: 1520.4282 | J60: 44.3717 | K60: 44890.688 | L60: 201.9653 | M60: 12.92504 | N60: 24.65167 | O60: 4774.3063 | P60: 988803.36 | Q60: 103830.47 | R60: 26493.034 | S60: 427804.49 | T60: 4339.1372 | U60: 0 | V60: 24.48162 | W60: 27.29 | X60: 1986.9529 | Y60: =SUM(C60:X60) -> 3794438.9
B61: July | C61: 85753.973 | D61: 78552.039 | E61: 170678.67 | F61: 119658.39 | G61: 1523922.5 | H61: 818.32718 | I61: 243.7528 | J61: 80.58371 | K61: 53144.399 | L61: 356.80644 | M61: 19.51908 | N61: 17.0464 | O61: 5797.261 | P61: 971798.82 | Q61: 107184.66 | R61: 15154.204 | S61: 60838.832 | T61: 1332.4433 | U61: 0 | V61: 7.05584 | W61: 0.5 | X61: 2837.8886 | Y61: =SUM(C61:X61) -> 3198197.7
B62: August | C62: 129878.37 | D62: 92194.911 | E62: 176166.09 | F62: 117507.42 | G62: 2658523.9 | H62: 1047.4938 | I62: 2425.1242 | J62: 39.66559 | K62: 74066.256 | L62: 538.04001 | M62: 33.98842 | N62: 48.43147 | O62: 3869.5037 | P62: 851535.11 | Q62: 127376.7 | R62: 21292.699 | S62: 1380.1104 | T62: 2258.2081 | U62: 117.84664 | V62: 0.76548 | W62: 0.00365 | X62: 739.95094 | Y62: =SUM(C62:X62) -> 4261040.6
B63: September | C63: 77374.407 | D63: 82880.626 | E63: 806473.65 | F63: 77112.701 | G63: 1320045.8 | H63: 2250.8695 | I63: 1745.692 | J63: 2.46946 | K63: 89939.405 | L63: 142.53426 | M63: 37.10824 | N63: 8.40914 | O63: 6518.092 | P63: 1072233.1 | Q63: 96682.33 | R63: 35264.372 | S63: 4457.92 | T63: 1079.013 | U63: 0 | V63: 49.29059 | W63: 0.077 | X63: 1712.429 | Y63: =SUM(C63:X63) -> 3676010.3
B64: October | C64: 151735.02 | D64: 99594.973 | E64: 106266.1 | F64: 81927.858 | G64: 1282290.5 | H64: 730.84225 | I64: 2141.6445 | J64: 126.01083 | K64: 53724.178 | L64: 496.25524 | M64: 1340.5518 | N64: 1.09633 | O64: 10071.195 | P64: 908110.21 | Q64: 165244.24 | R64: 10547.918 | S64: 50260.218 | T64: 1390.9387 | U64: 0 | V64: 29.45877 | W64: 0 | X64: 1747.8693 | Y64: =SUM(C64:X64) -> 2927777.1
B65: November | C65: 167867.62 | D65: 110356.07 | E65: 142514.53 | F65: 81639.039 | G65: 1780803.7 | H65: 14761.04 | I65: 1949.7657 | J65: 57.71983 | K65: 185046.92 | L65: 365.07547 | M65: 17.62221 | N65: 3.93598 | O65: 7380.9928 | P65: 1217415.6 | Q65: 75864.807 | R65: 15006.086 | S65: 20780.571 | T65: 1936.6977 | U65: 0 | V65: 5.37766 | W65: 1.41829 | X65: 1518.0356 | Y65: =SUM(C65:X65) -> 3825292.6
B66: December | C66: 90358.575 | D66: 97320.61 | E66: 391504.28 | F66: 87206.767 | G66: 2419160.3 | H66: 1321.8464 | I66: 1413.6939 | J66: 42.72258 | K66: 83385.063 | L66: 18.88327 | M66: 37.18275 | N66: 5.1748 | O66: 6071.2904 | P66: 1431749.7 | Q66: 52152.432 | R66: 44423.984 | S66: 20276.878 | T66: 1271.5594 | U66: 0 | V66: 28.35195 | W66: 0.12 | X66: 2751.6124 | Y66: =SUM(C66:X66) -> 4730501.1
A68: 2024 | B68: January | C68: 187104.16 | D68: 51704.406 | E68: 177221.69 | F68: 75081.532 | G68: 3498983.4 | H68: 1832.2551 | I68: 2611.6304 | J68: 56.04916 | K68: 59458.677 | L68: 22.36552 | M68: 7.67581 | N68: 2.70825 | O68: 8919.6517 | P68: 558730.71 | Q68: 174393.35 | R68: 27946.882 | S68: 171043.45 | T68: 732.60946 | U68: 0.13621 | V68: 9.57615 | W68: 0.101 | X68: 2104.2645 | Y68: 4997967.2
B69: February | C69: 151815.94 | D69: 59116.534 | E69: 118158.82 | F69: 97312.034 | G69: 2503192.3 | H69: 1446.3703 | I69: 1139.388 | J69: 66.16849 | K69: 87684.112 | L69: 144.3466 | M69: 137.30503 | N69: 7.1394 | O69: 9197.4306 | P69: 821145.48 | Q69: 59611.217 | R69: 13053.405 | S69: 125853.64 | T69: 2787.6583 | U69: 0 | V69: 41.2723 | W69: 0 | X69: 1854.8936 | Y69: 4053765.5
B70: March | C70: 117241.04 | D70: 58598.224 | E70: 274862.23 | F70: 109579.71 | G70: 2045983.8 | H70: 2165.8849 | I70: 1750.0226 | J70: 36.39015 | K70: 73828.291 | L70: 102.54552 | M70: 21.91426 | N70: 1.09234 | O70: 8743.2837 | P70: 639414.78 | Q70: 67341.08 | R70: 115221.95 | S70: 193196.69 | T70: 6307.532 | U70: 0 | V70: 177.00935 | W70: 0 | X70: 926.34205 | Y70: 3715499.9
B71: April | C71: 119346.77 | D71: 47989.479 | E71: 436678.32 | F71: 172280.95 | G71: 2244904.8 | H71: 1637.7934 | I71: 3894.2793 | J71: 178.72919 | K71: 83158.206 | L71: 4.57529 | M71: 255.0808 | N71: 136.63013 | O71: 5987.1056 | P71: 702961.84 | Q71: 116419.34 | R71: 34015.728 | S71: 393764.89 | T71: 1672.9112 | U71: 0 | V71: 293.39526 | W71: 13.5144 | X71: 1220.8624 | Y71: 4366815.2
B72: May | C72: 276415.16 | D72: 67010.953 | E72: 345832.83 | F72: 251401.66 | G72: 2026498.3 | H72: 11297.491 | I72: 3892.0002 | J72: 18.3168 | K72: 52793.944 | L72: 61.03527 | M72: 206.86979 | N72: 11.32059 | O72: 10229.384 | P72: 629109.67 | Q72: 124456.67 | R72: 29507.893 | S72: 6366.2515 | T72: 3652.6835 | U72: 0 | V72: 131.82737 | W72: 31.57853 | X72: 1965.8592 | Y72: 3840891.7
B73: June | C73: 155880.86 | D73: 72256.557 | E73: 189688.36 | F73: 228944.54 | G73: 1525157.8 | H73: 1699.3436 | I73: 2038.4314 | J73: 31.11171 | K73: 89116.803 | L73: 17.15753 | M73: 7.83615 | N73: 4.32811 | O73: 11926.6 | P73: 978423.15 | Q73: 83381.421 | R73: 60437.445 | S73: 113660.11 | T73: 3660.9649 | U73: 0 | V73: 183.97272 | W73: 2.98998 | X73: 2565.3405 | Y73: 3519085.2
B74: July | C74: 175880.94 | D74: 93068.42 | E74: 169147.42 | F74: 226784.13 | G74: 3202674.7 | H74: 718.7822 | I74: 4491.8301 | J74: 66.00856 | K74: 73047.198 | L74: 51.62707 | M74: 559.90839 | N74: 31.82482 | O74: 16153.416 | P74: 644683.91 | Q74: 84553.2 | R74: 19641.981 | S74: 98190.045 | T74: 1548.6341 | U74: 0 | V74: 119.73522 | W74: 1.25636 | X74: 1273.4257 | Y74: 4812688.4
B75: August | C75: 125402.02 | D75: 94579.722 | E75: 91383.129 | F75: 303369.11 | G75: 3032515.2 | H75: 3145.1526 | I75: 3358.114 | J75: 84.60784 | K75: 81304.158 | L75: 594.5454 | M75: 23.66918 | N75: 7.39065 | O75: 7345.5478 | P75: 1081159 | Q75: 123968.12 | R75: 12247.475 | S75: 11960.994 | T75: 3770.268 | U75: 0 | V75: 123.89473 | W75: 2.42076 | X75: 1510.0055 | Y75: 4977854.5
B76: September | C76: 159660.23 | D76: 116980.2 | E76: 621212.95 | F76: 186176.38 | G76: 2465874.1 | H76: 3576.4722 | I76: 2431.9371 | J76: 15.61793 | K76: 71449.898 | L76: 1521.8412 | M76: 137.38389 | N76: 1.37556 | O76: 15938.701 | P76: 1001061.2 | Q76: 118282.28 | R76: 14310.573 | S76: 66568.261 | T76: 1760.9517 | U76: 0 | V76: 234.60752 | W76: 0.51543 | X76: 2372.5457 | Y76: 4849568.1
B77: October | C77: 124175.66 | D77: 76979.218 | E77: 211878.47 | F77: 243856.69 | G77: 2835223.8 | H77: 2094.1622 | I77: 4630.5521 | J77: 182.32391 | K77: 117533.74 | L77: 6.86988 | M77: 110.49869 | N77: 211.39543 | O77: 17926.328 | P77: 954638.54 | Q77: 134630.17 | R77: 36109.568 | S77: 88381.832 | T77: 3440.8298 | U77: 0 | V77: 112.00807 | W77: 0.20148 | X77: 1742.4325 | Y77: 4853865.3
B78: November | C78: 221035.15 | D78: 67720.591 | E78: 203528.13 | F78: 153718.76 | G78: 2535811.6 | H78: 1772.0555 | I78: 5648.3271 | J78: 119.88027 | K78: 65514.864 | L78: 1367.8211 | M78: 160.2456 | N78: 24.54776 | O78: 14279.425 | P78: 653187.8 | Q78: 145798.95 | R78: 212997.35 | S78: 102441.48 | T78: 1538.7669 | U78: 63.32454 | V78: 423.81163 | W78: 1.25781 | X78: 3077.8026 | Y78: 4390231.9
B79: December | C79: 212524.03 | D79: 65242.528 | E79: 231373.02 | F79: 153632.17 | G79: 2783304.9 | H79: 4064.953 | I79: 1931.7957 | J79: 2.19832 | K79: 64959.431 | L79: 160.1406 | M79: 58.95093 | N79: 7.53674 | O79: 462.74313 | P79: 1518524.9 | Q79: 63061.624 | R79: 24139.669 | S79: 49064.329 | T79: 6711.0893 | U79: 0 | V79: 42.78252 | W79: 0.007 | X79: 3382.6071 | Y79: 5182651.4
A81: 2025 p | B81: January | C81: ='3_X'!C67+'4_ReX'!C66 -> 592254.86 | D81: ='3_X'!D67+'4_ReX'!D66 -> 58943.545 | E81: ='3_X'!E67+'4_ReX'!E66 -> 113399.85 | F81: ='3_X'!F67+'4_ReX'!F66 -> 207876.34 | G81: ='3_X'!G67+'4_ReX'!G66 -> 2398664.4 | H81: ='3_X'!H67+'4_ReX'!H66 -> 2580.1014 | I81: ='3_X'!I67+'4_ReX'!I66 -> 5492.0328 | J81: ='3_X'!J67+'4_ReX'!J66 -> 16.16575 | ... Y81: ='3_X'!Y67+'4_ReX'!Y66 -> 4903868
B82: February | C82: ='3_X'!C68+'4_ReX'!C67 -> 127713.04 | D82: ='3_X'!D68+'4_ReX'!D67 -> 57607.946 | E82: ='3_X'!E68+'4_ReX'!E67 -> 483170.46 | F82: ='3_X'!F68+'4_ReX'!F67 -> 193615.92 | G82: ='3_X'!G68+'4_ReX'!G67 -> 3122814.9 | H82: ='3_X'!H68+'4_ReX'!H67 -> 3354.5677 | I82: ='3_X'!I68+'4_ReX'!I67 -> 6416.1094 | J82: ='3_X'!J68+'4_ReX'!J67 -> 41.54848 | ... Y82: ='3_X'!Y68+'4_ReX'!Y67 -> 5559602.5
B83: March | C83: ='3_X'!C69+'4_ReX'!C68 -> 179561.59 | D83: ='3_X'!D69+'4_ReX'!D68 -> 46327.575 | E83: ='3_X'!E69+'4_ReX'!E68 -> 473649.62 | F83: ='3_X'!F69+'4_ReX'!F68 -> 179146.17 | G83: ='3_X'!G69+'4_ReX'!G68 -> 2620615.3 | H83: ='3_X'!H69+'4_ReX'!H68 -> 2360.5906 | I83: ='3_X'!I69+'4_ReX'!I68 -> 4414.6095 | J83: ='3_X'!J69+'4_ReX'!J68 -> 0.69414 | ... Y83: ='3_X'!Y69+'4_ReX'!Y68 -> 4791802.5
B84: April | C84: ='3_X'!C70+'4_ReX'!C69 -> 186715.69 | D84: ='3_X'!D70+'4_ReX'!D69 -> 89763.753 | E84: ='3_X'!E70+'4_ReX'!E69 -> 400740.21 | F84: ='3_X'!F70+'4_ReX'!F69 -> 195264.06 | G84: ='3_X'!G70+'4_ReX'!G69 -> 2532972.7 | H84: ='3_X'!H70+'4_ReX'!H69 -> 1845.0046 | I84: ='3_X'!I70+'4_ReX'!I69 -> 4102.1686 | J84: ='3_X'!J70+'4_ReX'!J69 -> 12.95787 | ... Y84: ='3_X'!Y70+'4_ReX'!Y69 -> 5360497.5
B85: May | C85: ='3_X'!C71+'4_ReX'!C70 -> 192263.57 | D85: ='3_X'!D71+'4_ReX'!D70 -> 114064.49 | E85: ='3_X'!E71+'4_ReX'!E70 -> 553743.09 | F85: ='3_X'!F71+'4_ReX'!F70 -> 277619.38 | G85: ='3_X'!G71+'4_ReX'!G70 -> 3040109.2 | H85: ='3_X'!H71+'4_ReX'!H70 -> 2564.0179 | I85: ='3_X'!I71+'4_ReX'!I70 -> 5626.2998 | J85: ='3_X'!J71+'4_ReX'!J70 -> 46.11826 | ... Y85: ='3_X'!Y71+'4_ReX'!Y70 -> 5670484.9
B86: June | C86: ='3_X'!C72+'4_ReX'!C71 -> 261895.97 | D86: ='3_X'!D72+'4_ReX'!D71 -> 135548.92 | E86: ='3_X'!E72+'4_ReX'!E71 -> 201415.14 | F86: ='3_X'!F72+'4_ReX'!F71 -> 351300.7 | G86: ='3_X'!G72+'4_ReX'!G71 -> 3384455.5 | H86: ='3_X'!H72+'4_ReX'!H71 -> 2985.7179 | I86: ='3_X'!I72+'4_ReX'!I71 -> 48871.816 | J86: ='3_X'!J72+'4_ReX'!J71 -> 35.61982 | ... Y86: ='3_X'!Y72+'4_ReX'!Y71 -> 6306238.1
B87: July | C87: ='3_X'!C73+'4_ReX'!C72 -> 0 | D87: ='3_X'!D73+'4_ReX'!D72 -> 0 | E87: ='3_X'!E73+'4_ReX'!E72 -> 0 | F87: ='3_X'!F73+'4_ReX'!F72 -> 0 | G87: ='3_X'!G73+'4_ReX'!G72 -> 0 | H87: ='3_X'!H73+'4_ReX'!H72 -> 0 | I87: ='3_X'!I73+'4_ReX'!I72 -> 0 | J87: ='3_X'!J73+'4_ReX'!J72 -> 0 | ... Y87: ='3_X'!Y73+'4_ReX'!Y72 -> 0
B88: August | C88: ='3_X'!C74+'4_ReX'!C73 -> 0 | D88: ='3_X'!D74+'4_ReX'!D73 -> 0 | E88: ='3_X'!E74+'4_ReX'!E73 -> 0 | F88: ='3_X'!F74+'4_ReX'!F73 -> 0 | G88: ='3_X'!G74+'4_ReX'!G73 -> 0 | H88: ='3_X'!H74+'4_ReX'!H73 -> 0 | I88: ='3_X'!I74+'4_ReX'!I73 -> 0 | J88: ='3_X'!J74+'4_ReX'!J73 -> 0 | ... Y88: ='3_X'!Y74+'4_ReX'!Y73 -> 0
B89: September | C89: ='3_X'!C75+'4_ReX'!C74 -> 0 | D89: ='3_X'!D75+'4_ReX'!D74 -> 0 | E89: ='3_X'!E75+'4_ReX'!E74 -> 0 | F89: ='3_X'!F75+'4_ReX'!F74 -> 0 | G89: ='3_X'!G75+'4_ReX'!G74 -> 0 | H89: ='3_X'!H75+'4_ReX'!H74 -> 0 | I89: ='3_X'!I75+'4_ReX'!I74 -> 0 | J89: ='3_X'!J75+'4_ReX'!J74 -> 0 | ... Y89: ='3_X'!Y75+'4_ReX'!Y74 -> 0
B90: October | C90: ='3_X'!C76+'4_ReX'!C75 -> 0 | D90: ='3_X'!D76+'4_ReX'!D75 -> 0 | E90: ='3_X'!E76+'4_ReX'!E75 -> 0 | F90: ='3_X'!F76+'4_ReX'!F75 -> 0 | G90: ='3_X'!G76+'4_ReX'!G75 -> 0 | H90: ='3_X'!H76+'4_ReX'!H75 -> 0 | I90: ='3_X'!I76+'4_ReX'!I75 -> 0 | J90: ='3_X'!J76+'4_ReX'!J75 -> 0 | ... Y90: ='3_X'!Y76+'4_ReX'!Y75 -> 0
B91: November | C91: ='3_X'!C77+'4_ReX'!C76 -> 0 | D91: ='3_X'!D77+'4_ReX'!D76 -> 0 | E91: ='3_X'!E77+'4_ReX'!E76 -> 0 | F91: ='3_X'!F77+'4_ReX'!F76 -> 0 | G91: ='3_X'!G77+'4_ReX'!G76 -> 0 | H91: ='3_X'!H77+'4_ReX'!H76 -> 0 | I91: ='3_X'!I77+'4_ReX'!I76 -> 0 | J91: ='3_X'!J77+'4_ReX'!J76 -> 0 | ... Y91: ='3_X'!Y77+'4_ReX'!Y76 -> 0
B92: December | C92: ='3_X'!C78+'4_ReX'!C77 -> 0 | D92: ='3_X'!D78+'4_ReX'!D77 -> 0 | E92: ='3_X'!E78+'4_ReX'!E77 -> 0 | F92: ='3_X'!F78+'4_ReX'!F77 -> 0 | G92: ='3_X'!G78+'4_ReX'!G77 -> 0 | H92: ='3_X'!H78+'4_ReX'!H77 -> 0 | I92: ='3_X'!I78+'4_ReX'!I77 -> 0 | J92: ='3_X'!J78+'4_ReX'!J77 -> 0 | ... Y92: ='3_X'!Y78+'4_ReX'!Y77 -> 0
A94: Source | B94: Customs and Enterprises
A95: Note: | B95: Classification used: HS 2022 from 2022
B96: p provisional
B97: r revised

Sheet 6_PrinX
A1: Table 6 | B1: PRINCIPLE DOMESTIC EXPORT
B2: KINA (000)
B3: ANNUALY | F3: MONTHLY
F4: 2022 | R4: 2023 | AD4: 2024 | AP4: 2025
A5: Commodities | B5: 2022 | C5: 2023 | D5: 2024 | E5: 2025 p | F5: JAN | G5: FEB | H5: MAR | I5: APR | J5: MAY | K5: JUN | L5: JUL | M5: AUG | N5: SEPT | O5: OCT | P5: NOV | Q5: DEC | R5: JAN | S5: FEB | T5: MAR | U5: APR | V5: MAY | W5: JUN | X5: JUL | Y5: AUG | Z5: SEPT | AA5: OCT | AB5: NOV | AC5: DEC | AD5: JAN | AE5: FEB | AF5: MAR | AG5: APR | AH5: MAY | AI5: JUN | AJ5: JUL | AK5: AUG | AL5: SEPT | AM5: OCT | AN5: NOV | AO5: DEC | AP5: JAN | AQ5: FEB | AR5: MAR | AS5: APR | AT5: MAY | AU5: JUN | AV5: JUL | AW5: AUG | AX5: SEPT | AY5: OCT | AZ5: NOV | BA5: DEC
A6: Petroleum gases and other gaseous hydrocarbons. | B6: =SUM(F6:Q6) -> 12676908 | C6: =SUM(R6:AC6) -> 13153070 | D6: =SUM(AD6:AO6) -> 20581177 | E6: 10916067 | F6: 1374702.7 | G6: 941130.33 | H6: 937307.22 | I6: 1163074.7 | J6: 1043386.8 | K6: 1051495.3 | L6: 1153893.5 | M6: 819180.57 | N6: 1346960.3 | O6: 1037159.4 | P6: 916331.62 | Q6: 892285.43 | R6: 1246137.8 | S6: 890828.55 | T6: 1132256.5 | U6: 1222309.3 | V6: 1119844.6 | W6: 1068538.5 | X6: 1154221.3 | Y6: 1243855.3 | Z6: 926210.07 | AA6: 1147371.5 | AB6: 1175828.5 | AC6: 825668.08 | AD6: 2219338.9 | AE6: 1632033.2 | AF6: 1758156.3 | AG6: 1312005.5 | AH6: 1149971.3 | AI6: 907414.12 | AJ6: 2463121.4 | AK6: 1902807.3 | AL6: 1636950.1 | AM6: 1976666 | AN6: 1677496.4 | AO6: 1945216.8 | AP6: 1730585.2 | AQ6: 2075024.5 | AR6: 1493117.4 | AS6: 1460229.3 | AT6: 1941028.1 | AU6: 2216082.7
A7: Gold | B7: =SUM(F7:Q7) -> 9002176.1 | C7: =SUM(R7:AC7) -> 8637711.6 | D7: =SUM(AD7:AO7) -> 11538032 | E7: 8915840.1 | F7: 806909.13 | G7: 539194.61 | H7: 1364035.1 | I7: 719743.31 | J7: 624484.61 | K7: 879486.37 | L7: 688858.94 | M7: 973372.11 | N7: 842553.11 | O7: 476988.47 | P7: 656062.89 | Q7: 430487.49 | R7: 687128.07 | S7: 686867.39 | T7: 635839.67 | U7: 632503.41 | V7: 870893.79 | W7: 671681.08 | X7: 599962.55 | Y7: 669235.25 | Z7: 671350.06 | AA7: 623758.47 | AB7: 733518.91 | AC7: 1154972.9 | AD7: 811047.38 | AE7: 1016108.4 | AF7: 692327.2 | AG7: 976889.18 | AH7: 683204.29 | AI7: 1015951.9 | AJ7: 755547.15 | AK7: 1138999.6 | AL7: 1147763.1 | AM7: 951382.13 | AN7: 834633.28 | AO7: 1514178 | AP7: 1351767.8 | AQ7: 1585259.9 | AR7: 1128857.7 | AS7: 1853594.4 | AT7: 1260956.4 | AU7: 1735403.8
A8: Copper ores and concentrates. | B8: =SUM(F8:Q8) -> 2590592.8 | C8: =SUM(R8:AC8) -> 1653755.8 | D8: =SUM(AD8:AO8) -> 4995778.7 | E8: 4021651.4 | F8: 8117.8253 | G8: 5202.4001 | H8: 1508799.8 | I8: 0 | J8: 26.78893 | K8: 160892.03 | L8: 81037.525 | M8: 63443.81 | N8: 418742.35 | O8: 146079.34 | P8: 98677.405 | Q8: 99573.488 | R8: 134274.86 | S8: 214399.78 | T8: 145744.83 | U8: 219031.87 | V8: 178507.72 | W8: 74306.025 | X8: 70115.633 | Y8: 203441.63 | Z8: 71897.045 | AA8: 113836.96 | AB8: 13343.553 | AC8: 214855.86 | AD8: 305614.59 | AE8: 215193.81 | AF8: 177047.72 | AG8: 188074.26 | AH8: 552914.85 | AI8: 353666.5 | AJ8: 555097.18 | AK8: 615309.49 | AL8: 416312.79 | AM8: 427188.61 | AN8: 607650.99 | AO8: 581707.91 | AP8: 293316.31 | AQ8: 510813.53 | AR8: 782159.79 | AS8: 831689.57 | AT8: 743161.64 | AU8: 860510.56
A9: Palm oil and its fractions, whether or not refined, but not chemically modified. | B9: =SUM(F9:Q9) -> 3113707.5 | C9: =SUM(R9:AC9) -> 2895226.1 | D9: =SUM(AD9:AO9) -> 2445621.3 | E9: 1805464.7 | F9: 76590.067 | G9: 250461.21 | H9: 134152.65 | I9: 133443.1 | J9: 433978.08 | K9: 293920.46 | L9: 177879.99 | M9: 279330.76 | N9: 968749.8 | O9: 179699.43 | P9: 58576.936 | Q9: 126925.04 | R9: 183397.49 | S9: 129981.25 | T9: 298290.4 | U9: 194619.9 | V9: 399854.11 | W9: 106533.66 | X9: 151793.46 | Y9: 156593.71 | Z9: 701669.66 | AA9: 81311.066 | AB9: 132516.33 | AC9: 358665.11 | AD9: 152815.42 | AE9: 102380.69 | AF9: 245897.42 | AG9: 319243.75 | AH9: 265590.87 | AI9: 167977.28 | AJ9: 152111.27 | AK9: 65375.792 | AL9: 459371.3 | AM9: 169832.67 | AN9: 168460.58 | AO9: 176564.23 | AP9: 78930.153 | AQ9: 425800.8 | AR9: 405828.15 | AS9: 308064.42 | AT9: 426140.92 | AU9: 160700.22
A10: Petroleum oils and oils obtained from bituminous minerals, crude. | B10: =SUM(F10:Q10) -> 3661981.7 | C10: =SUM(R10:AC10) -> 2121718 | D10: =SUM(AD10:AO10) -> 3366662.6 | E10: 1128723.4 | F10: 462220.12 | G10: 10942.719 | H10: 440010 | I10: 384385.94 | J10: 311019.01 | K10: 112761.76 | L10: 347993.06 | M10: 69016.304 | N10: 294128.83 | O10: 871.2112 | P10: 1153547.1 | Q10: 75085.662 | R10: 33556.813 | S10: 13048.691 | T10: 683312.08 | U10: 57610.662 | V10: 51154.801 | W10: 40150.051 | X10: 19268.2 | Y10: 936665.66 | Z10: 14120.129 | AA10: 15553.749 | AB10: 239227.2 | AC10: 18049.99 | AD10: 700279.26 | AE10: 424304.61 | AF10: 35273.433 | AG10: 443296.88 | AH10: 220305.48 | AI10: 200617 | AJ10: 41003.036 | AK10: 422722.48 | AL10: 220444.43 | AM10: 394878.05 | AN10: 34807.56 | AO10: 228730.36 | AP10: 219641.92 | AQ10: 245657.03 | AR10: 223155.52 | AS10: 39241.261 | AT10: 195458 | AU10: 205569.66
A11: Cocoa beans, whole or broken, raw or roasted. | B11: =SUM(F11:Q11) -> 309689.15 | C11: =SUM(R11:AC11) -> 437251.82 | D11: =SUM(AD11:AO11) -> 1264861.4 | E11: 872697.34 | F11: 16790.809 | G11: 10168.677 | H11: 21643.895 | I11: 20407.068 | J11: 34467.804 | K11: 34011.302 | L11: 45147.052 | M11: 44781.746 | N11: 15928.954 | O11: 26723.986 | P11: 21749.833 | Q11: 17868.024 | R11: 29767.409 | S11: 23761.897 | T11: 19941.112 | U11: 19467.675 | V11: 39487.525 | W11: 62290.681 | X11: 65121.022 | Y11: 46109.814 | Z11: 38096.791 | AA11: 30543.497 | AB11: 28008.451 | AC11: 34655.942 | AD11: 25314.818 | AE11: 34369.714 | AF11: 25011.195 | AG11: 94179.071 | AH11: 185226.95 | AI11: 174278.35 | AJ11: 144172.89 | AK11: 202589.32 | AL11: 97017.504 | AM11: 129258.18 | AN11: 81652.676 | AO11: 71790.757 | AP11: 123757.67 | AQ11: 113978.68 | AR11: 81738.686 | AS11: 120910.38 | AT11: 194163.18 | AU11: 238148.74
A12: Fish (Tuna) | B12: =SUM(F12:Q12) -> 3205568 | C12: =SUM(R12:AC12) -> 2283884.6 | D12: =SUM(AD12:AO12) -> 2229053 | E12: 824600.58 | F12: 205849.02 | G12: 160026.22 | H12: 257403.84 | I12: 190986.86 | J12: 343770.73 | K12: 502142.92 | L12: 397740.35 | M12: 324541.1 | N12: 127399.58 | O12: 140685.09 | P12: 236125.15 | Q12: 318897.12 | R12: 342737.61 | S12: 173755.99 | T12: 226932.21 | U12: 313006.03 | V12: 154608.14 | W12: 109745.56 | X12: 131006.45 | Y12: 190438.55 | Z12: 106262.83 | AA12: 194596.18 | AB12: 211477.86 | AC12: 129317.17 | AD12: 202527.68 | AE12: 191486.54 | AF12: 188047.62 | AG12: 175477.89 | AH12: 244486.73 | AI12: 102655.81 | AJ12: 227810.89 | AK12: 181297.88 | AL12: 193027.27 | AM12: 201913.85 | AN12: 134233.03 | AO12: 186087.83 | AP12: 664807.41 | AQ12: 79874.913 | AR12: 109424.75 | AS12: 145880.73 | AT12: 165332.85 | AU12: 207056.04
A13: Nickel mattes, nickel oxide sinters and other intermediate products of nickel metallurgy. | B13: =SUM(F13:Q13) -> 873827.31 | C13: =SUM(R13:AC13) -> 1117889 | D13: =SUM(AD13:AO13) -> 1021879.4 | E13: 511054.57 | F13: 51155.097 | G13: 46433.511 | H13: 138116.21 | I13: 92007.474 | J13: 45117.252 | K13: 93313.586 | L13: 46934.499 | M13: 105360.06 | N13: 17176.268 | O13: 110369.04 | P13: 82648.107 | Q13: 45196.2 | R13: 191797.35 | S13: 44988.416 | T13: 149810.26 | U13: 45137.085 | V13: 111483.55 | W13: 98097.433 | X13: 47910.764 | Y13: 114713.97 | Z13: 51943.062 | AA13: 155011.86 | AB13: 70426.378 | AC13: 36568.841 | AD13: 157471.04 | AE13: 50390.573 | AF13: 51825.77 | AG13: 107809.09 | AH13: 110102.99 | AI13: 75738.093 | AJ13: 73590.451 | AK13: 103925.38 | AL13: 109014.91 | AM13: 27263.937 | AN13: 100502.79 | AO13: 54244.392 | AP13: 53960.625 | AQ13: 54935.056 | AR13: 58902.751 | AS13: 113244.17 | AT13: 116548.6 | AU13: 113463.37
A14: Wood sawn or not stripped | B14: =SUM(F14:Q14) -> 1118004.4 | C14: =SUM(R14:AC14) -> 925657.46 | D14: =SUM(AD14:AO14) -> 861660.65 | E14: 490568.14 | F14: 96843.246 | G14: 111129.87 | H14: 66843.663 | I14: 92881.255 | J14: 111713.52 | K14: 87105.672 | L14: 83723.636 | M14: 86278.741 | N14: 95839.361 | O14: 119112.57 | P14: 49008.534 | Q14: 117524.33 | R14: 109103.52 | S14: 47823.204 | T14: 90112.749 | U14: 53441.07 | V14: 78810.244 | W14: 40904.775 | X14: 49808.638 | Y14: 66506.09 | Z14: 85350.104 | AA14: 50518.526 | AB14: 176893.95 | AC14: 76384.588 | AD14: 57427.494 | AE14: 82541.009 | AF14: 70375.433 | AG14: 76407.385 | AH14: 47203.791 | AI14: 84215.618 | AJ14: 68189.84 | AK14: 76157.331 | AL14: 65853.329 | AM14: 110106.39 | AN14: 60364.305 | AO14: 62818.723 | AP14: 100031.15 | AQ14: 74342.647 | AR14: 90277.667 | AS14: 86942.252 | AT14: 91036.824 | AU14: 47937.598
A15: Coconut (copra), palm kernel or babassu oil and fractions thereof, whether or not refined, but not chemically modified. | B15: =SUM(F15:Q15) -> 574712.43 | C15: =SUM(R15:AC15) -> 434442.92 | D15: =SUM(AD15:AO15) -> 493764.31 | E15: 482679.41 | F15: 22873.108 | G15: 55570.717 | H15: 48065.274 | I15: 42376.904 | J15: 119160.91 | K15: 63931.209 | L15: 49079.573 | M15: 55634.192 | N15: 50906.755 | O15: 39213.213 | P15: 19502.496 | Q15: 8398.0781 | R15: 31601.873 | S15: 31782.738 | T15: 67728.929 | U15: 14783.625 | V15: 52043.545 | W15: 11048.428 | X15: 18805.409 | Y15: 21401.325 | Z15: 104652.87 | AA15: 26752.596 | AB15: 15388.969 | AC15: 38452.61 | AD15: 24406.273 | AE15: 15285.637 | AF15: 36862.231 | AG15: 87521.787 | AH15: 41576.122 | AI15: 28285.522 | AJ15: 16989.591 | AK15: 32541.735 | AL15: 81009.365 | AM15: 42505.379 | AN15: 42197.688 | AO15: 44582.979 | AP15: 43277.376 | AQ15: 69233.999 | AR15: 67870.022 | AS15: 111868.11 | AT15: 147229.43 | AU15: 43200.468
A16: Coffee, whether or not roasted or decaffeinated; coffee husks and skins; coffee substitutes containing coffee in any proportion. | B16: =SUM(F16:Q16) -> 731317.47 | C16: =SUM(R16:AC16) -> 820707.25 | D16: =SUM(AD16:AO16) -> 774266.26 | E16: 408527.5 | F16: 27960.701 | G16: 24170.707 | H16: 32385.399 | I16: 22050.46 | J16: 49933.34 | K16: 21580.523 | L16: 84444.533 | M16: 91400.481 | N16: 47086.04 | O16: 131626.96 | P16: 134450.43 | Q16: 64227.896 | R16: 63417.69 | S16: 50348.926 | T16: 35964.23 | U16: 39560.875 | V16: 54189.436 | W16: 48092.167 | X16: 76621.111 | Y16: 86140.64 | Z16: 80918.32 | AA16: 93566.723 | AB16: 102420.9 | AC16: 89466.24 | AD16: 49269.981 | AE16: 58268.235 | AF16: 47393.936 | AG16: 39266.905 | AH16: 56999.153 | AI16: 61978.301 | AJ16: 88553.095 | AK16: 86008.749 | AL16: 111590.96 | AM16: 69180.596 | AN16: 56950.388 | AO16: 48805.964 | AP16: 45893.27 | AQ16: 41789.049 | AR16: 40212.617 | AS16: 64991.017 | AT16: 89710.619 | AU16: 125930.93
A17: Silver (including silver plated with gold or platinum), unwrought or in semi-manufactured forms, or in powder form. | B17: =SUM(F17:Q17) -> 152753.93 | C17: =SUM(R17:AC17) -> 280290.65 | D17: =SUM(AD17:AO17) -> 353801.14 | E17: 164926.01 | F17: 3698.4552 | G17: 0 | H17: 11475.814 | I17: 15244.706 | J17: 23070.37 | K17: 19035.363 | L17: 11938.153 | M17: 17026.315 | N17: 13346.209 | O17: 11266.284 | P17: 11026.133 | Q17: 15626.124 | R17: 15583.771 | S17: 13350.588 | T17: 12907.473 | U17: 15882.14 | V17: 19054.223 | W17: 31197.694 | X17: 24830.214 | Y17: 21564.532 | Z17: 35333.383 | AA17: 30011.168 | AB17: 30273.96 | AC17: 30301.5 | AD17: 12874.446 | AE17: 30790.229 | AF17: 21179.167 | AG17: 26838.788 | AH17: 29512.283 | AI17: 25203.471 | AJ17: 29816.647 | AK17: 32741.854 | AL17: 43111.257 | AM17: 38503.915 | AN17: 31613.685 | AO17: 31615.4 | AP17: 31954.456 | AQ17: 26618.529 | AR17: 27903.149 | AS17: 26884.713 | AT17: 25757.306 | AU17: 25807.853
A18: All other Principle Domestic Exports | B18: =SUM(F18:Q18) -> 528733.17 | C18: =SUM(R18:AC18) -> 1088838.9 | D18: =SUM(AD18:AO18) -> 2263247.6 | E18: =SUM(AE18:AP18) -> 2156630.5 | F18: 33480.774 | G18: 74073.96 | H18: 45033.205 | I18: 45601.261 | J18: 78867.387 | K18: 15645.559 | L18: 41135.424 | M18: 23785.614 | N18: 28029.611 | O18: 44830.519 | P18: 50194.891 | Q18: 48054.97 | R18: 72062.977 | S18: 85854.088 | T18: 53360.306 | U18: 122926.22 | V18: 123352.27 | W18: 83594.808 | X18: 117668.95 | Y18: 72501.269 | Z18: 114524.65 | AA18: 63726.967 | AB18: 72052.573 | AC18: 107213.85 | AD18: 111467.26 | AE18: 69734.158 | AF18: 141276.69 | AG18: 129243.47 | AH18: 253796.91 | AI18: 195527.92 | AJ18: 104404.85 | AK18: 108920.42 | AL18: 212323.36 | AM18: 230562.93 | AN18: 504996.54 | AO18: 200993.1 | AP18: 4850.1679 | AQ18: 5510.0601 | AR18: 4782.0876 | AS18: 5359.5406 | AT18: 5608.4369 | AU18: 6264.1502
A19: Total | B19: =SUM(B6:B18) -> 38539972 | C19: =SUM(C6:C18) -> 35850444 | D19: =SUM(D6:D18) -> 52189805 | E19: =SUM(E6:E18) -> 32699431 | F19: =SUM(F6:F18) -> 3187191 | G19: =SUM(G6:G18) -> 2228504.9 | H19: =SUM(H6:H18) -> 5005272.1 | I19: =SUM(I6:I18) -> 2922203.1 | ... BA19: =SUM(BA6:BA18) -> 0
A21: Notes
A22: Source: Customs and Enterprises
A23: Classification used: HS 2017 from 2017
A24: p provisional
A25: r revised

Sheet 7_PrinM
A1: Table 7 | B1: Principle Domestic Imports
B2: Kina (000)
B3: Annual
F4: 2022 | R4: 2023 | AD4: 2024 | AP4: 2025 p
A5: Commodity | B5: 2022 | C5: 2023 | D5: 2024 | E5: 2025 p | F5: Jan | G5: Feb | H5: Mar | I5: Apr | J5: May | K5: Jun | L5: Jul | M5: Aug | N5: Sep | O5: Oct | P5: Nov | Q5: Dec | R5: Jan | S5: Feb | T5: Mar | U5: Apr | V5: May | W5: Jun | X5: Jul | Y5: Aug | Z5: Sep | AA5: Oct | AB5: Nov | AC5: Dec | AD5: Jan | AE5: Feb | AF5: Mar | AG5: Apr | AH5: May | AI5: Jun | AJ5: Jul | AK5: Aug | AL5: Sep | AM5: Oct | AN5: Nov | AO5: Dec | AP5: Jan | AQ5: Feb | AR5: Mar | AS5: Apr | AT5: May | AU5: Jun | AV5: Jul | AW5: Aug | AX5: Sep | AY5: Oct | AZ5: Nov | BA5: Dec
A6: Petroleum oils and oils obtained from bituminous minerals, other than crude; preparations not elsewhere specified or included, containing by weight 70 % or more of petroleum oils or of oils obtained from bituminous minerals, these oils being the basic constituents of the preparations; waste oils. | B6: =SUM(F6:Q6) -> 2595783 | C6: =SUM(R6:AC6) -> 3534548.4 | D6: =SUM(AD6:AO6) -> 4273113.7 | E6: =SUM(AP6:BA6) -> 2163068.8 | F6: 239903 | G6: 259061 | H6: 215855 | I6: 223657 | J6: 188700 | K6: 143803 | L6: 176130 | M6: 233594 | N6: 204938 | O6: 208289 | P6: 213403 | Q6: 288450 | R6: 291608.77 | S6: 109101.54 | T6: 642516.37 | U6: 214062.82 | V6: 386869.69 | W6: 237169.92 | X6: 177719.09 | Y6: 183069.53 | Z6: 318229.94 | AA6: 395863.38 | AB6: 393491.9 | AC6: 184845.44 | AD6: 395329.13 | AE6: 429873.74 | AF6: 283722.58 | AG6: 313633.77 | AH6: 364280.48 | AI6: 388667.74 | AJ6: 433300.46 | AK6: 338172.07 | AL6: 329519.43 | AM6: 504446.08 | AN6: 214216.83 | AO6: 277951.36 | AP6: 367956.38 | AQ6: 373280.95 | AR6: 496882.92 | AS6: 290096.63 | AT6: 348000.01 | AU6: 286851.9
A7: Rice. | B7: =SUM(F7:Q7) -> 665794 | C7: =SUM(R7:AC7) -> 863094.42 | D7: =SUM(AD7:AO7) -> 903730.05 | E7: =SUM(AP7:BA7) -> 490386.61 | F7: 46716 | G7: 51176 | H7: 72561 | I7: 61696 | J7: 73768 | K7: 45115 | L7: 34266 | M7: 64136 | N7: 64478 | O7: 43211 | P7: 65604 | Q7: 43067 | R7: 75269.75 | S7: 23444.979 | T7: 21884.243 | U7: 45388.953 | V7: 116350.53 | W7: 99113.059 | X7: 46828.166 | Y7: 36843.367 | Z7: 79591.276 | AA7: 98486.799 | AB7: 125174.43 | AC7: 94718.864 | AD7: 93881.022 | AE7: 49941.148 | AF7: 42117.187 | AG7: 100370.59 | AH7: 80778.931 | AI7: 54120.455 | AJ7: 37556.626 | AK7: 56331.824 | AL7: 70559.589 | AM7: 108401.83 | AN7: 111015.03 | AO7: 98655.816 | AP7: 110987.35 | AQ7: 45019.569 | AR7: 58163.436 | AS7: 101544.77 | AT7: 110555.65 | AU7: 64115.844
A8: Machinery parts; used solely or principally with the machinery of heading no. 8425 to 8430 | B8: =SUM(F8:Q8) -> 494329 | C8: =SUM(R8:AC8) -> 716694.84 | D8: =SUM(AD8:AO8) -> 811808.29 | E8: =SUM(AP8:BA8) -> 386292.03 | F8: 48011 | G8: 43087 | H8: 36169 | I8: 33184 | J8: 38915 | K8: 32508 | L8: 40046 | M8: 54370 | N8: 33533 | O8: 50215 | P8: 39751 | Q8: 44540 | R8: 43814.944 | S8: 52736.25 | T8: 48137.004 | U8: 63637.521 | V8: 36613.773 | W8: 78928.791 | X8: 91459.692 | Y8: 48863.816 | Z8: 49229.613 | AA8: 62374.074 | AB8: 54667.056 | AC8: 86232.304 | AD8: 75646.353 | AE8: 55278.857 | AF8: 87924.919 | AG8: 61007.096 | AH8: 55840.175 | AI8: 64446.985 | AJ8: 46946.671 | AK8: 64440.19 | AL8: 55874.005 | AM8: 57624.048 | AN8: 97763.577 | AO8: 89015.416 | AP8: 61402.373 | AQ8: 58690.165 | AR8: 48388.419 | AS8: 66476.069 | AT8: 69642.279 | AU8: 81692.724
A9: Motor vehicles for the transport of goods. | B9: =SUM(F9:Q9) -> 325820 | C9: =SUM(R9:AC9) -> 521829.05 | D9: =SUM(AD9:AO9) -> 791250.47 | E9: =SUM(AP9:BA9) -> 418660.77 | F9: 26513 | G9: 16841 | H9: 19685 | I9: 20286 | J9: 36413 | K9: 37956 | L9: 36895 | M9: 22863 | N9: 26911 | O9: 23326 | P9: 17034 | Q9: 41097 | R9: 29386.714 | S9: 29966.555 | T9: 20142.136 | U9: 34137.007 | V9: 52327.232 | W9: 42144.201 | X9: 70924.195 | Y9: 70136.595 | Z9: 42488.867 | AA9: 44552.583 | AB9: 43677.019 | AC9: 41945.947 | AD9: 59480.105 | AE9: 84972.294 | AF9: 76152.64 | AG9: 48277.88 | AH9: 46354.127 | AI9: 49696.837 | AJ9: 45321.832 | AK9: 42107.697 | AL9: 46315.096 | AM9: 177350.03 | AN9: 79331.035 | AO9: 35890.898 | AP9: 42921.194 | AQ9: 64685.697 | AR9: 60766.525 | AS9: 54274.093 | AT9: 156952.46 | AU9: 39060.807
A10: Wheat and meslin. | B10: =SUM(F10:Q10) -> 389963 | C10: =SUM(R10:AC10) -> 322856.02 | D10: =SUM(AD10:AO10) -> 523093.92 | E10: =SUM(AP10:BA10) -> 176777.69 | F10: 21810 | G10: 28852 | H10: 22690 | I10: 1310 | J10: 36629 | K10: 79357 | L10: 321 | M10: 82366 | N10: 402 | O10: 68653 | P10: 2442 | Q10: 45131 | R10: 30262.568 | S10: 34182.001 | T10: 1567.4821 | U10: 27738.409 | V10: 31154.758 | W10: 86.28627 | X10: 57980.649 | Y10: 648.34424 | Z10: 637.43457 | AA10: 60046.689 | AB10: 1110.3664 | AC10: 77441.03 | AD10: 41586.963 | AE10: 550.13808 | AF10: 26478.592 | AG10: 36565.656 | AH10: 28234.851 | AI10: 562.08407 | AJ10: 51858.281 | AK10: 1154.6125 | AL10: 39583.115 | AM10: 214471.38 | AN10: 74759.722 | AO10: 7288.519 | AP10: 40761.394 | AQ10: 518.03771 | AR10: 54513.58 | AS10: 10849.081 | AT10: 36194.193 | AU10: 33941.408
A11: Parts and accessories of the motor vehicles of headings 87.01 to 87.05. | B11: =SUM(F11:Q11) -> 377996 | C11: =SUM(R11:AC11) -> 479201.43 | D11: =SUM(AD11:AO11) -> 515447.89 | E11: =SUM(AP11:BA11) -> 252895.81 | F11: 32667 | G11: 26752 | H11: 26802 | I11: 33829 | J11: 35669 | K11: 35184 | L11: 30542 | M11: 31733 | N11: 30644 | O11: 27294 | P11: 26625 | Q11: 40255 | R11: 29522.283 | S11: 34050.016 | T11: 35319.529 | U11: 28065.915 | V11: 32164.328 | W11: 39683.631 | X11: 36991.468 | Y11: 42656.489 | Z11: 31547.869 | AA11: 52050.238 | AB11: 24551.346 | AC11: 92598.319 | AD11: 39263.692 | AE11: 26444.081 | AF11: 43855.525 | AG11: 42003.13 | AH11: 41602.834 | AI11: 58368.175 | AJ11: 51019.31 | AK11: 36681.905 | AL11: 52759.946 | AM11: 36225.25 | AN11: 47299.801 | AO11: 39924.24 | AP11: 53744.498 | AQ11: 41853.375 | AR11: 38874.14 | AS11: 38386.097 | AT11: 40629.714 | AU11: 39407.984
A12: Telephone sets, including telephones for cellular networks or for other wireless networks; other apparatus for the transmission or reception of voice, images or other data, including apparatus for communication in a wired or wireless network (such as a local or wide area network), other than transmission or reception apparatus of heading 84.43, 85.25, 85.27 or 85.28. | B12: =SUM(F12:Q12) -> 477414 | C12: =SUM(R12:AC12) -> 440957.46 | D12: =SUM(AD12:AO12) -> 408006.04 | E12: =SUM(AP12:BA12) -> 173081.21 | F12: 16468 | G12: 25026 | H12: 42627 | I12: 43345 | J12: 45793 | K12: 42816 | L12: 48046 | M12: 29062 | N12: 44862 | O12: 33299 | P12: 87855 | Q12: 18215 | R12: 28270.053 | S12: 21263.179 | T12: 22672.491 | U12: 27896.575 | V12: 28343.227 | W12: 18145.802 | X12: 31938.619 | Y12: 68749.559 | Z12: 32959.207 | AA12: 42480 | AB12: 67658.702 | AC12: 50580.041 | AD12: 41212.222 | AE12: 33007.254 | AF12: 30127.497 | AG12: 23447.099 | AH12: 37070.629 | AI12: 34959.738 | AJ12: 32983.879 | AK12: 29501.516 | AL12: 35570.929 | AM12: 42681.135 | AN12: 35150.534 | AO12: 32293.604 | AP12: 23902.174 | AQ12: 35800.693 | AR12: 32850.196 | AS12: 20342.748 | AT12: 35695.453 | AU12: 24489.948
A13: Buildings; prefabricated | B13: =SUM(F13:Q13) -> 36757 | C13: =SUM(R13:AC13) -> 60774.978 | D13: =SUM(AD13:AO13) -> 366711.93 | E13: =SUM(AP13:BA13) -> 29879.015 | F13: 2974 | G13: 5418 | H13: 4007 | I13: 3242 | J13: 2938 | K13: 3261 | L13: 3515 | M13: 2070 | N13: 2799 | O13: 2367 | P13: 1436 | Q13: 2730 | R13: 12535.129 | S13: 6753.6987 | T13: 3936.5107 | U13: 4081.1725 | V13: 1606.7151 | W13: 3570.7907 | X13: 6488.1607 | Y13: 1488.3014 | Z13: 7209.365 | AA13: 6533.5125 | AB13: 1448.9051 | AC13: 5122.7164 | AD13: 2525.2911 | AE13: 10011.039 | AF13: 5477.1599 | AG13: 1757.6286 | AH13: 5262.583 | AI13: 306442.27 | AJ13: 3531.0437 | AK13: 1731.6155 | AL13: 6450.5822 | AM13: 12039.529 | AN13: 5705.7173 | AO13: 5777.476 | AP13: 4467.5879 | AQ13: 3254.3359 | AR13: 3954.4826 | AS13: 1154.6087 | AT13: 6633.0244 | AU13: 10414.975
A14: Food preparations not elsewhere specified or included. | B14: =SUM(F14:Q14) -> 289649 | C14: =SUM(R14:AC14) -> 240795.86 | D14: =SUM(AD14:AO14) -> 366271.23 | E14: =SUM(AP14:BA14) -> 192684.79 | F14: 11627 | G14: 15574 | H14: 61990 | I14: 18631 | J14: 36107 | K14: 13390 | L14: 6315 | M14: 46519 | N14: 23512 | O14: 18251 | P14: 6273 | Q14: 31460 | R14: 7028.8161 | S14: 24712.614 | T14: 29481.874 | U14: 35356.684 | V14: 17354.751 | W14: 24028.067 | X14: 14402.545 | Y14: 23863.95 | Z14: 12556.547 | AA14: 10856.245 | AB14: 14777.076 | AC14: 26376.694 | AD14: 31426.12 | AE14: 20967.78 | AF14: 33538.257 | AG14: 14705.821 | AH14: 15726.333 | AI14: 25882.93 | AJ14: 27348.389 | AK14: 39291.378 | AL14: 42981.055 | AM14: 35398.124 | AN14: 36945.083 | AO14: 42059.959 | AP14: 5374.5247 | AQ14: 53983.178 | AR14: 37933.55 | AS14: 24500.751 | AT14: 44559.811 | AU14: 26332.975
A15: Self-propelled bulldozers, angledozers, graders, levellers, scrapers, mechanical shovels, excavators, shovel loaders, tamping machines and road rollers. | B15: =SUM(F15:Q15) -> 255277 | C15: =SUM(R15:AC15) -> 236491.34 | D15: =SUM(AD15:AO15) -> 340740.49 | E15: =SUM(AP15:BA15) -> 214230.56 | F15: 9495 | G15: 23330 | H15: 10310 | I15: 37974 | J15: 30300 | K15: 15993 | L15: 28313 | M15: 26762 | N15: 27936 | O15: 14755 | P15: 17392 | Q15: 12717 | R15: 14521.002 | S15: 14503.291 | T15: 14668.623 | U15: 27450.2 | V15: 32508.647 | W15: 9576.5633 | X15: 24730.412 | Y15: 15548.575 | Z15: 13355.38 | AA15: 23546.066 | AB15: 18082.045 | AC15: 28000.535 | AD15: 28132.894 | AE15: 14760.992 | AF15: 18359.101 | AG15: 22829.409 | AH15: 21664.036 | AI15: 22767.64 | AJ15: 14290.71 | AK15: 25692.172 | AL15: 32717.796 | AM15: 72332.416 | AN15: 44854.829 | AO15: 22338.491 | AP15: 32987.995 | AQ15: 30778.448 | AR15: 29319.383 | AS15: 45095.019 | AT15: 59119.098 | AU15: 16930.618
A16: Meat of sheep or goats, fresh, chilled or frozen. | B16: =SUM(F16:Q16) -> 244549 | C16: =SUM(R16:AC16) -> 279513.52 | D16: =SUM(AD16:AO16) -> 330932.69 | E16: =SUM(AP16:BA16) -> 193369.96 | F16: 16310 | G16: 13256 | H16: 17306 | I16: 18214 | J16: 24344 | K16: 18600 | L16: 20930 | M16: 27512 | N16: 20216 | O16: 26936 | P16: 22209 | Q16: 18716 | R16: 18112.54 | S16: 19943.85 | T16: 15882.71 | U16: 17204.937 | V16: 18749.604 | W16: 18113.106 | X16: 25460.663 | Y16: 26318.389 | Z16: 27789.266 | AA16: 28462.686 | AB16: 38029.565 | AC16: 25446.205 | AD16: 29074.432 | AE16: 21901.897 | AF16: 20026.987 | AG16: 26738.748 | AH16: 24558.392 | AI16: 18722.056 | AJ16: 26815.345 | AK16: 33276.011 | AL16: 35032.387 | AM16: 30785.396 | AN16: 36932.487 | AO16: 27068.55 | AP16: 24795.128 | AQ16: 20885.695 | AR16: 24788.759 | AS16: 41048.831 | AT16: 36521.31 | AU16: 45330.235
A17: New pneumatic tyres, of rubber | B17: =SUM(F17:Q17) -> 385256 | C17: =SUM(R17:AC17) -> 247020.22 | D17: =SUM(AD17:AO17) -> 312506.26 | E17: =SUM(AP17:BA17) -> 148014.36 | F17: 18771 | G17: 16238 | H17: 22602 | I17: 18523 | J17: 31838 | K17: 30366 | L17: 32191 | M17: 29932 | N17: 118468 | O17: 18098 | P17: 28487 | Q17: 19742 | R17: 20958.51 | S17: 15333.731 | T17: 21122.851 | U17: 24381.795 | V17: 15356.721 | W17: 18235.93 | X17: 18495.068 | Y17: 24957.451 | Z17: 22169.62 | AA17: 17547.673 | AB17: 20165.2 | AC17: 28295.664 | AD17: 26046.994 | AE17: 20162.939 | AF17: 19316.209 | AG17: 34639.656 | AH17: 32834.953 | AI17: 19531.88 | AJ17: 21938.962 | AK17: 26430.955 | AL17: 20469.815 | AM17: 36190.33 | AN17: 32949.613 | AO17: 21993.959 | AP17: 22825.563 | AQ17: 22548.693 | AR17: 20096.915 | AS17: 28790.04 | AT17: 31068.519 | AU17: 22684.633
... A25: All other Imports not listed elswhere | B25: =SUM(F25:Q25) -> 12905911 | C25: =SUM(R25:AC25) -> 12803683 | D25: =SUM(AD25:AO25) -> 13971119 | E25: =SUM(AP25:BA25) -> 7419791.3 | F25: 1037962 | G25: 872899 | H25: 1072980 | I25: 825787 | J25: 1113211 | K25: 1210600 | L25: 1057182 | M25: 1321389 | N25: 1078409 | O25: 1231817 | P25: 1187452 | Q25: 896223 | R25: 966211.87 | S25: 1276493.9 | T25: 1051360.9 | U25: 941177 | V25: 1109798 | W25: 980673.18 | X25: 1041820 | Y25: 1095495.4 | Z25: 972022.23 | AA25: 1056486.4 | AB25: 1277033.5 | AC25: 1035110.2 | AD25: 1206869.4 | AE25: 908287.5 | AF25: 911618.12 | AG25: 1054934.4 | AH25: 1274026 | AI25: 1151307 | AJ25: 1290930.7 | AK25: 1325106.2 | AL25: 1167384.2 | AM25: 1288971.6 | AN25: 1252575.8 | AO25: 1139108 | AP25: 1258901.2 | AQ25: 1132862.6 | AR25: 1074837.7 | AS25: 1120252.5 | AT25: 1348221.2 | AU25: 1484716.1
A26: Total Imports | B26: =SUM(B6:B25) -> 20525989 | C26: =SUM(C6:C25) -> 22285456 | D26: =SUM(D6:D25) -> 25657148 | E26: =SUM(E6:E25) -> 13181100 | F26: =SUM(F6:F25) -> 1624259 | G26: =SUM(G6:G25) -> 1490514 | H26: =SUM(H6:H25) -> 1711196 | I26: =SUM(I6:I25) -> 1419520 | ... BA26: =SUM(BA6:BA25) -> 0
A30: Notes
A31: Source: Customs and Enterprises
A32: Classification used: HS 2017 from 2017
A33: p provisional
A34: r revised

Sheet 8_BOT_PC
A1: Table 8 | B1: Partner Countries
B2: KINA (000)
B3: ANNUALLY | I3: Monthly
I4: 2022 | U4: 2023 | AG4: 2024 | AS4: 2025 p
A5: Country | B5: Trade | C5: 2020 | D5: 2021 | E5: 2022 | F5: 2023 | G5: 2024 | H5: 2025 p | I5: Jan | J5: Feb | K5: Mar | L5: Apr | M5: May | N5: Jun | O5: Jul | P5: Aug | Q5: Sep | R5: Oct | S5: Nov | T5: Dec | U5: Jan | V5: Feb | W5: Mar | X5: Apr | Y5: May | Z5: Jun | AA5: Jul | AB5: Aug | AC5: Sep | AD5: Oct | AE5: Nov | AF5: Dec | AG5: Jan | AH5: Feb | AI5: Mar | AJ5: Apr | AK5: May | AL5: Jun | AM5: Jul | AN5: Aug | AO5: Sep | AP5: Oct | AQ5: Nov | AR5: Dec | AS5: Jan | AT5: Feb | AU5: Mar | AV5: Apr | AW5: May | AX5: Jun | AY5: Jul | AZ5: Aug | BA5: Sep | BB5: Oct | BC5: Nov | BD5: Dec
A6: Australia | B6: Total Exports | C6: 8070845.1 | D6: 5944655.9 | E6: 6829091.7 | F6: 13572086 | G6: 10719073 | H6: =SUM(AS6:BD6) -> 8297531 | I6: 684913.4 | J6: 468686.38 | K6: 541394.29 | L6: 726566.36 | M6: 606864.67 | N6: 706669.82 | O6: 567659.42 | P6: 865721 | Q6: 469454.33 | R6: 296851.49 | S6: 584450.32 | T6: 309860.24 | U6: 976960.92 | V6: 975284.78 | W6: 1514659.2 | X6: 841582.08 | Y6: 1308151.8 | Z6: 1001646.1 | AA6: 1130140 | AB6: 981956.31 | AC6: 1089013.8 | AD6: 930344.1 | AE6: 1234732.8 | AF6: 1587613.8 | AG6: 590917.35 | AH6: 833693.13 | AI6: 705599.61 | AJ6: 729458.76 | AK6: 644536.46 | AL6: 1064428.4 | AM6: 629258.81 | AN6: 1080002.9 | AO6: 978921.7 | AP6: 1008307.6 | AQ6: 901757.71 | AR6: 1552190.6 | AS6: 1326260 | AT6: 1303103 | AU6: 1089936 | AV6: 1753588 | AW6: 1130595 | AX6: 1694049
B7: Imports | C7: 5885867.6 | D7: 5643583.8 | E7: 6290236.7 | F7: 6660000.7 | G7: 8563720.5 | H7: =SUM(AS7:BD7) -> 4061167 | I7: 526962 | J7: 449183.21 | K7: 560510.25 | L7: 369309.67 | M7: 557731.1 | N7: 658821.74 | O7: 474008.46 | P7: 637611.96 | Q7: 469637.23 | R7: 642500.12 | S7: 497280.99 | T7: 446680.02 | U7: 470087.43 | V7: 556056.9 | W7: 471170.16 | X7: 475087.73 | Y7: 539678.65 | Z7: 593412.39 | AA7: 564223.2 | AB7: 531481.8 | AC7: 500017.8 | AD7: 642476.98 | AE7: 540101.17 | AF7: 776206.49 | AG7: 649272.11 | AH7: 506388.62 | AI7: 633345.07 | AJ7: 562281.41 | AK7: 656913.15 | AL7: 1018409.9 | AM7: 721641.25 | AN7: 639969.55 | AO7: 714545.23 | AP7: 899769.16 | AQ7: 901241.89 | AR7: 659943.16 | AS7: 685186 | AT7: 594427 | AU7: 640572 | AV7: 602312 | AW7: 726207 | AX7: 812463
B8: Balance | C8: 2184977.5 | D8: 301072.05 | E8: 538854.98 | F8: 6912085 | G8: 2155352.5 | H8: =SUM(AS8:BD8) -> 4236364 | I8: 157951.4 | J8: 19503.171 | K8: -19115.962 | L8: 357256.69 | M8: 49133.574 | N8: 47848.075 | O8: 93650.961 | P8: 228109.04 | Q8: -182.89236 | R8: -345648.63 | S8: 87169.323 | T8: -136819.78 | U8: =U6-U7 -> 506873.49 | V8: =V6-V7 -> 419227.88 | W8: =W6-W7 -> 1043489 | X8: =X6-X7 -> 366494.35 | Y8: =Y6-Y7 -> 768473.17 | Z8: =Z6-Z7 -> 408233.72 | AA8: =AA6-AA7 -> 565916.78 | AB8: =AB6-AB7 -> 450474.51 | ... AF8: =AF6-AF7 -> 811407.33 | AG8: -58354.763 | AH8: 327304.51 | AI8: 72254.546 | AJ8: 167177.35 | AK8: -12376.686 | AL8: 46018.464 | AM8: -92382.443 | AN8: 440033.38 | AO8: 264376.47 | AP8: 108538.39 | AQ8: 515.81996 | AR8: 892247.42 | AS8: =AS6-AS7 -> 641074 | AT8: =AT6-AT7 -> 708676 | AU8: =AU6-AU7 -> 449364 | AV8: =AV6-AV7 -> 1151276 | AW8: =AW6-AW7 -> 404388 | AX8: =AX6-AX7 -> 881586 | AY8: =AY6-AY7 -> 0 | AZ8: =AZ6-AZ7 -> 0 | ... BD8: =BD6-BD7 -> 0
A9: Indonesia | B9: Total Exports | C9: 94661.346 | D9: 287439.28 | E9: 192494.35 | F9: 318919.79 | G9: 762749.73 | H9: =SUM(AS9:BD9) -> 240601.39 | I9: 37214.876 | J9: 7198.3724 | K9: 14666.57 | L9: 10715.662 | M9: 19347.923 | N9: 11621.311 | O9: 42125.85 | P9: 15530.985 | Q9: 6069.5422 | R9: 8981.703 | S9: 10539.161 | T9: 8482.3948 | U9: 14875.49 | V9: 16952.409 | W9: 14147.693 | X9: 9932.6216 | Y9: 22657.145 | Z9: 39890.55 | AA9: 83304.322 | AB9: 24360.48 | AC9: 56009.469 | AD9: 14941.766 | AE9: 7857.7029 | AF9: 13990.143 | AG9: 8643.0672 | AH9: 8676.5294 | AI9: 14978.355 | AJ9: 24625.956 | AK9: 304890.91 | AL9: 110521.22 | AM9: 63647.833 | AN9: 93400.477 | AO9: 25598.453 | AP9: 26260.124 | AQ9: 36667.408 | AR9: 44839.396 | AS9: 62135.243 | AT9: 45969.483 | AU9: 20959.59 | AV9: 46319.522 | AW9: 29392.425 | AX9: 35825.126
B10: Imports | C10: 487475.7 | D10: 671418.08 | E10: 970642.16 | F10: 897090.23 | G10: 1000262.7 | H10: =SUM(AS10:BD10) -> 537692 | I10: 83399.292 | J10: 57985.591 | K10: 75335.5 | L10: 64734.161 | M10: 68675.892 | N10: 84581.11 | O10: 100237.84 | P10: 104401.64 | Q10: 76893.272 | R10: 95307 | S10: 58717.592 | T10: 100373.27 | U10: 113124.43 | V10: 56056.381 | W10: 82466.891 | X10: 69897.758 | Y10: 76161.996 | Z10: 48636.821 | AA10: 112780.62 | AB10: 83589.579 | AC10: 63571.35 | AD10: 67546.558 | AE10: 62784.028 | AF10: 60473.813 | AG10: 85288.089 | AH10: 67485.914 | AI10: 72408.367 | AJ10: 64680.816 | AK10: 58960.705 | AL10: 59487.449 | AM10: 101963.72 | AN10: 93268.782 | AO10: 87406.026 | AP10: 133861.3 | AQ10: 81195.594 | AR10: 94255.951 | AS10: 83062 | AT10: 106200 | AU10: 84760 | AV10: 60010 | AW10: 113677 | AX10: 89983
B11: Balance | C11: =C9-C10 -> -392814.35 | D11: =D9-D10 -> -383978.8 | E11: =E9-E10 -> -778147.81 | F11: -578170.44 | G11: -237512.98 | H11: =SUM(AS11:BD11) -> -297090.61 | I11: =I9-I10 -> -46184.417 | J11: =J9-J10 -> -50787.219 | K11: =K9-K10 -> -60668.93 | L11: =L9-L10 -> -54018.499 | M11: =M9-M10 -> -49327.969 | N11: =N9-N10 -> -72959.799 | O11: =O9-O10 -> -58111.992 | P11: =P9-P10 -> -88870.65 | ... AF11: =AF9-AF10 -> -46483.67 | AG11: -76645.021 | AH11: -58809.384 | AI11: -57430.012 | AJ11: -40054.86 | AK11: 245930.2 | AL11: 51033.771 | AM11: -38315.888 | AN11: 131.69562 | AO11: -61807.573 | AP11: -107601.18 | AQ11: -44528.187 | AR11: -49416.555 | AS11: =AS9-AS10 -> -20926.757 | AT11: =AT9-AT10 -> -60230.517 | AU11: =AU9-AU10 -> -63800.41 | AV11: =AV9-AV10 -> -13690.478 | AW11: =AW9-AW10 -> -84284.575 | AX11: =AX9-AX10 -> -54157.874 | AY11: =AY9-AY10 -> 0 | AZ11: =AZ9-AZ10 -> 0 | ... BD11: =BD9-BD10 -> 0
A12: Singapore | B12: Exports | C12: 1299729.3 | D12: 2443374.7 | E12: 1455311.5 | F12: 1693855.9 | G12: 3348477.1 | H12: =SUM(AS12:BD12) -> 2000976.7 | I12: 128496.71 | J12: 61288.999 | K12: 22276.95 | L12: 8984.3419 | M12: 268384.41 | N12: 184951.64 | O12: 4700.2493 | P12: 5451.5293 | Q12: 120307.54 | R12: 3030.0987 | S12: 273837.2 | T12: 373601.84 | U12: 23975.761 | V12: 19361.164 | W12: 177731.78 | X12: 2818.5097 | Y12: 41735.448 | Z12: 562275.44 | AA12: 209467.48 | AB12: 375200.99 | AC12: 15009.042 | AD12: 43515.193 | AE12: 220775.26 | AF12: 1989.7914 | AG12: 517273.37 | AH12: 5593.336 | AI12: 406013.98 | AJ12: 938001.35 | AK12: 119841.53 | AL12: 75169.954 | AM12: 236948.87 | AN12: 303352.8 | AO12: 78593.133 | AP12: 206788.89 | AQ12: 258832.89 | AR12: 202066.94 | AS12: 524396.43 | AT12: 51716.446 | AU12: 1555.3647 | AV12: 369910.22 | AW12: 624448.47 | AX12: 428949.75
B13: Imports | C13: 2126768.7 | D13: 2495339.3 | E13: 3144210.3 | F13: 3583323.4 | G13: 4374425.7 | H13: =SUM(AS13:BD13) -> 2145280 | I13: 255740.45 | J13: 302434.34 | K13: 301660.11 | L13: 268345.88 | M13: 237741.76 | N13: 204313.42 | O13: 248551.58 | P13: 251472.46 | Q13: 224434.71 | R13: 277290.46 | S13: 221217 | T13: 351008.12 | U13: 301332.6 | V13: 524448.78 | W13: 480955.43 | X13: 170297.98 | Y13: 408211.96 | Z13: 204345.74 | AA13: 162806.79 | AB13: 156677.35 | AC13: 300258.33 | AD13: 320736.16 | AE13: 367960.95 | AF13: 185291.29 | AG13: 446227.45 | AH13: 278274.72 | AI13: 298839.49 | AJ13: 304109.58 | AK13: 313950.27 | AL13: 399568.86 | AM13: 455152.05 | AN13: 334580.85 | AO13: 366897.28 | AP13: 635612.15 | AQ13: 238592.66 | AR13: 302620.36 | AS13: 370227 | AT13: 412877 | AU13: 505410 | AV13: 321169 | AW13: 302326 | AX13: 233271
B14: Balance | C14: -827039.41 | D14: -51964.602 | E14: -1688898.8 | F14: -1889467.5 | G14: -1025948.7 | H14: =SUM(AS14:BD14) -> -144303.33 | I14: -127243.74 | J14: -241145.34 | K14: -279383.16 | L14: -259361.54 | M14: 30642.647 | N14: -19361.777 | O14: -243851.33 | P14: -246020.93 | Q14: -104127.16 | R14: -274260.36 | S14: 52620.205 | T14: 22593.72 | U14: =U12-U13 -> -277356.84 | V14: =V12-V13 -> -505087.62 | W14: =W12-W13 -> -303223.66 | X14: =X12-X13 -> -167479.47 | Y14: =Y12-Y13 -> -366476.51 | Z14: =Z12-Z13 -> 357929.71 | AA14: =AA12-AA13 -> 46660.683 | AB14: =AB12-AB13 -> 218523.64 | ... AF14: =AF12-AF13 -> -183301.49 | AG14: 71045.925 | AH14: -272681.38 | AI14: 107174.49 | AJ14: 633891.77 | AK14: -194108.74 | AL14: -324398.9 | AM14: -218203.18 | AN14: -31228.043 | AO14: -288304.14 | AP14: -428823.26 | AQ14: 20240.231 | AR14: -100553.42 | AS14: =AS12-AS13 -> 154169.43 | AT14: =AT12-AT13 -> -361160.55 | AU14: =AU12-AU13 -> -503854.64 | AV14: =AV12-AV13 -> 48741.216 | AW14: =AW12-AW13 -> 322122.47 | AX14: =AX12-AX13 -> 195678.75 | AY14: =AY12-AY13 -> 0 | AZ14: =AZ12-AZ13 -> 0 | ... BD14: =BD12-BD13 -> 0
A15: Taiwan | B15: Total Exports | C15: 2617455.6 | D15: 2427730.5 | E15: 2213069.7 | F15: 6647348.1 | G15: 3609607.8 | H15: =SUM(AS15:BD15) -> 2720553.7 | I15: 264511.86 | J15: 124142.28 | K15: 134047.28 | L15: 140272.8 | M15: 176515.52 | N15: 200524.1 | O15: 178261.69 | P15: 318685.73 | Q15: 238352.39 | R15: 121551.26 | S15: 141062.77 | T15: 175142.02 | U15: 193696.73 | V15: 1398883.2 | W15: 529071.57 | X15: 324874.68 | Y15: 736925.15 | Z15: 355187.79 | AA15: 569042.14 | AB15: 643121.88 | AC15: 547784.17 | AD15: 202750.43 | AE15: 575756.26 | AF15: 570254.01 | AG15: 594669.01 | AH15: 198477.96 | AI15: 452689.63 | AJ15: 1300.8631 | AK15: 212310.5 | AL15: 383750.46 | AM15: 424328.82 | AN15: 431600.22 | AO15: 223319.29 | AP15: 216302.86 | AQ15: 247743.03 | AR15: 223115.11 | AS15: 444202.41 | AT15: 842216.78 | AU15: 405967.05 | AV15: 206882.52 | AW15: 412251.01 | AX15: 409033.96
B16: Imports | C16: 102287.88 | D16: 143822.12 | E16: 192105.41 | F16: 482987.47 | G16: 166201.31 | H16: =SUM(AS16:BD16) -> 80721 | I16: 16925.943 | J16: 25020.644 | K16: 8476.5984 | L16: 29817.704 | M16: 20564.81 | N16: 18741.105 | O16: 16767.731 | P16: 7867.1034 | Q16: 11040.437 | R16: 7366.9903 | S16: 23137.03 | T16: 6379.3113 | U16: 4751.5001 | V16: 2329.057 | W16: 196286.89 | X16: 17487.901 | Y16: 9498.2356 | Z16: 7633.7321 | AA16: 8959.743 | AB16: 15099.015 | AC16: 75008.456 | AD16: 104439.17 | AE16: 36339.852 | AF16: 5153.9121 | AG16: 8365.688 | AH16: 7503.6896 | AI16: 4537.884 | AJ16: 2752.6873 | AK16: 20397.626 | AL16: 26907.256 | AM16: 16627.076 | AN16: 18153.335 | AO16: 11337.944 | AP16: 12073.935 | AQ16: 19036.909 | AR16: 18507.282 | AS16: 23326 | AT16: 14659 | AU16: 4058 | AV16: 5646 | AW16: 12035 | AX16: 20997
B17: Balance | C17: =C15-C16 -> 2515167.7 | D17: =D15-D16 -> 2283908.4 | E17: =E15-E16 -> 2020964.3 | F17: 6164360.6 | G17: 3443406.5 | H17: =SUM(AS17:BD17) -> 2639832.7 | I17: 247585.91 | J17: 99121.631 | K17: 125570.68 | L17: 110455.09 | M17: 155950.71 | N17: 181782.99 | O17: 161493.96 | P17: 310818.63 | Q17: 227311.95 | R17: 114184.27 | S17: 117925.74 | T17: 168762.71 | U17: =U15-U16 -> 188945.23 | V17: =V15-V16 -> 1396554.2 | W17: =W15-W16 -> 332784.68 | X17: =X15-X16 -> 307386.78 | Y17: =Y15-Y16 -> 727426.91 | Z17: =Z15-Z16 -> 347554.06 | AA17: =AA15-AA16 -> 560082.4 | AB17: =AB15-AB16 -> 628022.87 | ... AF17: =AF15-AF16 -> 565100.09 | AG17: 586303.32 | AH17: 190974.27 | AI17: 448151.75 | AJ17: -1451.8242 | AK17: 191912.88 | AL17: 356843.2 | AM17: 407701.74 | AN17: 413446.88 | AO17: 211981.35 | AP17: 204228.93 | AQ17: 228706.12 | AR17: 204607.83 | AS17: =AS15-AS16 -> 420876.41 | AT17: =AT15-AT16 -> 827557.78 | AU17: =AU15-AU16 -> 401909.05 | AV17: =AV15-AV16 -> 201236.52 | AW17: =AW15-AW16 -> 400216.01 | AX17: =AX15-AX16 -> 388036.96 | AY17: =AY15-AY16 -> 0 | AZ17: =AZ15-AZ16 -> 0 | ... BD17: =BD15-BD16 -> 0
A18: China | B18: Total Exports | C18: 6441011.4 | D18: 6131619.7 | E18: 6763141.9 | F18: 3270403.7 | G18: 9904992 | H18: =SUM(AS18:BD18) -> 3601860.9 | I18: 500076.21 | J18: 517634.54 | K18: 693301.69 | L18: 701228.39 | M18: 517683.59 | N18: 207161.63 | O18: 461688.61 | P18: 548519.65 | Q18: 577331.69 | R18: 553267.85 | S18: 982547.84 | T18: 502700.19 | U18: 312624.61 | V18: 208700.12 | W18: 360300.99 | X18: 243433.18 | Y18: 214184.66 | Z18: 162587.88 | AA18: 123091.8 | AB18: 858563.12 | AC18: 140669.89 | AD18: 349868.21 | AE18: 183001.16 | AF18: 113378.04 | AG18: 1031131.4 | AH18: 1051647.8 | AI18: 355111.88 | AJ18: 1360589.5 | AK18: 504797.03 | AL18: 566353.24 | AM18: 1038740.3 | AN18: 1259922.1 | AO18: 649230.07 | AP18: 836707.5 | AQ18: 656363.37 | AR18: 594397.8 | AS18: 584130.94 | AT18: 523936.5 | AU18: 591444.53 | AV18: 639184.64 | AW18: 640587.08 | AX18: 622577.19
B19: Imports | C19: 2631983.1 | D19: 2751337.7 | E19: 3685361.1 | F19: 4176690.8 | G19: 4379426.7 | H19: =SUM(AS19:BD19) -> 2564369 | I19: 280464.16 | J19: 239087.07 | K19: 287554.95 | L19: 247887.08 | M19: 298088.05 | N19: 318955.23 | O19: 355641.36 | P19: 348141.74 | Q19: 348357.32 | R19: 273365.47 | S19: 450597.92 | T19: 237220.72 | U19: 350727.29 | V19: 255288.76 | W19: 257114.18 | X19: 347126.22 | Y19: 375989.23 | Z19: 326483.88 | AA19: 355183.65 | AB19: 398243.81 | AC19: 286205.88 | AD19: 384688.68 | AE19: 473002.99 | AF19: 366646.23 | AG19: 399090.42 | AH19: 331548.46 | AI19: 233664.33 | AJ19: 356835.24 | AK19: 424462.08 | AL19: 326399.63 | AM19: 345132.84 | AN19: 390913.81 | AO19: 381743.31 | AP19: 439200.17 | AQ19: 361529.39 | AR19: 388907.03 | AS19: 462131 | AT19: 352156 | AU19: 276886 | AV19: 456822 | AW19: 625723 | AX19: 390651
B20: Balance | C20: 3809028.4 | D20: 3380282.1 | E20: 3077780.8 | F20: -906287.14 | G20: 5525565.2 | H20: =SUM(AS20:BD20) -> 1037491.9 | I20: 219612.05 | J20: 278547.47 | K20: 405746.74 | L20: 453341.31 | M20: 219595.54 | N20: -111793.6 | O20: 106047.26 | P20: 200377.91 | Q20: 228974.37 | R20: 279902.38 | S20: 531949.92 | T20: 265479.47 | U20: =U18-U19 -> -38102.673 | V20: =V18-V19 -> -46588.646 | W20: =W18-W19 -> 103186.82 | X20: =X18-X19 -> -103693.05 | Y20: =Y18-Y19 -> -161804.57 | Z20: =Z18-Z19 -> -163896 | AA20: =AA18-AA19 -> -232091.85 | AB20: =AB18-AB19 -> 460319.31 | ... AF20: =AF18-AF19 -> -253268.19 | AG20: 632041.03 | AH20: 720099.33 | AI20: 121447.56 | AJ20: 1003754.2 | AK20: 80334.948 | AL20: 239953.61 | AM20: 693607.43 | AN20: 869008.28 | AO20: 267486.76 | AP20: 397507.34 | AQ20: 294833.98 | AR20: 205490.77 | AS20: =AS18-AS19 -> 121999.94 | AT20: =AT18-AT19 -> 171780.5 | AU20: =AU18-AU19 -> 314558.53 | AV20: =AV18-AV19 -> 182362.64 | AW20: =AW18-AW19 -> 14864.076 | AX20: =AX18-AX19 -> 231926.19 | AY20: =AY18-AY19 -> 0 | AZ20: =AZ18-AZ19 -> 0 | ... BD20: =BD18-BD19 -> 0
A21: Malaysia | B21: Total Exports | C21: 666782.5 | D21: 954953.56 | E21: 1265208.4 | F21: 785928.85 | G21: 1535626.5 | H21: =SUM(AS21:BD21) -> 1141829.6 | I21: 242027.05 | J21: 96549.137 | K21: 85349.068 | L21: 119693.95 | M21: 83247.78 | N21: 163883.13 | O21: 91229.872 | P21: 97387.264 | Q21: 74051.263 | R21: 90578.178 | S21: 59924.66 | T21: 61287.079 | U21: 92896.867 | V21: 88683.711 | W21: 37336.751 | X21: 108534.29 | Y21: 36526.029 | Z21: 64599.594 | AA21: 62779.449 | AB21: 76398.56 | AC21: 33773.339 | AD21: 29039.435 | AE21: 78174.874 | AF21: 77185.95 | AG21: 76986.507 | AH21: 51883.825 | AI21: 129139.67 | AJ21: 105679.65 | AK21: 150005.31 | AL21: 129997.25 | AM21: 129151.31 | AN21: 278727.68 | AO21: 101793.46 | AP21: 174227.06 | AQ21: 112755.37 | AR21: 95279.388 | AS21: 91658.239 | AT21: 122491.92 | AU21: 165572.72 | AV21: 189833.28 | AW21: 270878.83 | AX21: 301394.65
B22: Imports | C22: 1087930.7 | D22: 1007576.9 | E22: 1631815.3 | F22: 1586259.8 | G22: 1198634.5 | H22: =SUM(AS22:BD22) -> 759340 | I22: 131785.59 | J22: 81108.63 | K22: 130533.62 | L22: 93954.944 | M22: 151982.96 | N22: 138225.65 | O22: 85741.205 | P22: 216753.83 | Q22: 186447.4 | R22: 172805.13 | S22: 159188.37 | T22: 83287.913 | U22: 100192.69 | V22: 66342.96 | W22: 143124.62 | X22: 110638.57 | Y22: 82987.284 | Z22: 144146.75 | AA22: 128113.67 | AB22: 186751.74 | AC22: 110192.37 | AD22: 133352.91 | AE22: 248126.21 | AF22: 132290.07 | AG22: 113928.72 | AH22: 119664.33 | AI22: 77361.615 | AJ22: 104314.39 | AK22: 82354.155 | AL22: 95145.856 | AM22: 124353.07 | AN22: 116597.37 | AO22: 88167.182 | AP22: 112032.5 | AQ22: 91838.538 | AR22: 72876.731 | AS22: 99065 | AT22: 139299 | AU22: 134677 | AV22: 86304 | AW22: 149366 | AX22: 150629
B23: Balance | C23: -421148.18 | D23: -52623.33 | E23: -366606.83 | F23: -800331 | G23: 336992.03 | H23: =SUM(AS23:BD23) -> 382489.65 | I23: 110241.45 | J23: 15440.506 | K23: -45184.55 | L23: 25739.007 | M23: -68735.18 | N23: 25657.481 | O23: 5488.6665 | P23: -119366.57 | Q23: -112396.14 | R23: -82226.953 | S23: -99263.711 | T23: -22000.834 | U23: =U21-U22 -> -7295.8185 | V23: =V21-V22 -> 22340.751 | W23: =W21-W22 -> -105787.87 | X23: =X21-X22 -> -2104.287 | Y23: =Y21-Y22 -> -46461.255 | Z23: =Z21-Z22 -> -79547.16 | AA23: =AA21-AA22 -> -65334.219 | AB23: =AB21-AB22 -> -110353.18 | ... AF23: =AF21-AF22 -> -55104.124 | AG23: -36942.209 | AH23: -67780.503 | AI23: 51778.055 | AJ23: 1365.2571 | AK23: 67651.159 | AL23: 34851.399 | AM23: 4798.2426 | AN23: 162130.31 | AO23: 13626.276 | AP23: 62194.553 | AQ23: 20916.835 | AR23: 22402.657 | AS23: =AS21-AS22 -> -7406.761 | AT23: =AT21-AT22 -> -16807.076 | AU23: =AU21-AU22 -> 30895.722 | AV23: =AV21-AV22 -> 103529.28 | AW23: =AW21-AW22 -> 121512.83 | AX23: =AX21-AX22 -> 150765.65 | AY23: =AY21-AY22 -> 0 | AZ23: =AZ21-AZ22 -> 0 | ... BD23: =BD21-BD22 -> 0
A24: Japan | B24: Total Exports | C24: 7822200.5 | D24: 7675170.8 | E24: 9246139.1 | F24: 9947559.7 | G24: 11856134 | H24: =SUM(AS24:BD24) -> 6459865.5 | I24: 830894.08 | J24: 457225.94 | K24: 2491680.8 | L24: 646461.17 | M24: 394593.16 | N24: 835031.14 | O24: 870757.39 | P24: 236951.38 | Q24: 776085.43 | R24: 786601.84 | S24: 591168.37 | T24: 328688.45 | U24: 1450852.5 | V24: 726682.89 | W24: 898952.27 | X24: 851984.76 | Y24: 475916.66 | Z24: 836116.32 | AA24: 777323.42 | AB24: 682597.35 | AC24: 1148347.3 | AD24: 326879.54 | AE24: 674525.01 | AF24: 1097381.7 | AG24: 1324981.2 | AH24: 855892.21 | AI24: 731169.45 | AJ24: 344287.41 | AK24: 1105689.3 | AL24: 683792.26 | AM24: 1191837.5 | AN24: 701367.91 | AO24: 1263558.4 | AP24: 1023224.5 | AQ24: 959210.73 | AR24: 1671123.5 | AS24: 782742.25 | AT24: 1398785.4 | AU24: 1464972.2 | AV24: 1024370 | AW24: 811429.48 | AX24: 977566.23
B25: Imports | C25: 633465.81 | D25: 547491.96 | E25: 709650.88 | F25: 810646.85 | G25: 1075672.6 | H25: =SUM(AS25:BD25) -> 508802 | I25: 46040.164 | J25: 47705.259 | K25: 35672.104 | L25: 63642.322 | M25: 55042.205 | N25: 54299.52 | O25: 44789.259 | P25: 59947.735 | Q25: 134686.7 | R25: 46596.357 | S25: 57713.893 | T25: 63515.363 | U25: 70294.934 | V25: 42719.884 | W25: 44187.193 | X25: 57888.212 | Y25: 55095.744 | Z25: 50878.389 | AA25: 100616.43 | AB25: 77955.152 | AC25: 72094.296 | AD25: 73798.319 | AE25: 83264.599 | AF25: 81853.696 | AG25: 80397.81 | AH25: 77869.442 | AI25: 76902.792 | AJ25: 100482.27 | AK25: 111853.87 | AL25: 96592.433 | AM25: 73782.54 | AN25: 139914.85 | AO25: 63434.124 | AP25: 84519.082 | AQ25: 82916.615 | AR25: 87006.744 | AS25: 31137 | AT25: 118101 | AU25: 127740 | AV25: 91108 | AW25: 78879 | AX25: 61837
B26: Balance | C26: 7188734.7 | D26: 7127678.8 | E26: 8536488.3 | F26: 9136912.8 | G26: 10780462 | H26: =SUM(AS26:BD26) -> 5951063.5 | I26: 784853.91 | J26: 409520.68 | K26: 2456008.7 | L26: 582818.85 | M26: 339550.96 | N26: 780731.62 | O26: 825968.13 | P26: 177003.64 | Q26: 641398.73 | R26: 740005.48 | S26: 533454.48 | T26: 265173.09 | U26: =U24-U25 -> 1380557.6 | V26: =V24-V25 -> 683963 | W26: =W24-W25 -> 854765.07 | X26: =X24-X25 -> 794096.55 | Y26: =Y24-Y25 -> 420820.92 | Z26: =Z24-Z25 -> 785237.93 | AA26: =AA24-AA25 -> 676706.99 | AB26: =AB24-AB25 -> 604642.19 | ... AF26: =AF24-AF25 -> 1015528 | AG26: 1244583.4 | AH26: 778022.76 | AI26: 654266.66 | AJ26: 243805.14 | AK26: 993835.45 | AL26: 587199.83 | AM26: 1118054.9 | AN26: 561453.06 | AO26: 1200124.3 | AP26: 938705.44 | AQ26: 876294.12 | AR26: 1584116.8 | AS26: =AS24-AS25 -> 751605.25 | AT26: =AT24-AT25 -> 1280684.4 | AU26: =AU24-AU25 -> 1337232.2 | AV26: =AV24-AV25 -> 933262 | AW26: =AW24-AW25 -> 732550.48 | AX26: =AX24-AX25 -> 915729.23 | AY26: =AY24-AY25 -> 0 | AZ26: =AZ24-AZ25 -> 0 | ... BD26: =BD24-BD25 -> 0
A27: United Kingdom | B27: Total Exports | C27: 319630.21 | D27: 448800.85 | E27: 671910.78 | F27: 918228.61 | G27: 846791.48 | H27: =SUM(AS27:BD27) -> 453105.79 | I27: 2657.4911 | J27: 43242.376 | K27: 8022.7388 | L27: 2509.6229 | M27: 260617.89 | N27: 12437.903 | O27: 67402.351 | P27: 32679.256 | Q27: 146998.77 | R27: 43963.549 | S27: 9392.2125 | T27: 41986.629 | U27: 55030.739 | V27: 31067.736 | W27: 136211.86 | X27: 19976.784 | Y27: 64507.211 | Z27: 28942.562 | AA27: 24112.682 | AB27: 42782.054 | AC27: 330367.15 | AD27: 32341.909 | AE27: 0 | AF27: 152887.92 | AG27: 23789.702 | AH27: 31563.04 | AI27: 4523.1537 | AJ27: 150032.58 | AK27: 119060.69 | AL27: 1009.8343 | AM27: 72149.883 | AN27: 30550.788 | AO27: 250872.67 | AP27: 30864.848 | AQ27: 74553.091 | AR27: 57821.205 | AS27: 1892.2865 | AT27: 142092.11 | AU27: 106994.92 | AV27: 85572.876 | AW27: 97650.989 | AX27: 18902.608
B28: Imports | C28: 32012.399 | D28: 37366.876 | E28: 939.77202 | F28: 97920.234 | G28: 75101.182 | H28: =SUM(AS28:BD28) -> 28187.258 | I28: 0 | J28: 0.54466 | K28: 2.13041 | L28: 0 | M28: 129.11809 | N28: 7.93195 | O28: 17.86283 | P28: 156.60697 | Q28: 1.91804 | R28: 373.79372 | S28: 240.94865 | T28: 8.9167 | U28: 2033.8419 | V28: 3440.2852 | W28: 3593.5632 | X28: 21346.313 | Y28: 1645.5843 | Z28: 6135.6054 | AA28: 3603.7064 | AB28: 1496.3782 | AC28: 1586.689 | AD28: 25367.793 | AE28: 10160.334 | AF28: 17510.14 | AG28: 4629.1324 | AH28: 1552.2904 | AI28: 12140.564 | AJ28: 8599.971 | AK28: 6018.2241 | AL28: 2288.3972 | AM28: 1526.7608 | AN28: 1893.2334 | AO28: 2905.0027 | AP28: 6790.4734 | AQ28: 25646.002 | AR28: 1111.1307 | AS28: 1020.803 | AT28: 4097.023 | AU28: 5872.193 | AV28: 3239.988 | AW28: 9551.721 | AX28: 4405.53
B29: Balance | C29: 287617.81 | D29: 411433.97 | E29: 670971.01 | F29: 820308.38 | G29: 771690.3 | H29: =SUM(AS29:BD29) -> 424918.53 | I29: 2657.4911 | J29: 43241.831 | K29: 8020.6084 | L29: 2509.6229 | M29: 260488.77 | N29: 12429.971 | O29: 67384.489 | P29: 32522.649 | Q29: 146996.85 | R29: 43589.755 | S29: 9151.2638 | T29: 41977.713 | U29: =U27-U28 -> 52996.897 | V29: =V27-V28 -> 27627.45 | W29: =W27-W28 -> 132618.3 | X29: =X27-X28 -> -1369.5289 | Y29: =Y27-Y28 -> 62861.627 | Z29: =Z27-Z28 -> 22806.957 | AA29: =AA27-AA28 -> 20508.976 | AB29: =AB27-AB28 -> 41285.676 | ... AF29: =AF27-AF28 -> 135377.78 | AG29: 19160.569 | AH29: 30010.75 | AI29: -7617.4101 | AJ29: 141432.6 | AK29: 113042.47 | AL29: -1278.5629 | AM29: 70623.122 | AN29: 28657.555 | AO29: 247967.67 | AP29: 24074.375 | AQ29: 48907.089 | AR29: 56710.075 | AS29: =AS27-AS28 -> 871.48345 | AT29: =AT27-AT28 -> 137995.09 | AU29: =AU27-AU28 -> 101122.73 | AV29: =AV27-AV28 -> 82332.888 | AW29: =AW27-AW28 -> 88099.268 | AX29: =AX27-AX28 -> 14497.078 | AY29: =AY27-AY28 -> 0 | AZ29: =AZ27-AZ28 -> 0 | ... BD29: =BD27-BD28 -> 0
A30: South Korea | B30: Total Exports | C30: 1330178 | D30: 1355733.3 | E30: 1899970.2 | F30: 2644414.4 | G30: 2516556.9 | H30: =SUM(AS30:BD30) -> 2971729.7 | I30: 46185.717 | J30: 56946.411 | K30: 371482.79 | L30: 33722.155 | M30: 63106.287 | N30: 303626.58 | O30: 230436.46 | P30: 173855.57 | Q30: 230534.96 | R30: 78737.782 | S30: 207170.47 | T30: 104164.98 | U30: 936925.9 | V30: 376176.98 | W30: 570582.21 | X30: 0 | Y30: 168033.18 | Z30: 372122.37 | AA30: 0 | AB30: 13961.636 | AC30: 0 | AD30: 156808.33 | AE30: 0 | AF30: 49803.813 | AG30: 50527.885 | AH30: 73027.76 | AI30: 29083.941 | AJ30: 174728.64 | AK30: 93548.109 | AL30: 69883.136 | AM30: 256495.59 | AN30: 183639.86 | AO30: 510218.88 | AP30: 431753.08 | AQ30: 355180.16 | AR30: 288469.84 | AS30: 650471.04 | AT30: 163813.21 | AU30: 308101.74 | AV30: 555232.41 | AW30: 547976.8 | AX30: 746134.47
B31: Imports | C31: 168761.05 | D31: 155182.17 | E31: 366129.98 | F31: 522134.08 | G31: 598256.94 | H31: =SUM(AS31:BD31) -> 184273 | I31: 52050.905 | J31: 21645.573 | K31: 29124.145 | L31: 21077.607 | M31: 20813.522 | N31: 26123.919 | O31: 10419.992 | P31: 71772.879 | Q31: 36208.162 | R31: 10703.956 | S31: 28974.921 | T31: 37214.399 | U31: 55343.153 | V31: 17632.663 | W31: 46995.462 | X31: 74513.579 | Y31: 52003.048 | Z31: 44028.356 | AA31: 67757.793 | AB31: 62418.012 | AC31: 45030.128 | AD31: 24126.577 | AE31: 10195.829 | AF31: 22089.483 | AG31: 58505.446 | AH31: 163360.1 | AI31: 47553.059 | AJ31: 69282.883 | AK31: 69714.684 | AL31: 12564.948 | AM31: 26699.549 | AN31: 26237.541 | AO31: 18132.924 | AP31: 21795.401 | AQ31: 30063.355 | AR31: 54347.043 | AS31: 40756 | AT31: 25554 | AU31: 31763 | AV31: 30833 | AW31: 38506 | AX31: 16861
B32: Balance | C32: =C30-C31 -> 1161417 | D32: =D30-D31 -> 1200551.2 | E32: =E30-E31 -> 1533840.2 | F32: 2122280.3 | G32: 1918299.9 | H32: =SUM(AS32:BD32) -> 2787456.7 | I32: =I30-I31 -> -5865.1882 | J32: =J30-J31 -> 35300.838 | K32: =K30-K31 -> 342358.64 | L32: =L30-L31 -> 12644.547 | M32: =M30-M31 -> 42292.765 | N32: =N30-N31 -> 277502.66 | O32: =O30-O31 -> 220016.47 | P32: =P30-P31 -> 102082.69 | ... AF32: =AF30-AF31 -> 27714.329 | AG32: -7977.5602 | AH32: -90332.345 | AI32: -18469.118 | AJ32: 105445.75 | AK32: 23833.426 | AL32: 57318.188 | AM32: 229796.04 | AN32: 157402.32 | AO32: 492085.96 | AP32: 409957.68 | AQ32: 325116.81 | AR32: 234122.79 | AS32: =AS30-AS31 -> 609715.04 | AT32: =AT30-AT31 -> 138259.21 | AU32: =AU30-AU31 -> 276338.74 | AV32: =AV30-AV31 -> 524399.41 | AW32: =AW30-AW31 -> 509470.8 | AX32: =AX30-AX31 -> 729273.47 | AY32: =AY30-AY31 -> 0 | AZ32: =AZ30-AZ31 -> 0 | ... BD32: =BD30-BD31 -> 0
A33: New zealand | B33: Total Exports | C33: 42653.437 | D33: 40852.077 | E33: 57575.933 | F33: 64639.864 | G33: 74673.571 | H33: =SUM(AS33:BD33) -> 61040.332 | I33: 3579.4878 | J33: 2842.4405 | K33: 7149.9738 | L33: 4137.9713 | M33: 5287.6042 | N33: 4922.9109 | O33: 3629.7873 | P33: 6685.364 | Q33: 5606.939 | R33: 2320.9227 | S33: 6900.3684 | T33: 4512.1631 | U33: 5438.2368 | V33: 5217.8417 | W33: 3915.5411 | X33: 4944.4151 | Y33: 5634.7484 | Z33: 2950.3313 | AA33: 6749.3229 | AB33: 6202.8455 | AC33: 5348.0832 | AD33: 5323.3218 | AE33: 5358.2386 | AF33: 7556.9381 | AG33: 3191.268 | AH33: 4094.6724 | AI33: 3692.0799 | AJ33: 6802.2961 | AK33: 5497.4389 | AL33: 4124.4279 | AM33: 9784.7901 | AN33: 6401.7965 | AO33: 5122.3434 | AP33: 8911.5864 | AQ33: 7628.8379 | AR33: 9422.0337 | AS33: 6545.6489 | AT33: 5265.8991 | AU33: 7906.2766 | AV33: 5991.5378 | AW33: 25300.289 | AX33: 10030.68
B34: Imports | C34: 421929.48 | D34: 431098.08 | E34: 448162.37 | F34: 456154.95 | G34: 611402.58 | H34: =SUM(AS34:BD34) -> 260932 | I34: 13162.427 | J34: 27261.695 | K34: 34939.921 | L34: 44489.553 | M34: 46006.021 | N34: 48730.019 | O34: 30894.75 | P34: 36520.347 | Q34: 31685.344 | R34: 48754.819 | S34: 53095.746 | T34: 32621.726 | U34: 24760.533 | V34: 42866.004 | W34: 54027.065 | X34: 22580.557 | Y34: 60800.56 | Z34: 32826.513 | AA34: 26591.467 | AB34: 44123.919 | AC34: 25160.121 | AD34: 36692.911 | AE34: 54474.314 | AF34: 31250.99 | AG34: 37282.427 | AH34: 49713.105 | AI34: 35562.766 | AJ34: 48742.48 | AK34: 62243.358 | AL34: 37332.105 | AM34: 57098.924 | AN34: 56995.149 | AO34: 64947.58 | AP34: 67611.787 | AQ34: 40865.973 | AR34: 53006.928 | AS34: 35484 | AT34: 38162 | AU34: 54011 | AV34: 40576 | AW34: 62883 | AX34: 29816
B35: Balance | C35: -379276.05 | D35: -390246 | E35: -390586.44 | F35: -391515.09 | G35: -536729.01 | H35: =SUM(AS35:BD35) -> -199891.67 | I35: -9582.9391 | J35: -24419.255 | K35: -27789.948 | L35: -40351.582 | M35: -40718.416 | N35: -43807.108 | O35: -27264.963 | P35: -29834.983 | Q35: -26078.405 | R35: -46433.897 | S35: -46195.378 | T35: -28109.563 | U35: =U33-U34 -> -19322.296 | V35: =V33-V34 -> -37648.163 | W35: =W33-W34 -> -50111.524 | X35: =X33-X34 -> -17636.142 | Y35: =Y33-Y34 -> -55165.812 | Z35: =Z33-Z34 -> -29876.182 | AA35: =AA33-AA34 -> -19842.144 | AB35: =AB33-AB34 -> -37921.073 | ... AF35: =AF33-AF34 -> -23694.052 | AG35: -34091.159 | AH35: -45618.433 | AI35: -31870.686 | AJ35: -41940.184 | AK35: -56745.919 | AL35: -33207.677 | AM35: -47314.134 | AN35: -50593.352 | AO35: -59825.236 | AP35: -58700.201 | AQ35: -33237.135 | AR35: -43584.894 | AS35: =AS33-AS34 -> -28938.351 | AT35: =AT33-AT34 -> -32896.101 | AU35: =AU33-AU34 -> -46104.723 | AV35: =AV33-AV34 -> -34584.462 | AW35: =AW33-AW34 -> -37582.711 | AX35: =AX33-AX34 -> -19785.32 | AY35: =AY33-AY34 -> 0 | AZ35: =AZ33-AZ34 -> 0 | ... BD35: =BD33-BD34 -> 0
A36: Others | B36: Total Exports | C36: 10051886 | D36: 9944462.6 | E36: 12065641 | F36: 8524877.2 | G36: 8386201.8 | H36: =SUM(AS36:BD36) -> 4425348.7 | I36: 814411.46 | J36: 564963.43 | K36: 1222230.9 | L36: 689020.49 | M36: 1065569.1 | N36: 1183869.9 | O36: 1105630.7 | P36: 1121919.6 | Q36: 2075029 | R36: 651160.03 | S36: 961110.7 | T36: 610725.19 | U36: 838903.3 | V36: 599748.34 | W36: 1005797.3 | X36: 851523.04 | Y36: 1043479.7 | Z36: 368119.92 | AA36: 212187.06 | AB36: 555895.34 | AC36: 309688.1 | AD36: 835964.81 | AE36: 845111.27 | AF36: 1058459 | AG36: 775856.39 | AH36: 939215.21 | AI36: 883498.1 | AJ36: 531308.23 | AK36: 580714.39 | AL36: 430055 | AM36: 760344.69 | AN36: 608887.91 | AO36: 762339.66 | AP36: 890517.23 | AQ36: 779539.34 | AR36: 443925.63 | AS36: 375733.41 | AT36: 910669.33 | AU36: 618677.25 | AV36: 482655.61 | AW36: 1017926.5 | AX36: 1019686.5
B37: Imports | C37: 3026300.2 | D37: 2919950 | E37: 4275330.8 | F37: 3012247.7 | G37: 3614042.9 | H37: =SUM(AS37:BD37) -> 6649194.7 | I37: 548235.32 | J37: 498314.37 | K37: 543549.29 | L37: 492237.86 | M37: 627410.58 | N37: 573771.1 | O37: 582369.94 | P37: 732133.05 | Q37: 603335.42 | R37: 578655.55 | S37: 745627.52 | T37: 499299.09 | U37: 197783.56 | V37: 209861.95 | W37: 278215.52 | X37: 230234.39 | Y37: 349067.2 | Z37: 214438.72 | AA37: 290434.3 | AB37: 234359.58 | AC37: 229588.44 | AD37: 207130.05 | AE37: 332841.64 | AF37: 238292.39 | AG37: 318303.36 | AH37: 216419.58 | AI37: 218869.45 | AJ37: 297568 | AK37: 391614.06 | AL37: 249776.94 | AM37: 298699.73 | AN37: 374628.88 | AO37: 281833.46 | AP37: 352620.69 | AQ37: 355691.75 | AR37: 258016.96 | AS37: 1112934.2 | AT37: 964199.98 | AU37: 999875.81 | AV37: 947749.01 | AW37: 1217909.3 | AX37: 1406526.5
B38: Balance | C38: 7025585.4 | D38: 7024512.6 | E38: 7790309.7 | F38: 5512629.4 | G38: 4772158.9 | H38: =SUM(AS38:BD38) -> -2223846.1 | I38: 461726.58 | J38: 244719.78 | K38: 876044.97 | L38: 379542.07 | M38: 690654.86 | N38: 860996.87 | O38: 763378.98 | P38: 641906.39 | Q38: 1733524.9 | R38: 264759.42 | S38: 613356.56 | T38: 259698.31 | U38: =U36-U37 -> 641119.75 | V38: =V36-V37 -> 389886.39 | W38: =W36-W37 -> 727581.78 | X38: =X36-X37 -> 621288.64 | Y38: =Y36-Y37 -> 694412.49 | Z38: =Z36-Z37 -> 153681.2 | AA38: =AA36-AA37 -> -78247.237 | AB38: =AB36-AB37 -> 321535.76 | ... AF38: =AF36-AF37 -> 820166.61 | AG38: 457553.03 | AH38: 722795.63 | AI38: 664628.65 | AJ38: 233740.23 | AK38: 189100.33 | AL38: 180278.06 | AM38: 461644.95 | AN38: 234259.03 | AO38: 480506.2 | AP38: 537896.55 | AQ38: 423847.59 | AR38: 185908.67 | AS38: =AS36-AS37 -> -737200.78 | AT38: =AT36-AT37 -> -53530.651 | AU38: =AU36-AU37 -> -381198.56 | AV38: =AV36-AV37 -> -465093.4 | AW38: =AW36-AW37 -> -199982.75 | AX38: =AX36-AX37 -> -386839.92 | AY38: =AY36-AY37 -> 0 | AZ38: =AZ36-AZ37 -> 0 | ... BD38: =BD36-BD37 -> 0
A39: TOTAL | B39: Total Exports | C39: 35133482 | D39: 33977548 | E39: 38724948 | F39: 48388262 | G39: 53560884 | H39: =SUM(AS39:BD39) -> 32374443 | I39: 3230385.4 | J39: 2228504.9 | K39: 5093816.8 | L39: 2922203.1 | M39: 3228176.3 | N39: 3335595.6 | O39: 3209806.3 | P39: 2966844.3 | Q39: 4267802.5 | R39: 2464835.8 | S39: 3514572.5 | T39: 2262404.3 | U39: 3140835.5 | V39: 2408906.2 | W39: 3913596.2 | X39: 2950279.9 | Y39: 3255167.9 | Z39: 2872309.5 | AA39: 2571424.6 | AB39: 3829703.3 | AC39: 3002645.9 | AD39: 2667912.6 | AE39: 3019275.3 | AF39: 3123450.4 | AG39: 4997967.2 | AH39: 4053765.5 | AI39: 3715499.9 | AJ39: 4366815.2 | AK39: 3840891.7 | AL39: 3519085.2 | AM39: 4812688.4 | AN39: 4977854.5 | AO39: 4849568.1 | AP39: 4853865.3 | AQ39: 4390231.9 | AR39: 5182651.4 | AS39: =AS36+AS33+AS30+AS27+AS24+AS21+AS18+AS15+AS12+AS9+AS6 -> 4850167.9 | AT39: =AT36+AT33+AT30+AT27+AT24+AT21+AT18+AT15+AT12+AT9+AT6 -> 5510060.1 | AU39: =AU36+AU33+AU30+AU27+AU24+AU21+AU18+AU15+AU12+AU9+AU6 -> 4782087.6 | AV39: =AV36+AV33+AV30+AV27+AV24+AV21+AV18+AV15+AV12+AV9+AV6 -> 5359540.6 | AW39: =AW36+AW33+AW30+AW27+AW24+AW21+AW18+AW15+AW12+AW9+AW6 -> 5608436.9 | AX39: =AX36+AX33+AX30+AX27+AX24+AX21+AX18+AX15+AX12+AX9+AX6 -> 6264150.2
B40: Imports | C40: 16119440 | D40: 16048459 | E40: 20525989 | F40: 22285456 | G40: 25657148 | H40: =SUM(AS40:BD40) -> 13181099 | I40: 1624258.7 | J40: 1490514.2 | K40: 1711195.7 | L40: 1419520.4 | M40: 1783158.3 | N40: 1782389.9 | O40: 1598363.6 | P40: 2062334.7 | Q40: 1759153.1 | R40: 1885186.7 | S40: 1816597.9 | T40: 1593315.3 | U40: 1690431.9 | V40: 1777033.6 | W40: 2058137 | X40: 1597099.2 | Y40: 2011139.5 | Z40: 1672966.9 | AA40: 1821071.4 | AB40: 1792196.3 | AC40: 1708713.9 | AD40: 2020356.1 | AE40: 2219251.9 | AF40: 1917058.5 | AG40: 2201290.6 | AH40: 1819780.3 | AI40: 1711185.4 | AJ40: 1919649.7 | AK40: 2198482.2 | AL40: 2324473.8 | AM40: 2222677.5 | AN40: 2193153.4 | AO40: 2081350.1 | AP40: 2765886.6 | AQ40: 2228618.7 | AR40: 1990599.3 | AS40: =AS37+AS34+AS31+AS28+AS25+AS22+AS19+AS16+AS13 -> 2176081 | AT40: =AT37+AT34+AT31+AT28+AT25+AT22+AT19+AT16+AT13 -> 2069105 | AU40: =AU37+AU34+AU31+AU28+AU25+AU22+AU19+AU16+AU13 -> 2140293 | AV40: =AV37+AV34+AV31+AV28+AV25+AV22+AV19+AV16+AV13 -> 1983447 | AW40: =AW37+AW34+AW31+AW28+AW25+AW22+AW19+AW16+AW13 -> 2497179 | AX40: =AX37+AX34+AX31+AX28+AX25+AX22+AX19+AX16+AX13 -> 2314994 | AY40: =AY37+AY34+AY31+AY28+AY25+AY22+AY19+AY16+AY13 -> 0 | AZ40: =AZ37+AZ34+AZ31+AZ28+AZ25+AZ22+AZ19+AZ16+AZ13 -> 0 | ... BD40: =BD37+BD34+BD31+BD28+BD25+BD22+BD19+BD16+BD13 -> 0
B41: Balance | C41: 19014042 | D41: 17929089 | E41: 18198959 | F41: 26102805 | G41: 27903737 | H41: =SUM(AS41:BD41) -> 19193344 | I41: 1606126.7 | J41: 737990.73 | K41: 3382621 | L41: 1502682.7 | M41: 1445018 | N41: 1553205.7 | O41: 1611442.7 | P41: 904509.65 | Q41: 2508649.3 | R41: 579649.08 | S41: 1697974.6 | T41: 669088.96 | U41: =U39-U40 -> 1450403.6 | V41: =V39-V40 -> 631872.59 | W41: =W39-W40 -> 1855459.2 | X41: =X39-X40 -> 1353180.7 | Y41: =Y39-Y40 -> 1244028.4 | Z41: =Z39-Z40 -> 1199342.6 | AA41: =AA39-AA40 -> 750353.22 | AB41: =AB39-AB40 -> 2037507 | ... AF41: =AF39-AF40 -> 1206391.9 | AG41: 2796676.6 | AH41: 2233985.2 | AI41: 2004314.5 | AJ41: 2447165.5 | AK41: 1642409.5 | AL41: 1194611.4 | AM41: 2590010.8 | AN41: 2784701.1 | AO41: 2768218 | AP41: 2087978.6 | AQ41: 2161613.3 | AR41: 3192052.1 | AS41: =AS39-AS40 -> 2674086.9 | AT41: =AT39-AT40 -> 3440955.1 | AU41: =AU39-AU40 -> 2641794.6 | AV41: =AV39-AV40 -> 3376093.6 | AW41: =AW39-AW40 -> 3111257.9 | AX41: =AX39-AX40 -> 3949156.2 | AY41: =AY39-AY40 -> 0 | AZ41: =AZ39-AZ40 -> 0 | ... BD41: =BD39-BD40 -> 0
A43: Notes
A44: Source: Customs and Enterprises
A45: Classification used: HS 2022 from 2022
A46: p provisional
A47: r revised

Sheet 9_TradeRg
A1: Table 9 | B1: Trade by Region
B2: Kina (000)
C3: Annually
J4: 2022 | V4: 2023 | AH4: 2024 | AT4: 2025 p
A5: REGION | B5: TRADE | C5: 2020 | D5: 2021 | E5: 2022 | F5: 2023 | G5: 2024 | H5: 2025 p | I5: Dec | J5: Jan | K5: Feb | L5: Mar | M5: Apr | N5: May | O5: Jun | P5: Jul | Q5: Aug | R5: Sep | S5: Oct | T5: Nov | U5: Dec | V5: Jan | W5: Feb | X5: Mar | Y5: Apr | Z5: May | AA5: Jun | AB5: Jul | AC5: Aug | AD5: Sep | AE5: Oct | AF5: Nov | AG5: Dec | AH5: Jan | AI5: Feb | AJ5: Mar | AK5: Apr | AL5: May | AM5: Jun | AN5: Jul | AO5: Aug | AP5: Sep | AQ5: Oct | AR5: Nov | AS5: Dec | AT5: Jan | AU5: Feb | AV5: Mar | AW5: Apr | AX5: May | AY5: Jun | AZ5: Jul | BA5: Aug | BB5: Sept | BC5: Oct | BD5: Nov | BE5: Dec
A6: Africa | B6: Total Exports | C6: 11891.211 | D6: 6069.9821 | E6: 15114.798 | F6: 18245.917 | G6: 69513.076 | H6: =SUM(AT6:BE6) -> 31020.76 | I6: 2669.7087 | J6: 1483.7023 | K6: 9995.4258 | L6: 1243.5022 | M6: 930.00631 | N6: 0 | O6: 177.31935 | P6: 790.56926 | Q6: 1.15 | R6: 0.5572 | S6: 489.39763 | T6: 3.1681 | U6: 0 | V6: 2504.8342 | W6: 191.84763 | X6: 0.03942 | Y6: 14526.165 | Z6: 87.42529 | AA6: 2.56507 | AB6: 8.99799 | AC6: 59.02825 | AD6: 432.85995 | AE6: 0.17436 | AF6: 431.15136 | AG6: 0.82816 | AH6: 427.8688 | AI6: 25.00946 | AJ6: 38380.489 | AK6: 214.03023 | AL6: 4048.4634 | AM6: 16798.975 | AN6: 451.07744 | AO6: 423.70004 | AP6: 7590.3353 | AQ6: 136.53195 | AR6: 963.39519 | AS6: 53.19984 | AT6: 1.09102 | AU6: 13765.453 | AV6: 2418.9909 | AW6: 4741.5389 | AX6: 3229.0831 | AY6: 6864.6031
B7: Imports | C7: 24645.368 | D7: 20578.753 | E7: 22521.751 | F7: 118151.83 | G7: 132527.65 | H7: =SUM(AT7:BE7) -> 16429.475 | I7: 3059.2898 | J7: 1146.9261 | K7: 3472.9204 | L7: 1623.1166 | M7: 657.90436 | N7: 1507.753 | O7: 2220.8052 | P7: 871.38743 | Q7: 575.47698 | R7: 1539.7896 | S7: 2681.5131 | T7: 1819.9264 | U7: 4404.2322 | V7: 2297.6938 | W7: 2259.4444 | X7: 43005.351 | Y7: 1844.5387 | Z7: 35272.687 | AA7: 7343.988 | AB7: 5532.7029 | AC7: 4886.238 | AD7: 1329.0878 | AE7: 7185.8485 | AF7: 3829.633 | AG7: 3364.612 | AH7: 5552.3747 | AI7: 2764.7348 | AJ7: 14670.338 | AK7: 5276.3121 | AL7: 1336.6026 | AM7: 3234.2068 | AN7: 1258.4122 | AO7: 81423.436 | AP7: 5161.584 | AQ7: 3856.5824 | AR7: 5601.8946 | AS7: 2391.176 | AT7: 1826.5616 | AU7: 179.01654 | AV7: 2576.9083 | AW7: 2642.5082 | AX7: 6441.3374 | AY7: 2763.1431
B8: Balance | C8: -12754.157 | D8: -14508.771 | E8: -7406.9531 | F8: -99905.908 | G8: =G6-G7 -> -63014.578 | H8: =SUM(AT8:BE8) -> 14591.285 | I8: -389.58113 | J8: 336.77625 | K8: 6522.5054 | L8: -379.61441 | M8: 272.10195 | N8: -1507.753 | O8: -2043.4859 | P8: -80.81817 | Q8: -574.32698 | R8: -1539.2324 | S8: -2192.1155 | T8: -1816.7583 | U8: -4404.2322 | V8: 207.14044 | W8: -2067.5968 | X8: -43005.312 | Y8: 12681.626 | Z8: -35185.262 | AA8: -7341.423 | AB8: -5523.7049 | AC8: -4827.2098 | AD8: -896.22782 | AE8: -7185.6741 | AF8: -3398.4816 | AG8: -3363.7838 | AH8: =AH6-AH7 -> -5124.5059 | AI8: =AI6-AI7 -> -2739.7253 | AJ8: =AJ6-AJ7 -> 23710.151 | AK8: =AK6-AK7 -> -5062.2819 | AL8: =AL6-AL7 -> 2711.8608 | AM8: =AM6-AM7 -> 13564.769 | AN8: =AN6-AN7 -> -807.33479 | AO8: =AO6-AO7 -> -80999.736 | ... BE8: =BE6-BE7 -> 0
A9: The Americas | B9: Total Exports | C9: 352052.79 | D9: 501176.04 | E9: 370633.51 | F9: 410015.58 | G9: 628186.51 | H9: =SUM(AT9:BE9) -> 272831.11 | I9: 26922.936 | J9: 29021.914 | K9: 25706.101 | L9: 27881.565 | M9: 34121.885 | N9: 33963.703 | O9: 22269.283 | P9: 34799.069 | Q9: 47541.779 | R9: 14841.982 | S9: 39710.606 | T9: 35540.796 | U9: 25234.825 | V9: 32543.097 | W9: 36007.333 | X9: 17865.946 | Y9: 23603.794 | Z9: 36779.803 | AA9: 40367.744 | AB9: 24819.886 | AC9: 36141.108 | AD9: 38648.439 | AE9: 24610.899 | AF9: 65863.762 | AG9: 32763.771 | AH9: 93353.462 | AI9: 24714.824 | AJ9: 143599.36 | AK9: 28563.717 | AL9: 43644.843 | AM9: 29705.003 | AN9: 31066.512 | AO9: 44576.19 | AP9: 48368.398 | AQ9: 55121.825 | AR9: 38445.019 | AS9: 47027.356 | AT9: 28956.839 | AU9: 55785.7 | AV9: 31759.964 | AW9: 32030.53 | AX9: 64813.632 | AY9: 59484.443
B10: Imports | C10: 379411.32 | D10: 243944.65 | E10: 427184.14 | F10: 547397.71 | G10: 631845.16 | H10: =SUM(AT10:BE10) -> 187642.55 | I10: 18188.173 | J10: 42685.23 | K10: 49495.799 | L10: 17352.014 | M10: 27049.195 | N10: 63405.154 | O10: 41839.408 | P10: 21691.808 | Q10: 34894.602 | R10: 26869.912 | S10: 39895.27 | T10: 32791.606 | U10: 29214.139 | V10: 29425.229 | W10: 36151.748 | X10: 37164.112 | Y10: 51248.004 | Z10: 41848.526 | AA10: 46188.523 | AB10: 82284.978 | AC10: 42227.741 | AD10: 45288.067 | AE10: 27934.066 | AF10: 51942.289 | AG10: 55694.429 | AH10: 52999.889 | AI10: 38703.052 | AJ10: 41991.619 | AK10: 55584.805 | AL10: 84907.659 | AM10: 37138.591 | AN10: 56189.654 | AO10: 80847.497 | AP10: 36720.204 | AQ10: 33737.566 | AR10: 69479.801 | AS10: 43544.819 | AT10: 33958.898 | AU10: 31742.518 | AV10: 33557.638 | AW10: 15983.256 | AX10: 36845.915 | AY10: 35554.323
B11: Balance | C11: -27358.536 | D11: 257231.39 | E11: -56550.63 | F11: -137382.13 | G11: =G9-G10 -> -3658.6442 | H11: =SUM(AT11:BE11) -> 85188.56 | I11: 8734.7628 | J11: -13663.316 | K11: -23789.698 | L11: 10529.551 | M11: 7072.6907 | N11: -29441.451 | O11: -19570.126 | P11: 13107.261 | Q11: 12647.177 | R11: -12027.93 | S11: -184.66356 | T11: 2749.1901 | U11: -3979.3142 | V11: 3117.8676 | W11: -144.4151 | X11: -19298.166 | Y11: -27644.21 | Z11: -5068.7223 | AA11: -5820.7791 | AB11: -57465.092 | AC11: -6086.6323 | AD11: -6639.6275 | AE11: -3323.1669 | AF11: 13921.473 | AG11: -22930.658 | AH11: =AH9-AH10 -> 40353.573 | AI11: =AI9-AI10 -> -13988.228 | AJ11: =AJ9-AJ10 -> 101607.74 | AK11: =AK9-AK10 -> -27021.088 | AL11: =AL9-AL10 -> -41262.816 | AM11: =AM9-AM10 -> -7433.5879 | AN11: =AN9-AN10 -> -25123.142 | AO11: =AO9-AO10 -> -36271.307 | ... BE11: =BE9-BE10 -> 0
A12: Asia | B12: Total Exports | C12: 22462733 | D12: 23349204 | E12: 27245516 | F12: 30150309 | G12: 37027099 | H12: =SUM(AT12:BE12) -> 21035837 | I12: 1832486.3 | J12: 2372486.7 | K12: 1437750.7 | L12: 4216948.1 | M12: 1991962.3 | N12: 1992655.4 | O12: 2261174.7 | P12: 2251913.6 | Q12: 1531212.6 | R12: 3063581.9 | S12: 1743316.2 | T12: 2671541.1 | U12: 1710972.3 | V12: 3515267.4 | W12: 3218753.9 | X12: 3228660.9 | Y12: 2113633.3 | Z12: 2298894.5 | AA12: 2582911 | AB12: 1741485.6 | AC12: 2967207.2 | AD12: 1863099.7 | AE12: 1718191.5 | AF12: 2247616.8 | AG12: 2654586.6 | AH12: 3850911.1 | AI12: 2828260.1 | AJ12: 2452031.2 | AK12: 3089147.9 | AL12: 2832029.2 | AM12: 2189333.8 | AN12: 3522866.9 | AO12: 3543769.1 | AP12: 2985902.6 | AQ12: 3309221.9 | AR12: 3116881.9 | AS12: 3306743 | AT12: 3339277.9 | AU12: 3688966.5 | AV12: 3121397.3 | AW12: 3210113.6 | AX12: 3646225.8 | AY12: 4029855.7
B13: Imports | C13: 8871584.5 | D13: 9252728.3 | E13: 12721781 | F13: 13841361 | G13: 14798701 | H13: =SUM(AT13:BE13) -> 7824538.5 | I13: 738562.86 | J13: 990805.54 | K13: 925667.03 | L13: 1045468.1 | M13: 950817.56 | N13: 1066821.2 | O13: 989869.78 | P13: 1026700 | Q13: 1302989.2 | R13: 1173938.8 | S13: 1023410.2 | T13: 1192912.6 | U13: 1032380.4 | V13: 1130499.7 | W13: 1077821 | X13: 1376276.7 | Y13: 975363.64 | Z13: 1270168.4 | AA13: 954033.53 | AB13: 1104211.6 | AC13: 1125075.5 | AD13: 1086538.3 | AE13: 1243970.6 | AF13: 1496645.1 | AG13: 1000756.9 | AH13: 1371054.6 | AI13: 1163331 | AJ13: 947417.57 | AK13: 1165827.1 | AL13: 1227538.6 | AM13: 1160674.6 | AN13: 1304048.1 | AO13: 1270535.8 | AP13: 1204820.9 | AQ13: 1677100.7 | AR13: 1114702.3 | AS13: 1191649.3 | AT13: 1318598.4 | AU13: 1249930.8 | AV13: 1359282.4 | AW13: 1287453.4 | AX13: 1508625.1 | AY13: 1100648.3
B14: Balance | C14: 13591148 | D14: 14096476 | E14: 14523735 | F14: 16308947 | G14: =G12-G13 -> 22228398 | H14: =SUM(AT14:BE14) -> 13211298 | I14: 1093923.5 | J14: 1381681.2 | K14: 512083.67 | L14: 3171480 | M14: 1041144.8 | N14: 925834.16 | O14: 1271304.9 | P14: 1225213.6 | Q14: 228223.35 | R14: 1889643.1 | S14: 719905.99 | T14: 1478628.5 | U14: 678591.83 | V14: 2384767.7 | W14: 2140932.9 | X14: 1852384.2 | Y14: 1138269.7 | Z14: 1028726.1 | AA14: 1628877.5 | AB14: 637274.01 | AC14: 1842131.7 | AD14: 776561.4 | AE14: 474220.99 | AF14: 750971.68 | AG14: 1653829.7 | AH14: =AH12-AH13 -> 2479856.5 | AI14: =AI12-AI13 -> 1664929.1 | AJ14: =AJ12-AJ13 -> 1504613.6 | AK14: =AK12-AK13 -> 1923320.8 | AL14: =AL12-AL13 -> 1604490.6 | AM14: =AM12-AM13 -> 1028659.2 | AN14: =AN12-AN13 -> 2218818.8 | AO14: =AO12-AO13 -> 2273233.2 | ... BE14: =BE12-BE13 -> 0
A15: Europe | B15: Total Exports | C15: 4130374.8 | D15: 4070720.5 | E15: 4110127.1 | F15: 4026471.9 | G15: 4722797.7 | H15: =SUM(AT15:BE15) -> 2800163.4 | I15: 675335.09 | J15: 136654.12 | K15: 279935.98 | L15: 293772.47 | M15: 157097.62 | N15: 580542.05 | O15: 337041.13 | P15: 346929.43 | Q15: 479077.07 | R15: 709441.37 | S15: 373074.23 | T15: 209276.64 | U15: 207285 | V15: 364545.76 | W15: 202521.23 | X15: 478885.75 | Y15: 258377.26 | Z15: 460321.21 | AA15: 158486.74 | AB15: 270752.04 | AC15: 246805.23 | AD15: 666545.23 | AE15: 241275.48 | AF15: 250074.28 | AG15: 427881.64 | AH15: 452427.24 | AI15: 358860.56 | AJ15: 365461.06 | AK15: 505664.61 | AL15: 292529.61 | AM15: 208455.57 | AN15: 594281.56 | AO15: 284959.75 | AP15: 802096.77 | AQ15: 288602.17 | AR15: 315089.92 | AS15: 254368.88 | AT15: 193144.86 | AU15: 416017.05 | AV15: 504648.17 | AW15: 416754.34 | AX15: 758870.45 | AY15: 510728.54
B16: Imports | C16: 420120.96 | D16: 380924.23 | E16: 535494.35 | F16: 580630.06 | G16: 833929.66 | H16: =SUM(AT16:BE16) -> 271699.42 | I16: 23084.775 | J16: 46974.828 | K16: 30770.457 | L16: 47370.214 | M16: 25080.041 | N16: 37390.845 | O16: 35086.62 | P16: 35480.266 | Q16: 42136.684 | R16: 49435.277 | S16: 122813.58 | T16: 32255.978 | U16: 30699.556 | V16: 26742.687 | W16: 58777.164 | X16: 70968.233 | Y16: 65396.947 | Z16: 58833.5 | AA16: 35358.512 | AB16: 33606.347 | AC16: 40765.222 | AD16: 35949.593 | AE16: 56589.702 | AF16: 51241.537 | AG16: 46400.617 | AH16: 70757.058 | AI16: 56329.786 | AJ16: 34042.41 | AK16: 66765.029 | AL16: 155140.65 | AM16: 63841.736 | AN16: 77069.448 | AO16: 57573.183 | AP16: 50687.05 | AQ16: 77720.163 | AR16: 93393.772 | AS16: 30609.38 | AT16: 43089.621 | AU16: 48610.985 | AV16: 42145.496 | AW16: 45462.956 | AX16: 51920.99 | AY16: 40469.375
B17: Balance | C17: 3710253.8 | D17: 3689796.3 | E17: 3574632.8 | F17: 3445841.8 | G17: =G15-G16 -> 3888868 | H17: =SUM(AT17:BE17) -> 2528464 | I17: 652250.32 | J17: 89679.291 | K17: 249165.53 | L17: 246402.25 | M17: 132017.58 | N17: 543151.21 | O17: 301954.5 | P17: 311449.16 | Q17: 436940.39 | R17: 660006.1 | S17: 250260.65 | T17: 177020.66 | U17: 176585.44 | V17: 337803.07 | W17: 143744.06 | X17: 407917.52 | Y17: 192980.31 | Z17: 401487.71 | AA17: 123128.23 | AB17: 237145.7 | AC17: 206040.01 | AD17: 630595.64 | AE17: 184685.78 | AF17: 198832.75 | AG17: 381481.03 | AH17: =AH15-AH16 -> 381670.18 | AI17: =AI15-AI16 -> 302530.77 | AJ17: =AJ15-AJ16 -> 331418.65 | AK17: =AK15-AK16 -> 438899.58 | AL17: =AL15-AL16 -> 137388.96 | AM17: =AM15-AM16 -> 144613.84 | AN17: =AN15-AN16 -> 517212.11 | AO17: =AO15-AO16 -> 227386.57 | ... BE17: =BE15-BE16 -> 0
A18: Oceania | B18: Total Exports | C18: 8176341.7 | D18: 6050374.9 | E18: 6983535.4 | F18: 13783220 | G18: 10793747 | H18: =SUM(AT18:BE18) -> 8217635.9 | I18: 498145.55 | J18: 690738.96 | K18: 475116.73 | L18: 553971.14 | M18: 738091.22 | N18: 621015.19 | O18: 714933.24 | P18: 575369.01 | Q18: 909011.75 | R18: 479936.67 | S18: 308229.34 | T18: 598210.83 | U18: 318911.32 | V18: 987319.94 | W18: 989284.89 | X18: 1523294.5 | Y18: 849463.83 | Z18: 1321668.8 | AA18: 1012670.8 | AB18: 1161131.1 | AC18: 1010828 | AD18: 1107284.1 | AE18: 943698.96 | AF18: 1261306.6 | AG18: 1615268.3 | AH18: 594108.62 | AI18: 837787.8 | AJ18: 709291.69 | AK18: 736261.05 | AL18: 650033.9 | AM18: 1068552.8 | AN18: 639043.6 | AO18: 1086404.7 | AP18: 984044.04 | AQ18: 1017219.1 | AR18: 909386.55 | AS18: 1561612.6 | AT18: 1283308.4 | AU18: 1335847.1 | AV18: 1087167.5 | AW18: 1696857.5 | AX18: 1154994.4 | AY18: 1659461
B19: Imports | C19: 6422725.4 | D19: 6150189.8 | E19: 6813950.4 | F19: 7116155.7 | G19: 9175123.1 | H19: =SUM(AT19:BE19) -> 4379883.1 | I19: 518823.01 | J19: 542619.24 | K19: 481101.88 | L19: 599376 | M19: 415915.67 | N19: 613998.97 | O19: 713364.18 | P19: 513620.12 | Q19: 681719.02 | R19: 507369.33 | S19: 696222.34 | T19: 556817.73 | U19: 491825.88 | V19: 494847.96 | W19: 598922.91 | X19: 525197.23 | Y19: 497668.29 | Z19: 600479.21 | AA19: 626238.91 | AB19: 590814.67 | AC19: 575605.72 | AD19: 525177.93 | AE19: 679169.89 | AF19: 594575.49 | AG19: 807457.48 | AH19: 686554.54 | AI19: 556101.73 | AJ19: 668907.84 | AK19: 611023.89 | AL19: 719156.5 | AM19: 1055742 | AN19: 778740.18 | AO19: 696964.7 | AP19: 779492.81 | AQ19: 967380.95 | AR19: 942107.86 | AS19: 712950.09 | AT19: 726466.63 | AU19: 641075.28 | AV19: 705500.85 | AW19: 651987.63 | AX19: 801001.83 | AY19: 853850.9
B20: Balance | C20: 1753616.3 | D20: -99814.822 | E20: 169585.02 | F20: 6667064.1 | G20: =G18-G19 -> 1618623.4 | H20: =SUM(AT20:BE20) -> 3837752.8 | I20: -20677.456 | J20: 148119.72 | K20: -5985.1492 | L20: -45404.869 | M20: 322175.55 | N20: 7016.2147 | O20: 1569.061 | P20: 61748.889 | Q20: 227292.73 | R20: -27432.658 | S20: -387993 | T20: 41393.097 | U20: -172914.56 | V20: 492471.98 | W20: 390361.99 | X20: 998097.27 | Y20: 351795.54 | Z20: 721189.6 | AA20: 386431.88 | AB20: 570316.46 | AC20: 435222.26 | AD20: 582106.14 | AE20: 264529.07 | AF20: 666731.11 | AG20: 807810.79 | AH20: =AH18-AH19 -> -92445.922 | AI20: =AI18-AI19 -> 281686.08 | AJ20: =AJ18-AJ19 -> 40383.86 | AK20: =AK18-AK19 -> 125237.17 | AL20: =AL18-AL19 -> -69122.605 | AM20: =AM18-AM19 -> 12810.787 | AN20: =AN18-AN19 -> -139696.58 | AO20: =AO18-AO19 -> 389440.03 | ... BE20: =BE18-BE19 -> 0
A21: Others | B21: Total Exports | C21: 89.36396 | D21: 0.68830999 | E21: 21.40547 | F21: 0 | G21: 0 | H21: =SUM(AT21:BE21) -> 36203.774 | I21: 0.79886 | J21: 0 | K21: 0 | L21: 0 | M21: 0 | N21: 0 | O21: 0 | P21: 4.54688 | Q21: 0 | R21: 0 | S21: 16.01928 | T21: 0 | U21: 0.83931 | V21: 0 | W21: 0 | X21: 0 | Y21: 0 | Z21: 0 | AA21: 0 | AB21: 0 | AC21: 0 | AD21: 0 | AE21: 0 | AF21: 0 | AG21: 0 | AH21: 0 | AI21: 0 | AJ21: 0 | AK21: 0 | AL21: 0 | AM21: 0 | AN21: 0 | AO21: 0 | AP21: 0 | AQ21: 0 | AR21: 0 | AS21: 0 | AT21: 0 | AU21: 0 | AV21: 36203.774 | AW21: 0 | AX21: 0 | AY21: 0
B22: Imports | C22: 953.43994 | D22: 93.32813 | E22: 5057.3332 | F22: 10.58041 | G22: 1021.8814 | H22: =SUM(AT22:BE22) -> 19.97212 | I22: 3.33791 | J22: 26.88921 | K22: 6.12132 | L22: 6.26391 | M22: 0 | N22: 34.34885 | O22: 9.122 | P22: 0 | Q22: 19.67009 | R22: 0 | S22: 163.81 | T22: 0.07283 | U22: 4791.0349 | V22: 0 | W22: 10.00348 | X22: 0 | Y22: 0 | Z22: 0.57693 | AA22: 0 | AB22: 0 | AC22: 0 | AD22: 0 | AE22: 0 | AF22: 0 | AG22: 0 | AH22: 0.51479 | AI22: 0 | AJ22: 0 | AK22: 0 | AL22: 0 | AM22: 0 | AN22: 1020.3881 | AO22: 0 | AP22: 0 | AQ22: 0.97846 | AR22: 0 | AS22: 0 | AT22: 5.14816 | AU22: 14.82396 | AV22: 0 | AW22: 0 | AX22: 0 | AY22: 0
B23: Balance | C23: -864.07598 | D23: -92.63982 | E23: -5035.9277 | F23: -10.58041 | G23: =G21-G22 -> -1021.8814 | H23: =SUM(AT23:BE23) -> 36183.802 | I23: -2.53905 | J23: -26.88921 | K23: -6.12132 | L23: -6.26391 | M23: 0 | N23: -34.34885 | O23: -9.122 | P23: 4.54688 | Q23: -19.67009 | R23: 0 | S23: -147.79072 | T23: -0.07283 | U23: -4790.1956 | V23: 0 | W23: -10.00348 | X23: 0 | Y23: 0 | Z23: -0.57693 | AA23: 0 | AB23: 0 | AC23: 0 | AD23: 0 | AE23: 0 | AF23: 0 | AG23: 0 | AH23: =AH21-AH22 -> -0.51479 | AI23: =AI21-AI22 -> 0 | AJ23: =AJ21-AJ22 -> 0 | AK23: =AK21-AK22 -> 0 | AL23: =AL21-AL22 -> 0 | AM23: =AM21-AM22 -> 0 | AN23: =AN21-AN22 -> -1020.3881 | AO23: =AO21-AO22 -> 0 | ... BE23: =BE21-BE22 -> 0
A24: TOTAL | B24: Total Exports | C24: 35133483 | D24: 33977546 | E24: 38724948 | F24: 48388262 | G24: 53560884 | H24: =SUM(AT24:BE24) -> 32393692 | I24: 3035560.4 | J24: 3230385.4 | K24: 2228504.9 | L24: 5093816.8 | M24: 2922203.1 | N24: 3228176.3 | O24: 3335595.6 | P24: 3209806.3 | Q24: 2966844.3 | R24: 4267802.5 | S24: 2464835.8 | T24: 3514572.5 | U24: 2262404.3 | V24: 4902181.1 | W24: 4446759.2 | X24: 5248707.1 | Y24: 3259604.4 | Z24: 4117751.7 | AA24: 3794438.9 | AB24: 3198197.7 | AC24: 4261040.6 | AD24: 3676010.3 | AE24: 2927777.1 | AF24: 3825292.6 | AG24: 4730501.1 | AH24: 4997967.2 | AI24: 4053765.5 | AJ24: 3715499.9 | AK24: 4366815.2 | AL24: 3840891.7 | AM24: 3519085.2 | AN24: 4812688.4 | AO24: 4977854.5 | AP24: 4849568.1 | AQ24: 4853865.3 | AR24: 4390231.9 | AS24: 5182651.4 | AT24: =AT6+AT9+AT12+AT15+AT18+AT21 -> 4844689.2 | AU24: =AU6+AU9+AU12+AU15+AU18+AU21 -> 5510381.9 | AV24: =AV6+AV9+AV12+AV15+AV18+AV21 -> 4783595.7 | AW24: =AW6+AW9+AW12+AW15+AW18+AW21 -> 5360497.5 | AX24: =AX6+AX9+AX12+AX15+AX18+AX21 -> 5628133.4 | AY24: =AY6+AY9+AY12+AY15+AY18+AY21 -> 6266394.3 | AZ24: =AZ6+AZ9+AZ12+AZ15+AZ18+AZ21 -> 0 | BA24: =BA6+BA9+BA12+BA15+BA18+BA21 -> 0 | ... BE24: =BE6+BE9+BE12+BE15+BE18+BE21 -> 0
B25: Imports | C25: 16119440 | D25: 16048459 | E25: 20525989 | F25: 22285456 | G25: 25657148 | H25: =SUM(AT25:BE25) -> 12680213 | I25: 1301721.4 | J25: 1624258.7 | K25: 1490514.2 | L25: 1711195.7 | M25: 1419520.4 | N25: 1783158.3 | O25: 1782389.9 | P25: 1598363.6 | Q25: 2062334.7 | R25: 1759153.1 | S25: 1885186.7 | T25: 1816597.9 | U25: 1593315.3 | V25: 1690431.9 | W25: 1777033.6 | X25: 2058137 | Y25: 1597099.2 | Z25: 2011139.5 | AA25: 1672966.9 | AB25: 1821071.4 | AC25: 1792196.3 | AD25: 1708713.9 | AE25: 2020356.1 | AF25: 2219251.9 | AG25: 1917058.5 | AH25: 2201290.6 | AI25: 1819780.3 | AJ25: 1711185.4 | AK25: 1919649.7 | AL25: 2198482.2 | AM25: 2324473.8 | AN25: 2222677.5 | AO25: 2193153.4 | AP25: 2081350.1 | AQ25: 2765886.6 | AR25: 2228618.7 | AS25: 1990599.3 | AT25: =AT7+AT10+AT13+AT16+AT19+AT22 -> 2123945.2 | AU25: =AU7+AU10+AU13+AU16+AU19+AU22 -> 1971553.5 | AV25: =AV7+AV10+AV13+AV16+AV19+AV22 -> 2143063.3 | AW25: =AW7+AW10+AW13+AW16+AW19+AW22 -> 2003529.8 | AX25: =AX7+AX10+AX13+AX16+AX19+AX22 -> 2404835.2 | AY25: =AY7+AY10+AY13+AY16+AY19+AY22 -> 2033286.1 | AZ25: =AZ7+AZ10+AZ13+AZ16+AZ19+AZ22 -> 0 | BA25: =BA7+BA10+BA13+BA16+BA19+BA22 -> 0 | ... BE25: =BE7+BE10+BE13+BE16+BE19+BE22 -> 0
B26: Balance | C26: 19014042 | D26: 17929087 | E26: 18198959 | F26: 26102805 | H26: =SUM(AT26:BE26) -> 19713479 | I26: 1733839 | J26: 1606126.7 | K26: 737990.73 | L26: 3382621 | M26: 1502682.7 | N26: 1445018 | O26: 1553205.7 | P26: 1611442.7 | Q26: 904509.65 | R26: 2508649.3 | S26: 579649.08 | T26: 1697974.6 | U26: 669088.96 | V26: 3211749.1 | W26: 2669725.6 | X26: 3190570.2 | Y26: 1662505.1 | Z26: 2106612.2 | AA26: 2121472 | AB26: 1377126.3 | AC26: 2468844.2 | AD26: 1967296.4 | AE26: 907420.95 | AF26: 1606040.7 | AG26: 2813442.6 | AH26: =AH24-AH25 -> 2796676.6 | AI26: =AI24-AI25 -> 2233985.2 | AJ26: =AJ24-AJ25 -> 2004314.5 | AK26: =AK24-AK25 -> 2447165.5 | AL26: =AL24-AL25 -> 1642409.5 | AM26: =AM24-AM25 -> 1194611.4 | AN26: =AN24-AN25 -> 2590010.8 | AO26: =AO24-AO25 -> 2784701.1 | ... BE26: =BE24-BE25 -> 0
A27: of which the PICTs | B27: Total Exports | C27: 62843.63 | D27: 70169.531 | E27: 96867.762 | F27: 146497.76 | G27: 319541.59 | H27: =SUM(AT27:BE27) -> 74679.284 | I27: 15312.145 | J27: 2246.0718 | K27: 3587.9134 | L27: 5426.8716 | M27: 7386.8869 | N27: 8862.9127 | O27: 3340.5154 | P27: 4079.8072 | Q27: 36605.386 | R27: 4875.4001 | S27: 9056.9316 | T27: 6860.1475 | U27: 4538.9179 | V27: 4920.9081 | W27: 8782.272 | X27: 4719.7692 | Y27: 2937.3303 | Z27: 7885.5989 | AA27: 8074.3373 | AB27: 24241.853 | AC27: 22668.829 | AD27: 12922.213 | AE27: 8031.5367 | AF27: 21215.591 | AG27: 20097.526 | AH27: 6738.9466 | AI27: 4117.1592 | AJ27: 6736.0792 | AK27: 6963.857 | AL27: 18605.681 | AM27: 6239.0035 | AN27: 24978.665 | AO27: 17721.039 | AP27: 21565.863 | AQ27: 183563.71 | AR27: 9465.1927 | AS27: 12846.391 | AT27: 7161.3284 | AU27: 27461.894 | AV27: 7210.8398 | AW27: 10856.657 | AX27: 14038.938 | AY27: 7949.6268
B28: Imports | C28: 114928.39 | D28: 81400.998 | E28: 75551.278 | F28: 81749.35 | G28: 83985.936 | H28: =SUM(AT28:BE28) -> 29785.14 | I28: 8527.7473 | J28: 2494.8214 | K28: 4656.9784 | L28: 3925.8316 | M28: 2116.4505 | N28: 10261.856 | O28: 5812.4214 | P28: 8716.9161 | Q28: 7586.7091 | R28: 6046.7599 | S28: 4967.4001 | T28: 6440.9957 | U28: 12524.138 | V28: 6618.6728 | W28: 3091.3324 | X28: 5525.3105 | Y28: 5577.8097 | Z28: 4536.572 | AA28: 3803.4425 | AB28: 4621.0826 | AC28: 3635.8745 | AD28: 14430.909 | AE28: 5506.0353 | AF28: 21017.856 | AG28: 3384.453 | AH28: 14367.106 | AI28: 2549.9183 | AJ28: 4155.615 | AK28: 15172.625 | AL28: 10393.059 | AM28: 3842.6666 | AN28: 4351.3254 | AO28: 5808.7058 | AP28: 4467.521 | AQ28: 6089.7314 | AR28: 3333.0832 | AS28: 9454.579 | AT28: 3655.5901 | AU28: 3606.5505 | AV28: 4793.8749 | AW28: 4844.0944 | AX28: 3934.4597 | AY28: 8950.5703
B29: Balance | C29: -52084.756 | D29: -11231.467 | E29: 21316.484 | F29: 64748.414 | H29: =SUM(AT29:BE29) -> 44894.145 | I29: 6784.3974 | J29: -248.74954 | K29: -1069.065 | L29: 1501.04 | M29: 5270.4364 | N29: -1398.9429 | O29: -2471.906 | P29: -4637.109 | Q29: 29018.676 | R29: -1171.3598 | S29: 4089.5314 | T29: 419.1518 | U29: -7985.2203 | V29: -1697.7647 | W29: 5690.9396 | X29: -805.54127 | Y29: -2640.4794 | Z29: 3349.027 | AA29: 4270.8948 | AB29: 19620.77 | AC29: 19032.954 | AD29: -1508.6957 | AE29: 2525.5014 | AF29: 197.73506 | AG29: 16713.073 | AH29: =AH27-AH28 -> -7628.1599 | AI29: =AI27-AI28 -> 1567.2408 | AJ29: =AJ27-AJ28 -> 2580.4642 | AK29: =AK27-AK28 -> -8208.7681 | AL29: =AL27-AL28 -> 8212.6221 | AM29: =AM27-AM28 -> 2396.3369 | AN29: =AN27-AN28 -> 20627.339 | AO29: =AO27-AO28 -> 11912.333 | ... AY29: =AY27-AY28 -> -1000.9435
A31: Notes
A32: Source: Customs and Enterprises
A33: Classification used: HS 2017 from 2017
A34: p provisional
A35: r revised

Sheet 10_Mode_Trspt
A1: Table 10 | D1: TRADE BY MODE OF TRANSPORT
D2: [Kina 000]
A3: Category ® | D3: 1 | E3: 2 | F3: 3 | G3: 4
D4: Air | E4: Water | F4: Land | G4: Not elsewhere classified
E5: 2.1 | F5: 3.2 | G5: 4.2 | H5: 4.4
A6: Period ¯ | E6: Sea | F6: Road | G6: Postal consignments, mail or courier shipments | H6: Others | I6: Total
A7: ANNUALLY
C8: Imports | D8: 1892185.4 | E8: 14921471 | F8: 0 | G8: 0 | H8: 0 | I8: 16813656
A9: 2020 | C9: Total Exports | D9: 8103314.2 | E9: 27028257 | F9: 1911.9 | G9: 0 | H9: 0 | I9: 35133483
C10: Imports | D10: 1337796.5 | E10: 14781606 | F10: 38.1708 | G10: 0 | H10: 0 | I10: 16119440
A11: 2021 | C11: Total Exports | D11: 5969122.6 | E11: 28000214 | F11: 8209.8135 | G11: 0 | H11: -1.4961188e-10 | I11: 33977547
C12: Imports | D12: 1548966.3 | E12: 14499493 | F12: 0 | G12: 0 | H12: -0.37090995 | I12: 16048459
A13: 2022 | C13: Total Exports | D13: 6870413.3 | E13: 31854535 | F13: 0 | G13: 0 | H13: 0 | I13: 38724948
C14: Imports | D14: 1785289.7 | E14: 18740616 | F14: 83.10821 | G14: 0 | H14: 0 | I14: 20525989
A15: 2023 | C15: Total Exports | D15: 12639249 | E15: 35749013 | F15: 4e-05 | G15: 0 | H15: 0 | I15: 48388262
C16: Imports | D16: 1825626.3 | E16: 20459387 | F16: 421.28902 | G16: 0 | H16: 21.67 | I16: 22285456
A17: 2024 | C17: Total Exports | D17: 10754775 | E17: 42806107 | F17: 2.5 | G17: 0 | H17: 0 | I17: 53560884
C18: Imports | D18: 2403651.4 | E18: 23253171 | F18: 324.68312 | G18: 0 | H18: 0 | I18: 25657148
A19: 2025p | C19: Total Exports
C20: Imports
A22: Monthly
A23: 2021 | B23: January | C23: Total Exports | D23: 174505 | E23: 2345355 | F23: 0 | G23: 0 | H23: 0 | I23: 2519860
C24: Imports | D24: 141658.45 | E24: 1197340.8 | F24: 0 | G24: 0 | H24: 0 | I24: 1338999.3
B25: February | C25: Total Exports | D25: 563373 | E25: 2003686.5 | F25: 0 | G25: 0 | H25: 0 | I25: 2567059.5
C26: Imports | D26: 116856 | E26: 1108972 | F26: 0 | G26: 0 | H26: -0.18196 | I26: 1225827.8
B27: March | C27: Total Exports | D27: 832091.07 | E27: 2240338.5 | F27: 0 | G27: 0 | H27: 0 | I27: 3072429.6
C28: Imports | D28: 104880.52 | E28: 1084595 | F28: 0 | G28: 0 | H28: -0.18064 | I28: 1189475.3
B29: April | C29: Total Exports | D29: 451117.62 | E29: 2759134.7 | F29: 0 | G29: 0 | H29: 0 | I29: 3210252.4
C30: Imports | D30: 126575 | E30: 1095550.2 | F30: 0 | G30: 0 | H30: -0.32872 | I30: 1222124.9
B31: May | C31: Total Exports | D31: 357697.91 | E31: 1836776.8 | F31: 0 | G31: 0 | H31: 0 | I31: 2194474.7
C32: Imports | D32: 131239.93 | E32: 1247762 | F32: 0 | G32: 0 | H32: 0.32041 | I32: 1379002.2
B33: June | C33: Total Exports | D33: 917831 | E33: 2263200.6 | F33: 0 | G33: 0 | H33: 0 | I33: 3181031.6
C34: Imports | D34: 147850.44 | E34: 1183855 | F34: 0 | G34: 0 | H34: 6.9849193e-09 | I34: 1331705.4
B35: July | C35: Total Exports | D35: 592255 | E35: 2634457 | F35: 7834.4271 | G35: 0 | H35: -1.0459189e-10 | I35: 3234546.4
C36: Imports | D36: 116858.14 | E36: 1329858.8 | F36: 0 | G36: 0 | H36: 1.5366822e-08 | I36: 1446717
B37: August | C37: Total Exports | D37: 425844.01 | E37: 2359540 | F37: 276.38643 | G37: 0 | H37: -4.5019988e-11 | I37: 2785660.4
C38: Imports | D38: 137961.22 | E38: 1484923.8 | F38: 0 | G38: 0 | H38: 1.2805685e-08 | I38: 1622885.1
B39: September | C39: Total Exports | D39: 511540 | E39: 2202007.4 | F39: 66 | G39: 0 | H39: 0 | I39: 2713613.4
C40: Imports | D40: 124723.83 | E40: 1184446.2 | F40: 0 | G40: 0 | H40: 4.6566129e-10 | I40: 1309170.1
B41: October | C41: Total Exports | D41: 385780.63 | E41: 1823895.6 | F41: 33 | G41: 0 | H41: 0 | I41: 2209709.3
C42: Imports | D42: 129412.26 | E42: 1149594.5 | F42: 0 | G42: 0 | H42: 3.7252903e-09 | I42: 1279006.8
B43: November | C43: Total Exports | D43: 244500 | E43: 3008849.2 | F43: 0 | G43: 0 | H43: 0 | I43: 3253349.2
C44: Imports | D44: 132154.71 | E44: 1269669.1 | F44: 0 | G44: 0 | H44: 5.5879354e-09 | I44: 1401823.8
B45: December | C45: Total Exports | D45: 512587.36 | E45: 2522973.1 | F45: 0 | G45: 0 | H45: 0 | I45: 3035560.4
C46: Imports | D46: 138795.82 | E46: 1162925.6 | F46: 0 | G46: 0 | H46: 4.4237822e-09 | I46: 1301721.4
A48: 2022 | B48: January | C48: Total Exports | D48: 705390.04 | E48: 2524995.4 | G48: 0 | H48: 0 | I48: 3230385.4
C49: Imports | D49: 163901.52 | E49: 1460357.1 | F49: 0 | G49: 0 | H49: 0 | I49: 1624258.7
B50: February | C50: Total Exports | D50: 483650.15 | E50: 1744854.8 | G50: 0 | H50: 0 | I50: 2228504.9
C51: Imports | D51: 109900.72 | E51: 1380613.5 | F51: 0 | G51: 0 | H51: 0 | I51: 1490514.2
B52: March | C52: Total Exports | D52: 520469.77 | E52: 4573347 | G52: 0 | H52: 0 | I52: 5093816.8
C53: Imports | D53: 131949.31 | E53: 1579246.4 | F53: 0 | G53: 0 | H53: 0 | I53: 1711195.7
B54: April | C54: Total Exports | D54: 617849.15 | E54: 2304353.9 | G54: 0 | H54: 0 | I54: 2922203.1
C55: Imports | D55: 120924.51 | E55: 1298595.9 | F55: 0 | G55: 0 | H55: 0 | I55: 1419520.4
B56: May | C56: Total Exports | D56: 647317.32 | E56: 2580859 | G56: 0 | H56: 0 | I56: 3228176.3
C57: Imports | D57: 177538.2 | E57: 1605620.1 | F57: 0 | G57: 0 | H57: 0 | I57: 1783158.3
B58: June | C58: Total Exports | D58: 734839.95 | E58: 2600755.7 | G58: 0 | H58: 0 | I58: 3335595.6
C59: Imports | D59: 150744.18 | E59: 1631645.7 | F59: 0 | G59: 0 | H59: 0 | I59: 1782389.9
B60: July | C60: Total Exports | D60: 592460.31 | E60: 2617346 | G60: 0 | H60: 0 | I60: 3209806.3
C61: Imports | D61: 137642.78 | E61: 1460720.8 | F61: 0 | G61: 0 | H61: 0 | I61: 1598363.6
B62: August | C62: Total Exports | D62: 885662.63 | E62: 2081181.7 | G62: 0 | H62: 0 | I62: 2966844.3
C63: Imports | D63: 169574.22 | E63: 1892760.5 | F63: 0 | G63: 0 | H63: 0 | I63: 2062334.7
B64: September | C64: Total Exports | D64: 496968.85 | E64: 3770833.6 | G64: 0 | H64: 0 | I64: 4267802.5
C65: Imports | D65: 136194.22 | E65: 1622958.9 | F65: 0 | G65: 0 | H65: 0 | I65: 1759153.1
B66: October | C66: Total Exports | D66: 297282.23 | E66: 2167553.6 | G66: 0 | H66: 0 | I66: 2464835.8
C67: Imports | D67: 215940.53 | E67: 1669246.2 | F67: 0 | G67: 0 | H67: 0 | I67: 1885186.7
B68: November | C68: Total Exports | D68: 558587.55 | E68: 2955985 | G68: 0 | H68: 0 | I68: 3514572.5
C69: Imports | D69: 147556.51 | E69: 1669041.4 | F69: 0 | G69: 0 | H69: 0 | I69: 1816597.9
B70: December | C70: Total Exports | D70: 329935.33 | E70: 1932468.9 | G70: 0 | H70: 0 | I70: 2262404.3
C71: Imports | D71: 123423.03 | E71: 1469809.2 | F71: 83.10821 | G71: 0 | H71: 0 | I71: 1593315.3
A73: 2023 | B73: January | C73: Total Exports | D73: 991705.02 | E73: 3910476.1 | F73: 0 | G73: 0 | H73: 0 | I73: 4902181.1
C74: Imports | D74: 115540.57 | E74: 1574891.4 | I74: 1690431.9
B75: February | C75: Total Exports | D75: 968779.61 | E75: 3477979.6 | F75: 0 | G75: 0 | H75: 0 | I75: 4446759.2
C76: Imports | D76: 112386.63 | E76: 1664647 | I76: 1777033.6
B77: March | C77: Total Exports | D77: 997159.67 | E77: 4251547.5 | F77: 0 | G77: 0 | H77: 0 | I77: 5248707.1
C78: Imports | D78: 162309.08 | E78: 1895771.9 | F78: 56.0064 | I78: 2058137
B79: April | C79: Total Exports | D79: 836323.86 | E79: 2423280.5 | F79: 0 | G79: 0 | H79: 0 | I79: 3259604.4
C80: Imports | D80: 153142.42 | E80: 1443956.8 | I80: 1597099.2
B81: May | C81: Total Exports | D81: 1324245.5 | E81: 2793506.3 | F81: 0 | G81: 0 | H81: 0 | I81: 4117751.7
C82: Imports | D82: 151783.6 | E82: 1859355.9 | I82: 2011139.5
B83: June | C83: Total Exports | D83: 1000402.6 | E83: 2794036.2 | F83: 0 | G83: 0 | H83: 0 | I83: 3794438.9
C84: Imports | D84: 116585.77 | E84: 1556381.1 | I84: 1672966.9
B85: July | C85: Total Exports | D85: 980932.8 | E85: 2217264.9 | F85: 0 | G85: 0 | H85: 0 | I85: 3198197.7
C86: Imports | D86: 140134.5 | E86: 1680931.9 | F86: 4.9747 | G86: 0 | H86: 0 | I86: 1821071.4
B87: August | C87: Total Exports | D87: 865925.16 | E87: 3395115.4 | F87: 0 | G87: 0 | H87: 0 | I87: 4261040.6
C88: Imports | D88: 199606.88 | E88: 1592566.5 | F88: 22.94592 | I88: 1792196.3
B89: September | C89: Total Exports | D89: 1088159.7 | E89: 2587850.6 | F89: 0 | G89: 0 | H89: 0 | I89: 3676010.3
C90: Imports | D90: 146951.05 | E90: 1561762.8 | F90: 0 | G90: 0 | H90: 0 | I90: 1708713.9
B91: October | C91: Total Exports | D91: 915254.15 | E91: 2012522.9 | F91: 4e-05 | G91: 0 | H91: 0 | I91: 2927777.1
C92: Imports | D92: 156546.28 | E92: 1863620.1 | F92: 189.744 | G92: 0 | H92: 0 | I92: 2020356.1
B93: November | C93: Total Exports | D93: 1225176.4 | E93: 2600116.2 | F93: 0 | G93: 0 | H93: 0 | I93: 3825292.6
C94: Imports | D94: 205217.77 | E94: 2013864.9 | F94: 147.618 | G94: 0 | H94: 21.67 | I94: 2219251.9
B95: December | C95: Total Exports | D95: 1445184.4 | E95: 3285316.7 | F95: 0 | G95: 0 | H95: 0 | I95: 4730501.1
C96: Imports | D96: 165421.8 | E96: 1751636.7 | F96: 0 | G96: 0 | H96: 0 | I96: 1917058.5
A98: 2024 | B98: January | C98: Total Exports | D98: 582627.08 | E98: 4415340.2 | F98: 0 | G98: 0 | H98: 0 | I98: 4997967.2
C99: Imports | D99: 188117.31 | E99: 2013173.3 | F99: 0 | G99: 0 | H99: 0 | I99: 2201290.6
B100: February | C100: Total Exports | D100: 956190.59 | E100: 3097574.9 | F100: 0 | G100: 0 | H100: 0 | I100: 4053765.5
C101: Imports | D101: 209914.82 | E101: 1609865.4 | F101: 0 | G101: 0 | H101: 0 | I101: 1819780.3
B102: March | C102: Total Exports | D102: 862151.26 | E102: 2853348.6 | F102: 0 | G102: 0 | H102: 0 | I102: 3715499.9
C103: Imports | D103: 246943.4 | E103: 1464242 | F103: 0 | G103: 0 | H103: 0 | I103: 1711185.4
B104: April | C104: Total Exports | D104: 729843.96 | E104: 3636971.2 | F104: 0 | G104: 0 | H104: 0 | I104: 4366815.2
...

Sheet 12_X_SITC
A1: Table 12 | B1: Economic Category | C1: Export by SITC
A2: Sections | C2: Kina (000)
C3: Annually | I3: Monthly
I4: 2021 | U4: 2022 | AG4: 2023 | AS4: 2024 | BE4: 2025 p
B5: Trade Items | C5: 2020 | D5: 2021 | E5: 2022 | F5: 2023 | G5: 2024 | H5: 2025 p | I5: Jan | J5: Feb | K5: Mar | L5: Apr | M5: May | N5: Jun | O5: Jul | P5: Aug | Q5: Sep | R5: Oct | S5: Nov | T5: Dec | U5: Jan | V5: Feb | W5: Mar | X5: Apr | Y5: May | Z5: Jun | AA5: Jul | AB5: Aug | AC5: Sep | AD5: Oct | AE5: Nov | AF5: Dec | AG5: Jan | AH5: Feb | AI5: Mar | AJ5: Apr | AK5: May | AL5: Jun | AM5: Jul | AN5: Aug | AO5: Sep | AP5: Oct | AQ5: Nov | AR5: Dec | AS5: Jan | AT5: Feb | AU5: Mar | AV5: Apr | AW5: May | AX5: Jun | AY5: Jul | AZ5: Aug | BA5: Sep | BB5: Oct | BC5: Nov | BD5: Dec | BE5: Jan | BF5: Feb | BG5: Mar | BH5: Apr | BI5: May | BJ5: Jun | BK5: Jul | BL5: Aug | BM5: Sep | BN5: Oct | BO5: Nov | BP5: Dec
A6: 0 | B6: Food and live animals | C6: 2420985.9 | D6: 2904932.7 | E6: 3646767.9 | F6: 3701319.1 | G6: 5019856.1 | H6: =SUM(BE6:BP6) -> 3365824.3 | I6: 310484 | J6: 207582 | K6: 300171.31 | L6: 341200.72 | M6: 204070.84 | N6: 172674.26 | O6: 132246 | P6: 193066.14 | Q6: 214631.8 | R6: 266437.12 | S6: 268171.4 | T6: 294197.09 | U6: 94440.387 | V6: 299968.97 | W6: 173918.23 | X6: 175582.36 | Y6: 553624.18 | Z6: 348346.34 | AA6: 226636.48 | AB6: 328366.07 | AC6: 1019656.6 | AD6: 217007.24 | AE6: 74207.271 | AF6: 135013.78 | AG6: 453724.91 | AH6: 260477.64 | AI6: 304537.12 | AJ6: 381058.95 | AK6: 257370.6 | AL6: 236870.02 | AM6: 283603.08 | AN6: 336232.04 | AO6: 236587.69 | AP6: 330663.84 | AQ6: 353008.52 | AR6: 267184.7 | AS6: 312944.9 | AT6: 307028.41 | AU6: 275609.63 | AV6: 332611.24 | AW6: 586326.61 | AX6: 447168.27 | AY6: 493484.37 | AZ6: 514790.72 | BA6: 459902.93 | BB6: 440827.8 | BC6: 433278.41 | BD6: 415882.77 | BE6: 846868.09 | BF6: 364820.17 | BG6: 401671.58 | BH6: 449857.34 | BI6: 560249.99 | BJ6: 742357.17
A7: 1 | B7: Beverages and tobacco | C7: 12090.992 | D7: 5851.2092 | E7: 5309.1996 | F7: 5956.0982 | G7: 10249.055 | H7: =SUM(BE7:BP7) -> 4309.6551 | I7: 539 | J7: 291 | K7: 634.49618 | L7: 31.8496 | M7: 262.7843 | N7: 621.40443 | O7: 1088 | P7: 0.78637 | Q7: 843.74088 | R7: 313.10932 | S7: 987.12043 | T7: 237.91769 | U7: 258.12664 | V7: 206.0977 | W7: 1.37337 | X7: 0.0659 | Y7: 560.83855 | Z7: 569.23599 | AA7: 300.19126 | AB7: 530.10223 | AC7: 869.74067 | AD7: 1503.6756 | AE7: 454.99536 | AF7: 54.75634 | AG7: 392.71078 | AH7: 5.54028 | AI7: 523.39994 | AJ7: 258.31017 | AK7: 346.02552 | AL7: 601.53924 | AM7: 13.07973 | AN7: 1198.265 | AO7: 666.72743 | AP7: 467.39917 | AQ7: 245.28666 | AR7: 1237.8143 | AS7: 549.61843 | AT7: 738.96385 | AU7: 962.63193 | AV7: 415.86482 | AW7: 1196.8493 | AX7: 1633.1141 | AY7: 796.48869 | AZ7: 986.46591 | BA7: 517.50983 | BB7: 702.6443 | BC7: 506.79994 | BD7: 1242.1036 | BE7: 727.12395 | BF7: 919.65505 | BG7: 501.20963 | BH7: 388.72837 | BI7: 1572.094 | BJ7: 200.84412
