Workbook

Sheet 1_BOT
A1: Table 1 | B1: BALANCE OF TRADE - ALL ITEMS
A2: Period | C2: [Kina 000]
A3: Annually | B3: Month | C3: Exports FOB | D3: Re-exports FOB | E3: Total Exports FOB | F3: Imports CIF | G3: Trade Balance Surplus (+)/Deficit (-)
A4: 2020 | C4: 34218260 | D4: 915222.85 | E4: 35133482 | F4: 16119440 | G4: 19014042
A5: 2021 | C5: 33763345 | D5: 214201.32 | E5: 33977547 | F5: 16048461 | G5: 17929086
A6: 2022 | C6: 38539972 | D6: 184975.98 | E6: 38724948 | F6: 20525989 | G6: 18198959
A7: 2023 | C7: 47483198 | D7: 905063.23 | E7: =C7+D7 -> 48388262 | F7: 22285456 | G7: =E7-F7 -> 26102805
A8: 2024 | C8: 52189805 | D8: 1371078.7 | E8: 53560884 | F8: 25657148 | G8: 27903737
A9: 2025p | C9: =SUM(C64:C69) -> 32393692 | D9: =SUM(D64:D69) -> 198801.66 | E9: =SUM(E64:E69) -> 32592494 | F9: =SUM(F64:F69) -> 12680213 | G9: =SUM(G64:G69) -> 19912281
A11: Monthly
A12: 2021 | B12: January | C12: 2514149 | D12: 5711 | E12: 2519860 | F12: 1338999.3 | G12: 1180860.7
B13: February | C13: 2563303 | D13: 3756.4903 | E13: 2567059.5 | F13: 1225828.5 | G13: 1341231
B14: March | C14: 3072429.6 | D14: 0 | E14: 3072429.6 | F14: 1189475.5 | G14: 1882954.1
B15: April | C15: 3099920.8 | D15: 110331.55 | E15: 3210252.4 | F15: 1222125.5 | G15: 1988126.9
B16: May | C16: 2109225.7 | D16: 85249 | E16: 2194474.7 | F16: 1379002.2 | G16: 815472.48
B17: June | C17: 3180433.6 | D17: 598 | E17: 3181031.6 | F17: 1331705.4 | G17: 1849326.2
B18: July | C18: 3232403.4 | D18: 2142.8571 | E18: 3234546.3 | F18: 1446717 | G18: 1787829.3
B19: August | C19: 2785059.4 | D19: 601 | E19: 2785660.4 | F19: 1622885.1 | G19: 1162775.3
B20: September | C20: 2708176.5 | D20: 5436.8241 | E20: 2713613.4 | F20: 1309170.1 | G20: 1404443.3
B21: October | C21: 2209602.1 | D21: 107.14285 | E21: 2209709.3 | F21: 1279006.8 | G21: 930702.46
B22: November | C22: 3253081.7 | D22: 267.45119 | E22: 3253349.2 | F22: 1401823.8 | G22: 1851525.4
B23: December | C23: 3035560.4 | D23: 0 | E23: 3035560.4 | F23: 1301721.4 | G23: 1733839
A25: 2022 | B25: January | C25: 3187191 | D25: 43194.395 | E25: 3230385.4 | F25: 1624258.7 | G25: 1606126.7
B26: February | C26: 2228504.9 | D26: 0 | E26: 2228504.9 | F26: 1490514.2 | G26: 737990.73
B27: March | C27: 5005272.1 | D27: 88544.656 | E27: 5093816.8 | F27: 1711195.7 | G27: 3382621
B28: April | C28: 2922203.1 | D28: 0 | E28: 2922203.1 | F28: 1419520.4 | G28: 1502682.7
B29: May | C29: 3218996.6 | D29: 9179.7136 | E29: 3228176.3 | F29: 1783158.3 | G29: 1445018
B30: June | C30: 3335322 | D30: 273.61136 | E30: 3335595.6 | F30: 1782389.9 | G30: 1553205.7
B31: July | C31: 3209806.3 | D31: 0 | E31: 3209806.3 | F31: 1598363.6 | G31: 1611442.7
B32: August | C32: 2953151.8 | D32: 13692.526 | E32: 2966844.3 | F32: 2062334.7 | G32: 904509.65
B33: September | C33: 4266847.1 | D33: 955.36206 | E33: 4267802.5 | F33: 1759153.1 | G33: 2508649.3
B34: October | C34: 2464625.5 | D34: 210.33577 | E34: 2464835.8 | F34: 1885186.7 | G34: 579649.08
B35: November | C35: 3487901.5 | D35: 26670.977 | E35: 3514572.5 | F35: 1816597.9 | G35: 1697974.6
B36: December | C36: 2260149.8 | D36: 2254.4072 | E36: 2262404.3 | F36: 1593315.3 | G36: 669088.96
A38: 2023 | B38: January | C38: 4901912.7 | D38: 268.32577 | E38: =SUM(C38:D38) -> 4902181.1 | F38: 1690431.9 | G38: 1450403.6
B39: February | C39: 4444644.5 | D39: 2114.6953 | E39: =SUM(C39:D39) -> 4446759.2 | F39: 1777033.6 | G39: 631872.59
B40: March | C40: 4887311.7 | D40: 361395.46 | E40: =SUM(C40:D40) -> 5248707.1 | F40: 2058137 | G40: 1855459.2
B41: April | C41: 3259604.4 | D41: 0 | E41: =SUM(C41:D41) -> 3259604.4 | F41: 1597099.2 | G41: 1353180.7
B42: May | C42: 4115867.9 | D42: 1883.8522 | E42: =SUM(C42:D42) -> 4117751.7 | F42: 2011139.5 | G42: 1244028.4
B43: June | C43: 3368310.2 | D43: 426128.7 | E43: =SUM(C43:D43) -> 3794438.9 | F43: 1672966.9 | G43: 1199342.6
...

Sheet 2_M
A1: Table 2 | C1: IMPORTS BY HS
C2: [Kina 000]
A3: HS Sections® | C3: I | D3: II | E3: III | F3: IV | G3: V | H3: VI | I3: VII | J3: VIII | K3: IX | L3: X | M3: XI | N3: XII | O3: XIII | P3: XIV | Q3: XV | R3: XVI | S3: XVII | T3: XVIII | U3: XIX | V3: XX | W3: XXI | X3: XXII | Y3: Total
C4: Live animals: animal products | D4: Vegetable products | E4: Animal or vegetable oils & fats | F4: Prepared foodstuffs, beverages, spirits & tobacco | G4: Mineral products | H4: Chemicals and allied products | I4: Plastic, rubber & articles thereof | J4: Raw hides, skins, leather articles & travel goods | K4: Wood, cork & articles thereof & plaiting material | L4: Wood pulp, paper & paperboard & articles thereof | M4: Textiles & textile articles | N4: Footwear, headgear, umbrellas & parts thereof | O4: Articles of stone, plaster, cement, glass & ceremic products | P4: Pearls, precious & semi-precious stones & metals | Q4: Base metals & articles thereof | R4: Machinery & mechanical & electrical appliances & parts thereof | S4: Vehicles, aircraft & associated transport equipment | T4: Photographic & optical, medical & surgical goods & clocks/watches & musical instruments | U4: Arms and ammunition, parts & accessories thereof | V4: Miscellaneous manufactured articles | W4: Works of art, collectors pieces & antiques | X4: Others
A5: Year¯ | B5: Column1 | C5: 01 -05 | D5: 06 -14 | E5: 15 | F5: 16 - 24 | G5: 25 - 27 | H5: 28 - 38 | I5: 39 - 40 | J5: 41 - 43 | K5: 44 - 46 | L5: 47 - 49 | M5: 50 - 63 | N5: 64 - 67 | O5: 68 - 70 | P5: 71 | Q5: 72 - 83 | R5: 84 - 85 | S5: 86 - 89 | T5: 90 - 92 | U5: 93 | V5: 94 - 96 | W5: 97 | X5: 99 | Y5: Total
A6: Annually
A7: 2020 | C7: 641824.05 | D7: 1122392.7 | E7: 99655.151 | F7: 1121847.3 | G7: 2816586.1 | H7: 1207319.3 | I7: 780496.53 | J7: 25878.578 | K7: 18908.393 | L7: 239483.87 | M7: 402274.97 | N7: 88560.087 | O7: 167206.26 | P7: 5098.1717 | Q7: 1386598.5 | R7: 4127221.3 | S7: 1330786.7 | T7: 242365.05 | U7: 803.13642 | V7: 277272.05 | W7: 1530.4018 | X7: 15331.656 | Y7: 16119440
A8: 2021 | C8: 647725.35 | D8: 1121252.4 | E8: 224143.56 | F8: 1078856.5 | G8: 2250168.8 | H8: 1272543.5 | I8: 834366.24 | J8: 31896.465 | K8: 20444.036 | L8: 262618.16 | M8: 447725.25 | N8: 102828.78 | O8: 149769.93 | P8: 2039.0252 | Q8: 1592727.2 | R8: 4145839.7 | S8: 1259951.8 | T8: 256796.8 | U8: 1001.4138 | V8: 324879.58 | W8: 399.88959 | X8: 20484.819 | Y8: 16048459
A9: 2022 | C9: 753548.5 | D9: 1304358.5 | E9: 291185.33 | F9: 1387459.8 | G9: 3449229 | H9: 1658054.9 | I9: 1178579.9 | J9: 37814.235 | K9: 24181.446 | L9: 318123.54 | M9: 524190.14 | N9: 144801.35 | O9: 222708 | P9: 16115.394 | Q9: 2062553.4 | R9: 4789828.4 | S9: 1602040.8 | T9: 357858.49 | U9: 5973.0564 | V9: 378993.87 | W9: 418.41131 | X9: 17972.005 | Y9: 20525988
A10: 2023 | C10: =SUM(C42:C53) -> 830569.33 | D10: =SUM(D42:D53) -> 1420771 | E10: =SUM(E42:E53) -> 126329.33 | F10: =SUM(F42:F53) -> 1329683.7 | G10: =SUM(G42:G53) -> 4137206 | H10: =SUM(H42:H53) -> 1624296.5 | I10: =SUM(I42:I53) -> 958806.33 | J10: =SUM(J42:J53) -> 40844.072 | ... X10: =SUM(X42:X53) -> 15915.012 | Y10: 22285456
A11: 2024 | C11: 867075.31 | D11: 1670627.7 | E11: 187140.8 | F11: 1630851.7 | G11: 4714211.8 | H11: 1693785.3 | I11: 1183338.5 | J11: 48501.896 | K11: 27117.664 | L11: 438321.79 | M11: 538399.86 | N11: 158906.03 | O11: 206459.09 | P11: 22349.249 | Q11: 2145630.5 | R11: 6006290.5 | S11: 2874637 | T11: 405225.55 | U11: 7486.7164 | V11: 806417.9 | W11: 570.43986 | X11: 23802.346 | Y11: 25657148
A12: 2025 p | C12: =SUM(C68:C79) -> 431790.91 | D12: =SUM(D68:D79) -> 813560.42 | E12: =SUM(E68:E79) -> 74460.014 | F12: =SUM(F68:F79) -> 873146.6 | G12: =SUM(G68:G79) -> 16502.742 | H12: =SUM(H68:H79) -> 2447890.9 | I12: =SUM(I68:I79) -> 860901.57 | J12: =SUM(J68:J79) -> 565074.87 | ... Y12: =SUM(Y68:Y79) -> 12680213
A14: Monthly
A15: Year | B15: Months | C15: 01-05 | D15: 06-14 | E15: 15 | F15: 16-24 | G15: 25-27 | H15: 28-38 | I15: 39-40 | J15: 41-43 | K15: 44-46 | L15: 47-49 | M15: 50-63 | N15: 64-67 | O15: 68-70 | P15: 71 | Q15: 72-83 | R15: 84-85 | S15: 86-89 | T15: 90-92 | U15: 93 | V15: 94-96 | W15: 97 | X15: 99 | Y15: Total
A16: 2021 | B16: January | C16: 34997.822 | D16: 113903.2 | E16: 12715.223 | F16: 82427.837 | G16: 143356.83 | H16: 82866.302 | I16: 67763.903 | J16: 2438.9826 | K16: 1584.9732 | L16: 18654.182 | M16: 35960.939 | N16: 7831.9034 | O16: 12522.814 | P16: 109.34558 | Q16: 102750.4 | R16: 456239.22 | S16: 111067.42 | T16: 24725.872 | U16: 1.16368 | V16: 25166.692 | W16: 4 | X16: 1909.9816 | Y16: 1338999
B17: February | C17: 52553.88 | D17: 63646.797 | E17: 13211.924 | F17: 111661.54 | G17: 181317.15 | H17: 116079.72 | I17: 59649.376 | J17: 2500.8458 | K17: 1150.9111 | L17: 22457.983 | M17: 30646.328 | N17: 6352.0469 | O17: 12899.92 | P17: 110.69704 | Q17: 99469.397 | R17: 320525.6 | S17: 93369.979 | T17: 15785.933 | U17: 4 | V17: 19779.787 | W17: 7 | X17: 2647 | Y17: 1225827.8
B18: March | C18: 54484.529 | D18: 65272.512 | E18: 14750.672 | F18: 75849.656 | G18: 203361.39 | H18: 102927.81 | I18: 54975.102 | J18: 1658.2084 | K18: 1160.0406 | L18: 15153.71 | M18: 35099.685 | N18: 8311.0885 | O18: 10601.753 | P18: 256.76934 | Q18: 102731.76 | R18: 296294.93 | S18: 102228.23 | T18: 19860.784 | U18: 0 | V18: 23018.673 | W18: 16 | X18: 1462 | Y18: 1189475.3
B19: April | C19: 52954.396 | D19: 78245.491 | E19: 18131.998 | F19: 107430.67 | G19: 170480.99 | H19: 106254.16 | I19: 60247.087 | J19: 2269.5074 | K19: 1538.5658 | L19: 22840.145 | M19: 35653.248 | N19: 7247.5569 | O19: 12641.925 | P19: 105.08086 | Q19: 117259.36 | R19: 293033.89 | S19: 88101.404 | T19: 21608.4 | U19: 0 | V19: 23017.758 | W19: 20 | X19: 3043.2204 | Y19: 1222124.9
B20: May | C20: 57996.108 | D20: 96292.493 | E20: 16644.674 | F20: 77589.232 | G20: 214037.15 | H20: 104598.39 | I20: 71249.584 | J20: 2811.9762 | K20: 2099.5051 | L20: 28245.521 | M20: 38096.017 | N20: 7553.1231 | O20: 13218.143 | P20: 121 | Q20: 158803.02 | R20: 348815.64 | S20: 103906.46 | T20: 4993.6348 | U20: 10 | V20: 29747.214 | W20: 12 | X20: 2161.3569 | Y20: 1379002.2
B21: June | C21: 50940.736 | D21: 69397.388 | E21: 14470.554 | F21: 88609.382 | G21: 105121.63 | H21: 132293.64 | I21: 90633.74 | J21: 2928.4688 | K21: 1762.2152 | L21: 26090.959 | M21: 40988.171 | N21: 8249.2492 | O21: 10414.243 | P21: 134.9906 | Q21: 141851.04 | R21: 381190.3 | S21: 115892.2 | T21: 23523.641 | U21: 0 | V21: 26050.773 | W21: 9.83734 | X21: 1152 | Y21: 1331705.2
B22: July | C22: 44711.712 | D22: 71066.272 | E22: 15201.355 | F22: 75890.213 | G22: 306901.72 | H22: 105067.31 | I22: 77276.715 | J22: 2284.017 | K22: 1836.0732 | L22: 17438.996 | M22: 35733.67 | N22: 7603.6599 | O22: 13065.363 | P22: 321.43512 | Q22: 161249.42 | R22: 364412.09 | S22: 95170.992 | T22: 22700.186 | U22: 55.27432 | V22: 28073.757 | W22: 30.95873 | X22: 625.76906 | Y22: 1446717
B23: August | C23: 85044.204 | D23: 195527.36 | E23: 17745.463 | F23: 100594.03 | G23: 226759.31 | H23: 120339.95 | I23: 71115.52 | J23: 3401.6608 | K23: 2017.387 | L23: 13829.959 | M23: 43603.153 | N23: 9301.5848 | O23: 8959.2827 | P23: 228.11541 | Q23: 151085.83 | R23: 389704.86 | S23: 124259.72 | T23: 26945.547 | U23: 868.58839 | V23: 30368.331 | W23: 25.66905 | X23: 1159.5364 | Y23: 1622885.1
B24: September | C24: 46115.419 | D24: 102529.67 | E24: 14035.014 | F24: 93507.124 | G24: 115627.91 | H24: 102203 | I24: 71319.414 | J24: 2562.8181 | K24: 1257.9671 | L24: 25256.815 | M24: 39768.772 | N24: 10227.583 | O24: 16825.955 | P24: 106.82897 | Q24: 154885.11 | R24: 356643.1 | S24: 95970.539 | T24: 20671.151 | U24: 2.13064 | V24: 38833.86 | W24: 11.51338 | X24: 807.99785 | Y24: 1309169.7
B25: October | C25: 47932.463 | D25: 75854.025 | E25: 45708.664 | F25: 73816.643 | G25: 249578.28 | H25: 104058.12 | I25: 65962 | J25: 3147.0525 | K25: 1674.1976 | L25: 19831.242 | M25: 36130 | N25: 10251.629 | O25: 12312.058 | P25: 169.31333 | Q25: 114315.88 | R25: 271414.51 | S25: 99579.847 | T25: 21989.492 | U25: 60.25675 | V25: 23143.334 | W25: 210.18036 | X25: 1867.9626 | Y25: 1279007.1
B26: November | C26: 55904.351 | D26: 94601.655 | E26: 23529.326 | F26: 91612 | G26: 205330.96 | H26: 91570.501 | I26: 63382.167 | J26: 2757 | K26: 2158.3459 | L26: 30750.924 | M26: 36819.458 | N26: 10069.708 | O26: 11879.192 | P26: 277.23814 | Q26: 144342.99 | R26: 343636.79 | S26: 137308.34 | T26: 28677.56 | U26: 0 | V26: 26132.906 | W26: 13.99556 | X26: 1069 | Y26: 1401824.4
B27: December | C27: 64089.733 | D27: 94915.522 | E27: 17998.696 | F27: 99868.133 | G27: 128295.46 | H27: 104284.59 | I27: 80791.637 | J27: 3135.9279 | K27: 2203.8543 | L27: 22067.728 | M27: 39225.807 | N27: 9829.649 | O27: 14429.281 | P27: 98.21079 | Q27: 143982.93 | R27: 323928.79 | S27: 93096.668 | T27: 25314.595 | U27: 0 | V27: 31546.494 | W27: 38.73517 | X27: 2578.9945 | Y27: 1301721.4
A29: 2022 | B29: January | C29: 43247.155 | D29: 85698.382 | E29: 22342.328 | F29: 88605.129 | G29: 279468.86 | H29: 142319.97 | I29: 81923.59 | J29: 2696.3993 | K29: 994.00087 | L29: 21514.373 | M29: 40006.003 | N29: 10735.86 | O29: 19252.64 | P29: 48.50069 | Q29: 180777.56 | R29: 406904.78 | S29: 132466.91 | T29: 34596.7 | U29: 33.28493 | V29: 28797.19 | W29: 25.79164 | X29: 1803.243 | Y29: 1624258.7
B30: February | C30: 48733.271 | D30: 97814.704 | E30: 19586.712 | F30: 79088.552 | G30: 350887.44 | H30: 104030.96 | I30: 63018.234 | J30: 2399.3719 | K30: 1144.4379 | L30: 18436.674 | M30: 40777.59 | N30: 10843.392 | O30: 19611.599 | P30: 118.93197 | Q30: 163051.11 | R30: 327402.37 | S30: 93816.44 | T30: 23477.601 | U30: 13.0264 | V30: 24748.162 | W30: 26.72889 | X30: 1486.8906 | Y30: 1490514.2
B31: March | C31: 54768.69 | D31: 118626.58 | E31: 24425.214 | F31: 170679.7 | G31: 324196.41 | H31: 151565.95 | I31: 94978.588 | J31: 2748.3105 | K31: 1562.8555 | L31: 22112.181 | M31: 33549.419 | N31: 13257.393 | O31: 14219.749 | P31: 223.08708 | Q31: 187643.34 | R31: 354640.23 | S31: 83505.002 | T31: 24770.822 | U31: 251.90889 | V31: 30087.07 | W31: 22.74727 | X31: 3360.4982 | Y31: 1711195.7
B32: April | C32: 56319.896 | D32: 79267.344 | E32: 21659.692 | F32: 96922.03 | G32: 274450.96 | H32: 93298.492 | I32: 71974.94 | J32: 3378.779 | K32: 2039.1281 | L32: 28545.719 | M32: 41957.763 | N32: 11719.598 | O32: 15043.504 | P32: 1776.6992 | Q32: 142461.1 | R32: 329688.04 | S32: 97365.631 | T32: 23143.372 | U32: 1.90835 | V32: 27625.584 | W32: 6.25826 | X32: 873.93979 | Y32: 1419520.4
B33: May | C33: 71916.58 | D33: 126593.03 | E33: 27490.301 | F33: 141958.22 | G33: 306292.04 | H33: 116744.37 | I33: 104294.36 | J33: 3210.2746 | K33: 1770.3125 | L33: 27704.781 | M33: 47008.269 | N33: 10964.44 | O33: 17213.447 | P33: 329.5092 | Q33: 171780.2 | R33: 399065.89 | S33: 144914.59 | T33: 29386.081 | U33: 284.85248 | V33: 32841.802 | W33: 75.70236 | X33: 1319.2343 | Y33: 1783158.3
B34: June | C34: 55879.856 | D34: 150367.6 | E34: 28602.615 | F34: 118816.27 | G34: 173392.24 | H34: 160088.01 | I34: 104291.07 | J34: 4718.0144 | K34: 2475.5583 | L34: 24316.989 | M34: 44596.024 | N34: 13850.885 | O34: 23857.888 | P34: 2970.6199 | Q34: 250229.39 | R34: 428356.22 | S34: 122123.98 | T34: 36442.229 | U34: 868.88398 | V34: 34108.156 | W34: 12.98829 | X34: 2024.4179 | Y34: 1782389.9
B35: July | C35: 61400.253 | D35: 60068.828 | E35: 19666.973 | F35: 94502.303 | G35: 243204.24 | H35: 130491.16 | I35: 96051.483 | J35: 3082.7274 | K35: 2491.9395 | L35: 20436.582 | M35: 57253.738 | N35: 10518.229 | O35: 20160.105 | P35: 144.37499 | Q35: 170754.17 | R35: 413020.37 | S35: 128185.08 | T35: 27799.09 | U35: 3311.3029 | V35: 34903.52 | W35: 3.75587 | X35: 913.35907 | Y35: 1598363.6
B36: August | C36: 78007.728 | D36: 169227.36 | E36: 26511.92 | F36: 151902.84 | G36: 332949.75 | H36: 201301.78 | I36: 123361.14 | J36: 3102.6831 | K36: 3242.6242 | L36: 35694.205 | M36: 51659.091 | N36: 12146.936 | O36: 17914.017 | P36: 1219.1648 | Q36: 197956.99 | R36: 461195.37 | S36: 125854.32 | T36: 29902.287 | U36: 82.93672 | V36: 37514.234 | W36: 11.68388 | X36: 1575.624 | Y36: 2062334.7
B37: September | C37: 50353.917 | D37: 89156.706 | E37: 30393.321 | F37: 100357.11 | G37: 239495.82 | H37: 133788.26 | I37: 185265.96 | J37: 2745.8791 | K37: 1914.9296 | L37: 25240.513 | M37: 41591.507 | N37: 11691.239 | O37: 19126.601 | P37: 108.36074 | Q37: 153754.31 | R37: 422911.79 | S37: 179182.58 | T37: 38493.239 | U37: 454.95161 | V37: 31569.52 | W37: 2.32987 | X37: 1554.288 | Y37: 1759153.1
B38: October | C38: 78594.148 | D38: 137063.07 | E38: 32200.585 | F38: 118262.62 | G38: 314051.1 | H38: 176795.67 | I38: 79976.303 | J38: 3800.6315 | K38: 3513.3964 | L38: 31985.708 | M38: 45195.464 | N38: 12629.1 | O38: 21670.153 | P38: 6024.8817 | Q38: 156740.34 | R38: 423148.43 | S38: 184382.61 | T38: 24457.215 | U38: 243.61748 | V38: 32674.7 | W38: 31.02491 | X38: 1745.8709 | Y38: 1885186.6
B39: November | C39: 90779.751 | D39: 86164.169 | E39: 23566.787 | F39: 94266.363 | G39: 272149.49 | H39: 140291.85 | I39: 96261.683 | J39: 3588.1278 | K39: 1709.8043 | L39: 34479.974 | M39: 42482.894 | N39: 13325.137 | O39: 20690.024 | P39: 3024.914 | Q39: 148444.35 | R39: 507252.71 | S39: 164358.11 | T39: 38808.926 | U39: 40.18211 | V39: 34130.973 | W39: 73.40336 | X39: 708.30515 | Y39: 1816597.9
B40: December | C40: 63547.252 | D40: 104310.76 | E40: 14738.882 | F40: 132098.69 | G40: 338690.58 | H40: 107338.4 | I40: 77182.5 | J40: 2343.0361 | K40: 1322.4586 | L40: 27655.844 | M40: 38112.38 | N40: 13119.137 | O40: 13948.267 | P40: 126.34949 | Q40: 138960.6 | R40: 316242.16 | S40: 145885.56 | T40: 26580.933 | U40: 386.20058 | V40: 29992.959 | W40: 125.99671 | X40: 606.33396 | Y40: 1593315.3
A42: 2023 | B42: January | C42: 56040.331 | D42: 125377.53 | E42: 15676.513 | F42: 113335.44 | G42: 331856.13 | H42: 146396.5 | I42: 68848.372 | J42: 2855.1526 | K42: 2297.3099 | L42: 17331.321 | M42: 37887.282 | N42: 9151.3848 | O42: 15538.655 | P42: 126.74639 | Q42: 119934.38 | R42: 420072.42 | S42: 146841.61 | T42: 21398.738 | U42: 1.20774 | V42: 38701.198 | W42: 9.2497 | X42: 754.47679 | Y42: =SUM(C42:X42) -> 1690431.9
B43: February | C43: 63944.935 | D43: 83505.437 | E43: 8007.0369 | F43: 118166.65 | G43: 132351.18 | H43: 105163.49 | I43: 58263.313 | J43: 1859.6987 | K43: 1491.588 | L43: 17241.62 | M43: 30280.154 | N43: 10058.382 | O43: 12066.305 | P43: 59.27186 | Q43: 181522.1 | R43: 397769.05 | S43: 499592.23 | T43: 31190.281 | U43: 79.32423 | V43: 21980.155 | W43: 41.75754 | X43: 2399.6741 | Y43: =SUM(C43:X43) -> 1777033.6
...

Sheet 3_X
A1: Table 3 | C1: DOMESTIC EXPORTS BY HS
C2: [Kina 000]
A3: HS Sections® | C3: I | D3: II | E3: III | F3: IV | G3: V | H3: VI | I3: VII | J3: VIII | K3: IX | L3: X | M3: XI | N3: XII | O3: XIII | P3: XIV | Q3: XV | R3: XVI | S3: XVII | T3: XVIII | U3: XIX | V3: XX | W3: XXI | X3: XXII | Y3: Total
C4: Live animals: animal products | D4: Vegetable products | E4: Animal or vegetable oils & fats | F4: Prepared foodstuffs, beverages, spirits & tobacco | G4: Mineral products | H4: Chemicals and allied products | I4: Plastic, rubber & articles thereof | J4: Raw hides, skins, leather articles thereof & travel goods | K4: Wood, cork & articles thereof & plaiting material | L4: Wood pulp, paper & paperboard & articles thereof | M4: Textiles & textile articles | N4: Footwear, headgear, umbrellas & parts thereof | O4: Articles of stone, plaster, cement, glass & ceremic products | P4: Pearls, precious & semi-precious stones & metals | Q4: Base metals & articles thereof | R4: Machinery & mechanical & electrical appliances & parts thereof | S4: Vehicles, aircraft & associated transport equipment | T4: Photographic & optical, medical & surgical goods & clocks/watches & musical instruments | U4: Arms and ammunition, parts & accessories thereof | V4: Miscellaneous manufactured articles | W4: Works of art, collectors pieces & antiques | X4: Others
A5: Periods¯ | B5: HS Codes | C5: 01 -05 | D5: 06 -14 | E5: 15 | F5: 16 - 24 | G5: 25 - 27 | H5: 28 - 38 | I5: 39 - 40 | J5: 41 - 43 | K5: 44 - 46 | L5: 47 - 49 | M5: 50 - 63 | N5: 64 - 67 | O5: 68 - 70 | P5: 71 | Q5: 72 - 83 | R5: 84 - 85 | S5: 86 - 89 | T5: 90 - 92 | U5: 93 | V5: 94 - 96 | W5: 97 | X5: 99 | Y5: Total
A6: Annually
A7: 2020 | C7: 1085458.7 | D7: 472083.24 | E7: 1824132.4 | F7: 914562.33 | G7: 19397660 | H7: 12956.378 | I7: 21620.485 | J7: 1025.5605 | K7: 1135829.7 | L7: 1044.8112 | M7: 1083.9349 | N7: 218.78877 | O7: 267.03393 | P7: 7856814.6 | Q7: 1070326.6 | R7: 214778.43 | S7: 158500.52 | T7: 29124.682 | U7: 0 | V7: 1089.5 | W7: 0.52331 | X7: 19681.514 | Y7: 34218260
A8: 2021 | C8: 1392088.5 | D8: 675559.44 | E8: 3253598.4 | F8: 924061.4 | G8: 18765606 | H8: 31100.096 | I8: 23043.28 | J8: 585.56897 | K8: 1085818.4 | L8: 2560.1318 | M8: 1338.1768 | N8: 313.56954 | O8: 9360.5569 | P8: 5874979 | Q8: 1142216.2 | R8: 278282.33 | S8: 272274.46 | T8: 10657.046 | U8: 0 | V8: 3767.1213 | W8: 1709.3458 | X8: 14428.489 | Y8: 33763348
A9: 2022 | C9: 2461377.6 | D9: 838149.87 | E9: 3646767.9 | F9: 870037.75 | G9: 21426253 | H9: 22397.02 | I9: 29373.47 | J9: 840.32684 | K9: 1174918.3 | L9: 4079.3161 | M9: 1189.3248 | N9: 311.48903 | O9: 67330.53 | P9: 6730672.9 | Q9: 963488.01 | R9: 206586.91 | S9: 61142.701 | T9: 16717.672 | U9: 20.82357 | V9: 1053.2006 | W9: 57.93349 | X9: 17205.349 | Y9: 38539972
A10: 2023 | C10: 1662392.2 | D10: 892808.21 | E10: 3304911.3 | F10: 1183801.3 | G10: 25018001 | H10: 42741.103 | I10: 21289.396 | J10: 714.1922 | K10: 983523.9 | L10: 3427.5934 | M10: 2084.3254 | N10: 270.90582 | O10: 98722.277 | P10: 12477979 | Q10: 1309661.7 | R10: 294397.78 | S10: 138182.23 | T10: 24615.653 | U10: 0 | V10: 950.29669 | W10: 35.88894 | X10: 22687.783 | Y10: 47483198
A11: 2024 | C11: 2026482 | D11: 871246.83 | E11: 3070965.4 | F11: 2202137.7 | G11: 30700125 | H11: 35448.468 | I11: 37748.396 | J11: 856.73118 | K11: 919849.33 | L11: 4054.8709 | M11: 1687.0723 | N11: 447.28978 | O11: 127109.62 | P11: 10183041 | Q11: 1295607.9 | R11: 507822.55 | S11: 148159.83 | T11: 31054.783 | U11: 63.46075 | V11: 1847.3681 | W11: 53.84275 | X11: 23996.381 | Y11: 52189805
A12: 2025 p | C12: =SUM(C67:C78) -> 1540404.7 | D12: =SUM(D67:D78) -> 502256.22 | E12: =SUM(E67:E78) -> 2226118.4 | F12: =SUM(F67:F78) -> 1404822.6 | G12: =SUM(G67:G78) -> 17099632 | H12: =SUM(H67:H78) -> 15690 | I12: =SUM(I67:I78) -> 74923.036 | J12: =SUM(J67:J78) -> 153.10432 | ... Y12: =SUM(Y67:Y78) -> 32393692
B14: Monthly | C14: 01 -05 | D14: 06 -14 | E14: 15 | F14: 16 - 24 | G14: 25 - 27 | H14: 28 - 38 | I14: 39 - 40 | J14: 41 - 43 | K14: 44 - 46 | L14: 47 - 49 | M14: 50 - 63 | N14: 64 - 67 | O14: 68 - 70 | P14: 71 | Q14: 72 - 83 | R14: 84 - 85 | S14: 86 - 89 | T14: 90 - 92 | U14: 93 | V14: 94 - 96 | W14: 97 | X14: 99 | Y14: Total
A15: 2021 | B15: January | C15: 205632 | D15: 24758 | E15: 157957 | F15: 87058 | G15: 1471147 | H15: 1811 | I15: 2437 | J15: 5 | K15: 72081 | L15: 2 | M15: 209 | N15: 144 | O15: 0 | P15: 421067 | Q15: 58501 | R15: 8455 | S15: 868 | T15: 837 | U15: 0 | V15: 103 | W15: 0 | X15: 1077 | Y15: 2514149
B16: February | C16: 117692 | D16: 27695 | E16: 103678 | F16: 68485 | G16: 1446510 | H16: 755 | I16: 1487 | J16: 4 | K16: 73186 | L16: 30 | M16: 4 | N16: 1 | O16: 1 | P16: 553753 | Q16: 116126 | R16: 42789 | S16: 9653 | T16: 36 | U16: 0 | V16: 52 | W16: 0 | X16: 1366 | Y16: 2563303
B17: March | C17: 206723.98 | D17: 29106.282 | E17: 144833.52 | F17: 70528.269 | G17: 1545819.4 | H17: 2229.0909 | I17: 3362.2604 | J17: 191.936 | K17: 86098.06 | L17: 0 | M17: 44 | N17: 0 | O17: 0 | P17: 825605.93 | Q17: 139910.06 | R17: 12781.831 | S17: 3955.3452 | T17: 463.82603 | U17: 0 | V17: 3 | W17: 0 | X17: 773.49708 | Y17: 3072430.3
B18: April | C18: 215411.45 | D18: 25156.162 | E18: 455425.13 | F18: 103604.11 | G18: 1564533.7 | H18: 412.00295 | I18: 286.33999 | J18: 3 | K18: 172159.27 | L18: 2 | M18: 31 | N18: 5 | O18: 0 | P18: 445005.04 | Q18: 92168.74 | R18: 22484.854 | S18: 2167.6887 | T18: 146 | U18: 0 | V18: 7 | W18: 23 | X18: 890 | Y18: 3099921.5
B19: May | C19: 80560.421 | D19: 45648.684 | E19: 380659.49 | F19: 86301.779 | G19: 1033745 | H19: 2617.4068 | I19: 752.30949 | J19: 2 | K19: 59004.813 | L19: 96.2494 | M19: 2 | N19: 0 | O19: 8 | P19: 343036.27 | Q19: 46253.377 | R19: 12526.258 | S19: 16482.326 | T19: 39 | U19: 0 | V19: 37 | W19: 6 | X19: 1447.9791 | Y19: 2109226.3
B20: June | C20: 43417.149 | D20: 59348.469 | E20: 188891.01 | F20: 77885.406 | G20: 1704587.8 | H20: 1844.0783 | I20: 2399.1104 | J20: 0 | K20: 81822.33 | L20: 88.68202 | M20: 60.7103 | N20: 113.07145 | O20: 6.73048 | P20: 668558.53 | Q20: 90599.285 | R20: 45560.138 | S20: 209432.61 | T20: 5172.3868 | U20: 0 | V20: 13.5103 | W20: 0 | X20: 633 | Y20: 3180434
B21: July | C21: 14030.827 | D21: 63543.265 | E21: 337515.63 | F21: 61570.447 | G21: 1980684.9 | H21: 2285.173 | I21: 2418 | J21: 120 | K21: 69896.094 | L21: 134.64931 | M21: 224.00864 | N21: 3.49809 | O21: 12.10184 | P21: 584279.82 | Q21: 85528.845 | R21: 21844.248 | S21: 6007.2103 | T21: 498.26393 | U21: 0 | V21: 81.25781 | W21: 121.11943 | X21: 1604 | Y21: 3232403.4
B22: August | C22: 56118.597 | D22: 67943.045 | E22: 204129.81 | F22: 71897.577 | G22: 1632766 | H22: 765.61413 | I22: 3849.8631 | J22: 135 | K22: 83635.572 | L22: 27.27836 | M22: 58.6142 | N22: 0 | O22: 4.7246 | P22: 409600.71 | Q22: 183083.9 | R22: 54159.568 | S22: 14180.717 | T22: 950.23993 | U22: 0 | V22: 196.35321 | W22: 1556.2264 | X22: 0 | Y22: 2785059.4
B23: September | C23: 47514.59 | D23: 90655.88 | E23: 314703.97 | F23: 80405.973 | G23: 1501354.6 | H23: 1446.8338 | I23: 811.23867 | J23: 1.7813 | K23: 94835.746 | L23: 258.87014 | M23: 48.02306 | N23: 0 | O23: 0 | P23: 506886.3 | Q23: 51449.109 | R23: 13915.348 | S23: 391.00186 | T23: 1578.2838 | U23: 0 | V23: 2 | W23: 0 | X23: 1917 | Y23: 2708176.5
B24: October | C24: 124069.18 | D24: 81591.41 | E24: 107280.94 | F24: 70510.659 | G24: 1208341.4 | H24: 5651.4024 | I24: 1958.4637 | J24: 88.07403 | K24: 75047.701 | L24: 193.8141 | M24: 107.26115 | N24: 26 | O24: 1 | P24: 381628.04 | Q24: 133215.2 | R24: 15462.388 | S24: 2341.1278 | T24: 607.56373 | U24: 0 | V24: 111 | W24: 0 | X24: 1369.464 | Y24: 2209602.1
B25: November | C25: 127939.78 | D25: 77064.839 | E25: 231364.2 | F25: 69889.225 | G25: 2275709.9 | H25: 10615.756 | I25: 1188.8923 | J25: 18.89764 | K25: 113762.21 | L25: 159.93844 | M25: 0 | N25: 2 | O25: 6934 | P25: 234940.06 | Q25: 96431.661 | R25: 1988.189 | S25: 703.86727 | T25: 247.97071 | U25: 0 | V25: 3159 | W25: 3 | X25: 958.30866 | Y25: 3253081.7
B26: December | C26: 152978.55 | D26: 83048.4 | E26: 627159.66 | F26: 75924.956 | G26: 1400406.5 | H26: 666.73809 | I26: 2092.8021 | J26: 15.88 | K26: 104289.61 | L26: 1566.65 | M26: 549.55944 | N26: 19 | O26: 2393 | P26: 500618.27 | Q26: 48949.014 | R26: 26315.507 | S26: 6091.5668 | T26: 80.51082 | U26: 0 | V26: 2 | W26: 0 | X26: 2392.2404 | Y26: 3035560.4
A28: 2022 | B28: January | C28: 140306.59 | D28: 37096.045 | E28: 94440.387 | F28: 72888.771 | G28: 1970172.2 | H28: 475.75969 | I28: 1219.6989 | J28: 239.90282 | K28: 98454.324 | L28: 1374.2571 | M28: 110.22012 | N28: 5.01565 | O28: 3350.1 | P28: 697069.69 | Q28: 56011.27 | R28: 9091.6602 | S28: 936.34654 | T28: 1603.6425 | U28: 0 | V28: 40.78812 | W28: 0.76707 | X28: 2303.5539 | Y28: 3187191
B29: February | C29: 127726.69 | D29: 36407.021 | E29: 299968.97 | F29: 44909.635 | G29: 1027266.5 | H29: 3455.3069 | I29: 1820.3111 | J29: 58.05062 | K29: 113353.5 | L29: 98.94593 | M29: 84.35418 | N29: 78.35109 | O29: 6965.2223 | P29: 469211.77 | Q29: 52186.845 | R29: 39175.562 | S29: 4132.113 | T29: 633.04664 | U29: 0 | V29: 11.24992 | W29: 2.64286 | X29: 958.86306 | Y29: 2228504.9
B30: March | C30: 177270.95 | D30: 50190.345 | E30: 173918.23 | F30: 87792.531 | G30: 3761223.6 | H30: 1868.4394 | I30: 3209.5768 | J30: 12.394 | K30: 78892.076 | L30: 0.38704 | M30: 104.18653 | N30: 3.68559 | O30: 1217.3479 | P30: 506302.28 | Q30: 145251.39 | R30: 15267.911 | S30: 1506.1932 | T30: 320.33567 | U30: 0 | V30: 179.00117 | W30: 0 | X30: 741.25956 | Y30: 5005272.1
B31: April | C31: 126742.87 | D31: 27152.101 | E31: 175582.36 | F31: 73747.808 | G31: 1547702.8 | H31: 1067.5841 | I31: 2582.2855 | J31: 135.90341 | K31: 95799.211 | L31: 0.26306 | M31: 33.75631 | N31: 53.72031 | O31: 1934.894 | P31: 735000.6 | Q31: 99750.198 | R31: 25886.791 | S31: 4990.4363 | T31: 2713.7099 | U31: 0 | V31: 112.43639 | W31: 0.027 | X31: 1213.2676 | Y31: 2922203.1
B32: May | C32: 278201.48 | D32: 53345.958 | E32: 553624.18 | F32: 76539.607 | G32: 1417554.1 | H32: 3844.4696 | I32: 2151.1863 | J32: 20.39953 | K32: 113864.72 | L32: 79.07348 | M32: 79.77215 | N32: 15.235 | O32: 7561.0027 | P32: 637584.01 | Q32: 55930.28 | R32: 13016.271 | S32: 3659.703 | T32: 740.54601 | U32: 0 | V32: 220.76036 | W32: 34.15796 | X32: 929.71241 | Y32: 3218996.6
B33: June | C33: 409398.81 | D33: 38709.995 | E33: 348346.34 | F33: 102877.23 | G33: 1495601.4 | H33: 1339.5569 | I33: 3100.4475 | J33: 0.46 | K33: 90380.19 | L33: 174.8819 | M33: 2.23377 | N33: 49.828 | O33: 7355.8182 | P33: 728273.27 | Q33: 99057.856 | R33: 5612.3762 | S33: 2713.4131 | T33: 1044.7328 | U33: 20.82357 | V33: 4.0364 | W33: 0 | X33: 1258.2868 | Y33: 3335322
B34: July | C34: 303957.86 | D34: 92114.409 | E34: 226636.48 | F34: 99998.503 | G34: 1719746.2 | H34: 442.7558 | I34: 2154.3137 | J34: 0.42322 | K34: 88380.487 | L34: 42.17866 | M34: 112.84423 | N34: 0.034 | O34: 3620.2656 | P34: 564360.5 | Q34: 54767.365 | R34: 28705.878 | S34: 23818.844 | T34: 723.87964 | U34: 0 | V34: 2.55169 | W34: 0 | X34: 220.4739 | Y34: 3209806.3
B35: August | C35: 248582.58 | D35: 102518.85 | E35: 328366.07 | F35: 94300.521 | G35: 1067988.6 | H35: 4487.5281 | I35: 2550.5382 | J35: 132.417 | K35: 95212.867 | L35: 285.90007 | M35: 122.28118 | N35: 1.57373 | O35: 10995.213 | P35: 874056.62 | Q35: 111343.49 | R35: 6180.2701 | S35: 2808.7906 | T35: 2325.462 | U35: 0 | V35: 55.80156 | W35: 0.4086 | X35: 836.02614 | Y35: 2953151.8
B36: September | C36: 87800.319 | D36: 50299.243 | E36: 1019656.6 | F36: 45667.933 | G36: 2427358.7 | H36: 1409.3138 | I36: 2246.6906 | J36: 66.0784 | K36: 99780.608 | L36: 170.58638 | M36: 84.23563 | N36: 73.62756 | O36: 3984.1486 | P36: 488484.17 | Q36: 23681.443 | R36: 10412.895 | S36: 1597.2568 | T36: 2637.5862 | U36: 0 | V36: 31.98869 | W36: 0 | X36: 1403.7046 | Y36: 4266847.1
B37: October | C37: 101264 | D37: 138133.91 | E37: 217007.24 | F37: 57723.676 | G37: 1385516 | H37: 1573.1687 | I37: 3245.3651 | J37: 148.97907 | K37: 123338.28 | L37: 19.45113 | M37: 297.82628 | N37: 1.18971 | O37: 132.26491 | P37: 287384.14 | Q37: 118955.98 | R37: 18162.393 | S37: 6951.9146 | T37: 2145.2605 | U37: 0 | V37: 86.55117 | W37: 13.43 | X37: 2524.4645 | Y37: 2464625.5
B38: November | C38: 190622.17 | D38: 142732.92 | E38: 74207.271 | F38: 55991.214 | G38: 2287484.9 | H38: 1119.997 | I38: 1633.5748 | J38: 22.11002 | K38: 56455.409 | L38: 1638.491 | M38: 131.84258 | N38: 21.83481 | O38: 7278.6778 | P38: 548211.71 | Q38: 93145.819 | R38: 16436.826 | S38: 6039.999 | T38: 1511.4485 | U38: 0 | V38: 250.20904 | W38: 0 | X38: 2965.0706 | Y38: 3487901.5
B39: December | C39: 269503.3 | D39: 69449.074 | E39: 135013.78 | F39: 57600.315 | G39: 1318638.3 | H39: 1313.1399 | I39: 3459.4819 | J39: 3.20875 | K39: 121006.6 | L39: 194.90026 | M39: 25.77187 | N39: 7.39358 | O39: 12935.576 | P39: 194734.2 | Q39: 53406.065 | R39: 18638.079 | S39: 1987.6903 | T39: 318.02191 | U39: 0 | V39: 57.82605 | W39: 6.5 | X39: 1850.6655 | Y39: 2260149.8
A41: 2023 | B41: January | C41: 233209.37 | D41: 68233.354 | E41: 213232.59 | F41: 154836.02 | G41: 2892758.8 | H41: 1520.6757 | I41: 1889.8289 | J41: 125.36302 | K41: 113500.98 | L41: 243.74805 | M41: 16.9022 | N41: 25.90721 | O41: 5060.2513 | P41: 985343.27 | Q41: 201115.34 | R41: 24479.173 | S41: 1718.4004 | T41: 996.13187 | U41: 0 | V41: 724.01869 | W41: 1.48 | X41: 2881.1264 | Y41: 4901912.7
B42: February | C42: 120656.31 | D42: 57903.401 | E42: 159066.07 | F42: 85652.704 | G42: 2897283.3 | H42: 878.09119 | I42: 2516.4318 | J42: 41.78098 | K42: 53160.788 | L42: 945.89427 | M42: 367.04367 | N42: 59.27311 | O42: 11086.525 | P42: 959111.18 | Q42: 50978.804 | R42: 35739.537 | S42: 6710.7149 | T42: 460.61788 | U42: 0 | V42: 11.01976 | W42: 5 | X42: 2009.9753 | Y42: 4444644.5
B43: March | C43: 169384.68 | D43: 48836.787 | E43: 365124.37 | F43: 88232.942 | G43: 2963431.2 | H43: 1365.4149 | I43: 2498.2715 | J43: 151.8099 | K43: 93539.986 | L43: 76.49837 | M43: 76.90344 | N43: 0.35599 | O43: 8407.5923 | P43: 981907.6 | Q43: 156310.73 | R43: 3555.6629 | S43: 1803.4203 | T43: 500.65907 | U43: 0 | V43: 25.96116 | W43: 0 | X43: 2080.8893 | Y43: 4887311.7
...

Sheet 4_ReX
A1: Table 4 | C1: RE-EXPORTS BY HS
C2: [Kina 000]
A3: HS Sections® | C3: I | D3: II | E3: III | F3: IV | G3: V | H3: VI | I3: VII | J3: VIII | K3: IX | L3: X | M3: XI | N3: XII | O3: XIII | P3: XIV | Q3: XV | R3: XVI | S3: XVII | T3: XVIII | U3: XIX | V3: XX | W3: XXI | X3: XXII | Y3: Total
C4: Live animals: animal products | D4: Vegetable products | E4: Animal or vegetable oils & fats | F4: Prepared foodstuffs, beverages, spirits & tobacco | G4: Mineral products | H4: Chemicals and allied products | I4: Plastic, rubber & articles thereof | J4: Raw hides, skins, leather articles thereof & travel goods | K4: Wood, cork & articles thereof & plaiting material | L4: Wood pulp, paper & paperboard & articles thereof | M4: Textiles & textile articles | N4: Footwear, headgear, umbrellas & parts thereof | O4: Articles of stone, plaster, cement, glass & ceremic products | P4: Pearls, precious & semi-precious stones & metals | Q4: Base metals & articles thereof | R4: Machinery & mechanical & electrical appliances & parts thereof | S4: Vehicles, aircraft & associated transport equipment | T4: Photographic & optical, medical & surgical goods & clocks/watches & musical instruments | U4: Arms and ammunition, parts & accessories thereof | V4: Miscellaneous manufactured articles | W4: Works of art, collectors pieces & antiques | X4: Others
A5: Periods¯ | B5: HS Codes | C5: 01 -05 | D5: 06 -14 | E5: 15 | F5: 16 - 24 | G5: 25 - 27 | H5: 28 - 38 | I5: 39 - 40 | J5: 41 - 43 | K5: 44 - 46 | L5: 47 - 49 | M5: 50 - 63 | N5: 64 - 67 | O5: 68 - 70 | P5: 71 | Q5: 72 - 83 | R5: 84 - 85 | S5: 86 - 89 | T5: 90 - 92 | U5: 93 | V5: 94 - 96 | W5: 97 | X5: 99
A6: 2020 | C6: 0 | D6: 0 | E6: 0 | F6: 0 | G6: 4.95199 | H6: 2.77517 | I6: 68.64438 | J6: 0.3259 | K6: 4.86123 | L6: 0 | M6: 49.51978 | N6: 0 | O6: 21.31502 | P6: 0 | Q6: 708.9089 | R6: 3051.7138 | S6: 911134.92 | T6: 155.33504 | U6: 0 | V6: 19.57473 | W6: 0 | X6: 0 | Y6: 915222.85
A7: 2021 | C7: 0 | D7: 0 | E7: 0 | F7: 0 | G7: 0 | H7: 57 | I7: 40.36589 | J7: 0 | K7: 0 | L7: 0 | M7: 13 | N7: 0 | O7: 0 | P7: 0 | Q7: 241 | R7: 4806.8519 | S7: 207519.89 | T7: 1382 | U7: 0 | V7: 140 | W7: 0 | X7: 0 | Y7: 214200.11
A8: 2022 | C8: 0 | D8: 0 | E8: 0 | F8: 0 | G8: 0 | H8: 0 | I8: 23.05979 | J8: 10.25576 | K8: 0 | L8: 0 | M8: 14.79957 | N8: 19.37667 | O8: 0 | P8: 0 | Q8: 119.61806 | R8: 7770.7699 | S8: 168670.94 | T8: 8309.6543 | U8: 0 | V8: 37.51377 | W8: 0 | X8: 0 | Y8: 184975.98
A9: 2023 | C9: 0 | D9: 0 | E9: 0 | F9: 0 | G9: 0 | H9: 0.85009 | I9: 14.76343 | J9: 0.71344 | K9: 0 | L9: 0.27704 | M9: 31.82032 | N9: 0 | O9: 0.58824 | P9: 0 | Q9: 223.61367 | R9: 1683.8119 | S9: 898527.49 | T9: 4459.9326 | U9: 117.84664 | V9: 1.51802 | W9: 0 | X9: 0 | Y9: 905063.23
A10: 2024 | C10: 0 | D10: 0 | E10: 0 | F10: 0 | G10: 0 | H10: 2.24716 | I10: 69.91207 | J10: 0.67115 | K10: 0 | L10: 0 | M10: 0.26624 | N10: 0 | O10: 0 | P10: 0 | Q10: 289.49559 | R10: 91807.367 | S10: 1272332.1 | T10: 6530.1165 | U10: 0 | V10: 46.52476 | W10: 0 | X10: 0 | Y10: 1371078.7
A11: 2025 p | C11: =SUM(C66:C77) -> 0 | D11: =SUM(D66:D77) -> 0 | E11: =SUM(E66:E77) -> 0 | F11: =SUM(F66:F77) -> 0 | G11: =SUM(G66:G77) -> 0 | H11: =SUM(H66:H77) -> 0 | I11: =SUM(I66:I77) -> 0 | J11: =SUM(J66:J77) -> 0 | ... Y11: =SUM(Y66:Y77) -> 198801.66
A13: Monthly
A14: 2021 | B14: January | C14: 0 | D14: 0 | E14: 0 | F14: 0 | G14: 0 | H14: 10 | I14: 31.36589 | J14: 0 | K14: 0 | L14: 0 | M14: 13 | N14: 0 | O14: 0 | P14: 0 | Q14: 16 | R14: 259.85191 | S14: 5300.3533 | T14: 66 | U14: 0 | V14: 14 | W14: 0 | X14: 0 | Y14: 5710.5711
B15: February | C15: 0 | D15: 0 | E15: 0 | F15: 0 | G15: 0 | H15: 0 | I15: 0 | J15: 0 | K15: 0 | L15: 0 | M15: 0 | N15: 0 | O15: 0 | P15: 0 | Q15: 0 | R15: 3589 | S15: 0 | T15: 167 | U15: 0 | V15: 0 | W15: 0 | X15: 0 | Y15: 3756
B16: March | C16: 0 | D16: 0 | E16: 0 | F16: 0 | G16: 0 | H16: 0 | I16: 0 | J16: 0 | K16: 0 | L16: 0 | M16: 0 | N16: 0 | O16: 0 | P16: 0 | Q16: 0 | R16: 0 | S16: 0 | T16: 0 | U16: 0 | V16: 0 | W16: 0 | X16: 0 | Y16: 0
B17: April | C17: 0 | D17: 0 | E17: 0 | F17: 0 | G17: 0 | H17: 0 | I17: 0 | J17: 0 | K17: 0 | L17: 0 | M17: 0 | N17: 0 | O17: 0 | P17: 0 | Q17: 0 | R17: 0 | S17: 110331.55 | T17: 0 | U17: 0 | V17: 0 | W17: 0 | X17: 0 | Y17: 110331.55
B18: May | C18: 0 | D18: 0 | E18: 0 | F18: 0 | G18: 0 | H18: 0 | I18: 0 | J18: 0 | K18: 0 | L18: 0 | M18: 0 | N18: 0 | O18: 0 | P18: 0 | Q18: 3 | R18: 61 | S18: 84382.982 | T18: 802 | U18: 0 | V18: 0 | W18: 0 | X18: 0 | Y18: 85248.982
B19: June | C19: 0 | D19: 0 | E19: 0 | F19: 0 | G19: 0 | H19: 47 | I19: 0 | J19: 0 | K19: 0 | L19: 0 | M19: 0 | N19: 0 | O19: 0 | P19: 0 | Q19: 81 | R19: 470 | S19: 0 | T19: 0 | U19: 0 | V19: 0 | W19: 0 | X19: 0 | Y19: 598
B20: July | C20: 0 | D20: 0 | E20: 0 | F20: 0 | G20: 0 | H20: 0 | I20: 0 | J20: 0 | K20: 0 | L20: 0 | M20: 0 | N20: 0 | O20: 0 | P20: 0 | Q20: 0 | R20: 0 | S20: 2142.8571 | T20: 0 | U20: 0 | V20: 0 | W20: 0 | X20: 0 | Y20: 2142.8571
B21: August | C21: 0 | D21: 0 | E21: 0 | F21: 0 | G21: 0 | H21: 0 | I21: 9 | J21: 0 | K21: 0 | L21: 0 | M21: 0 | N21: 0 | O21: 0 | P21: 0 | Q21: 141 | R21: 320 | S21: 5 | T21: 0 | U21: 0 | V21: 126 | W21: 0 | X21: 0 | Y21: 601
B22: September | C22: 0 | D22: 0 | E22: 0 | F22: 0 | G22: 0 | H22: 0 | I22: 0 | J22: 0 | K22: 0 | L22: 0 | M22: 0 | N22: 0 | O22: 0 | P22: 0 | Q22: 0 | R22: 0 | S22: 5357.1429 | T22: 80 | U22: 0 | V22: 0 | W22: 0 | X22: 0 | Y22: 5437.1429
B23: October | C23: 0 | D23: 0 | E23: 0 | F23: 0 | G23: 0 | H23: 0 | I23: 0 | J23: 0 | K23: 0 | L23: 0 | M23: 0 | N23: 0 | O23: 0 | P23: 0 | Q23: 0 | R23: 107 | S23: 0 | T23: 0 | U23: 0 | V23: 0 | W23: 0 | X23: 0 | Y23: 107
B24: November | C24: 0 | D24: 0 | E24: 0 | F24: 0 | G24: 0 | H24: 0 | I24: 0 | J24: 0 | K24: 0 | L24: 0 | M24: 0 | N24: 0 | O24: 0 | P24: 0 | Q24: 0 | R24: 0 | S24: 0 | T24: 267 | U24: 0 | V24: 0 | W24: 0 | X24: 0 | Y24: 267
B25: December | C25: 0 | D25: 0 | E25: 0 | F25: 0 | G25: 0 | H25: 0 | I25: 0 | J25: 0 | K25: 0 | L25: 0 | M25: 0 | N25: 0 | O25: 0 | P25: 0 | Q25: 0 | R25: 0 | S25: 0
A27: 2022 | B27: January | C27: 0 | D27: 0 | E27: 0 | F27: 0 | G27: 0 | H27: 0 | I27: 0 | J27: 0 | K27: 0 | L27: 0 | M27: 0 | N27: 0 | O27: 0 | P27: 0 | Q27: 0 | R27: 137.19907 | S27: 42724.8 | T27: 332.39581 | U27: 0 | V27: 0 | W27: 0 | X27: 0 | Y27: 43194.395
B28: February | C28: 0 | D28: 0 | E28: 0 | F28: 0 | G28: 0 | H28: 0 | I28: 0 | J28: 0 | K28: 0 | L28: 0 | M28: 0 | N28: 0 | O28: 0 | P28: 0 | Q28: 0 | R28: 0 | S28: 0 | T28: 0 | U28: 0 | V28: 0 | W28: 0 | X28: 0 | Y28: 0
B29: March | C29: 0 | D29: 0 | E29: 0 | F29: 0 | G29: 0 | H29: 0 | I29: 0 | J29: 0 | K29: 0 | L29: 0 | M29: 0 | N29: 0 | O29: 0 | P29: 0 | Q29: 0 | R29: 0 | S29: 88327.387 | T29: 217.26882 | U29: 0 | V29: 0 | W29: 0 | X29: 0 | Y29: 88544.656
B30: April | C30: 0 | D30: 0 | E30: 0 | F30: 0 | G30: 0 | H30: 0 | I30: 0 | J30: 0 | K30: 0 | L30: 0 | M30: 0 | N30: 0 | O30: 0 | P30: 0 | Q30: 0 | R30: 0 | S30: 0 | T30: 0 | U30: 0 | V30: 0 | W30: 0 | X30: 0 | Y30: 0
B31: May | C31: 0 | D31: 0 | E31: 0 | F31: 0 | G31: 0 | H31: 0 | I31: 22.95179 | J31: 1.87848 | K31: 0 | L31: 0 | M31: 13.74558 | N31: 19.2082 | O31: 0 | P31: 0 | Q31: 117.6186 | R31: 7588.97 | S31: 278.43875 | T31: 1136.9022 | U31: 0 | V31: 0 | W31: 0 | X31: 0 | Y31: 9179.7136
B32: June | C32: 0 | D32: 0 | E32: 0 | F32: 0 | G32: 0 | H32: 0 | I32: 0 | J32: 0 | K32: 0 | L32: 0 | M32: 0 | N32: 0 | O32: 0 | P32: 0 | Q32: 0 | R32: 1.03279 | S32: 0 | T32: 272.57857 | U32: 0 | V32: 0 | W32: 0 | X32: 0 | Y32: 273.61136
B33: July | C33: 0 | D33: 0 | E33: 0 | F33: 0 | G33: 0 | H33: 0 | I33: 0 | J33: 0 | K33: 0 | L33: 0 | M33: 0 | N33: 0 | O33: 0 | P33: 0 | Q33: 0 | R33: 0 | S33: 0 | T33: 0 | U33: 0 | V33: 0 | W33: 0 | X33: 0 | Y33: 0
B34: August | C34: 0 | D34: 0 | E34: 0 | F34: 0 | G34: 0 | H34: 0 | I34: 0 | J34: 0 | K34: 0 | L34: 0 | M34: 0 | N34: 0 | O34: 0 | P34: 0 | Q34: 1.79211 | R34: 0 | S34: 13678.19 | T34: 11.64875 | U34: 0 | V34: 0.89606 | W34: 0 | X34: 0 | Y34: 13692.526
B35: September | C35: 0 | D35: 0 | E35: 0 | F35: 0 | G35: 0 | H35: 0 | I35: 0 | J35: 0 | K35: 0 | L35: 0 | M35: 0 | N35: 0 | O35: 0 | P35: 0 | Q35: 0 | R35: 0 | S35: 0 | T35: 955.36206 | U35: 0 | V35: 0 | W35: 0 | X35: 0 | Y35: 955.36206
B36: October | C36: 0 | D36: 0 | E36: 0 | F36: 0 | G36: 0 | H36: 0 | I36: 0 | J36: 0 | K36: 0 | L36: 0 | M36: 0 | N36: 0 | O36: 0 | P36: 0 | Q36: 0 | R36: 0 | S36: 0 | T36: 210.33577 | U36: 0 | V36: 0 | W36: 0 | X36: 0 | Y36: 210.33577
B37: November | C37: 0 | D37: 0 | E37: 0 | F37: 0 | G37: 0 | H37: 0 | I37: 0 | J37: 0 | K37: 0 | L37: 0 | M37: 0 | N37: 0 | O37: 0 | P37: 0 | Q37: 0 | R37: 0 | S37: 23662.121 | T37: 3008.856 | U37: 0 | V37: 0 | W37: 0 | X37: 0 | Y37: 26670.977
B38: December | C38: 0 | D38: 0 | E38: 0 | F38: 0 | G38: 0 | H38: 0 | I38: 0.108 | J38: 8.37728 | K38: 0 | L38: 0 | M38: 1.05399 | N38: 0.16847 | O38: 0 | P38: 0 | Q38: 0.20735 | R38: 43.56804 | S38: 0 | T38: 2164.3063 | U38: 0 | V38: 36.61771 | W38: 0 | X38: 0 | Y38: 2254.4072
A40: 2023 | B40: January | C40: 0 | D40: 0 | E40: 0 | F40: 0 | G40: 0 | H40: 0 | I40: 0 | J40: 0 | K40: 0 | L40: 0 | M40: 0 | N40: 0 | O40: 0 | P40: 0 | Q40: 0 | R40: 0 | S40: 0 | T40: 268.32577 | U40: 0 | V40: 0 | W40: 0 | X40: 0 | Y40: 268.32577
B41: February | C41: 0 | D41: 0 | E41: 0 | F41: 0 | G41: 0 | H41: 0 | I41: 0 | J41: 0 | K41: 0 | L41: 0 | M41: 0 | N41: 0 | O41: 0 | P41: 0 | Q41: 0 | R41: 0 | S41: 2114.6953 | T41: 0 | U41: 0 | V41: 0 | W41: 0 | X41: 0 | Y41: 2114.6953
B42: March | C42: 0 | D42: 0 | E42: 0 | F42: 0 | G42: 0 | H42: 0 | I42: 0 | J42: 0 | K42: 0 | L42: 0 | M42: 0 | N42: 0 | O42: 0 | P42: 0 | Q42: 136.83508 | R42: 0 | S42: 358422.94 | T42: 2835.6849 | U42: 0 | V42: 0 | W42: 0 | X42: 0 | Y42: 361395.46
B43: April | C43: 0 | D43: 0 | E43: 0 | F43: 0 | G43: 0 | H43: 0 | I43: 0 | J43: 0 | K43: 0 | L43: 0 | M43: 0 | N43: 0 | O43: 0 | P43: 0 | Q43: 0 | R43: 0 | S43: 0 | T43: 0 | U43: 0 | V43: 0 | W43: 0 | X43: 0 | Y43: 0
...

Sheet 5_TX
A1: Table 5 | C1: TOTAL EXPORTS BY HS
C2: [Kina 000]
C3: Includes exports and re-exports
A4: HS Sections® | C4: I | D4: II | E4: III | F4: IV | G4: V | H4: VI | I4: VII | J4: VIII | K4: IX | L4: X | M4: XI | N4: XII | O4: XIII | P4: XIV | Q4: XV | R4: XVI | S4: XVII | T4: XVIII | U4: XIX | V4: XX | W4: XXI | X4: XXII
C5: Live animals: animal products | D5: Vegetable products | E5: Animal or vegetable oils & fats | F5: Prepared foodstuffs, beverages, spirits & tobacco | G5: Mineral products | H5: Chemicals and allied products | I5: Plastic, rubber & articles thereof | J5: Raw hides, skins, leather articles thereof & travel goods | K5: Wood, cork & articles thereof & plaiting material | L5: Wood pulp, paper & paperboard & articles thereof | M5: Textiles & textile articles | N5: Footwear, headgear, umbrellas & parts thereof | O5: Articles of stone, plaster, cement, glass & ceremic products | P5: Pearls, precious & semi-precious stones & metals | Q5: Base metals & articles thereof | R5: Machinery & mechanical & electrical appliances & parts thereof | S5: Vehicles, aircraft & associated transport equipment | T5: Photographic & optical, medical & surgical goods & clocks/watches & musical instruments | U5: Arms and ammunition, parts & accessories thereof | V5: Miscellaneous manufactured articles | W5: Works of art, collectors pieces & antiques | X5: Others | Y5: Total
A6: Periods¯ | B6: HS Codes | C6: 01 -05 | D6: 06 -14 | E6: 15 | F6: 16 - 24 | G6: 25 - 27 | H6: 28 - 38 | I6: 39 - 40 | J6: 41 - 43 | K6: 44 - 46 | L6: 47 - 49 | M6: 50 - 63 | N6: 64 - 67 | O6: 68 - 70 | P6: 71 | Q6: 72 - 83 | R6: 84 - 85 | S6: 86 - 89 | T6: 90 - 92 | U6: 93 | V6: 94 - 96 | W6: 97 | X6: 99 | Y6: Column2
A7: Annually
A8: 2020 | C8: 1085458.7 | D8: 472083.24 | E8: 1824132.4 | F8: 914562.33 | G8: 19397665 | H8: 12959.153 | I8: 21689.129 | J8: 1025.8864 | K8: 1135834.5 | L8: 1044.8112 | M8: 1133.4547 | N8: 218.78877 | O8: 288.34895 | P8: 7856814.6 | Q8: 1071035.5 | R8: 217830.14 | S8: 1069635.4 | T8: 29280.017 | U8: 0 | V8: 1109.0747 | W8: 0.52331 | X8: 19681.514 | Y8: 35133482
A9: 2021 | C9: 1392088.5 | D9: 675559.44 | E9: 3253598.4 | F9: 924061.4 | G9: 18765606 | H9: 31157.096 | I9: 23083.646 | J9: 585.56897 | K9: 1085818.4 | L9: 2560.1318 | M9: 1351.1768 | N9: 313.56954 | O9: 9360.5569 | P9: 5874979 | Q9: 1142457.2 | R9: 283089.18 | S9: 479794.35 | T9: 12039.046 | U9: 0 | V9: 3907.1213 | W9: 1709.3458 | X9: 14428.489 | Y9: 33977548
A10: 2022 | C10: 2461377.6 | D10: 838149.87 | E10: 3646767.9 | F10: 870037.75 | G10: 21426253 | H10: 22397.02 | I10: 29396.53 | J10: 850.5826 | K10: 1174918.3 | L10: 4079.3161 | M10: 1204.1244 | N10: 330.8657 | O10: 67330.53 | P10: 6730672.9 | Q10: 963607.63 | R10: 214357.68 | S10: 229813.64 | T10: 25027.327 | U10: 20.82357 | V10: 1090.7143 | W10: 57.93349 | X10: 17205.349 | Y10: 38724948
A11: 2023 | C11: 1662392.2 | D11: 892808.21 | E11: 3304911.3 | F11: 1183801.3 | G11: 18746389 | H11: 42741.953 | I11: 21304.159 | J11: 714.90564 | K11: 983523.9 | L11: 3427.8704 | M11: 2116.1457 | N11: 270.90582 | O11: 98722.866 | P11: 7116837.1 | Q11: 1309885.3 | R11: 296081.59 | S11: 1036709.7 | T11: 29075.586 | U11: 117.84664 | V11: 951.81471 | W11: 35.88894 | X11: 22687.783 | Y11: =SUM(C11:X11) -> 36755507
A12: 2024 | C12: 2026482 | D12: 871246.83 | E12: 3070965.4 | F12: 2202137.7 | G12: 30700125 | H12: 35450.716 | I12: 37818.308 | J12: 857.40233 | K12: 919849.33 | L12: 4054.8709 | M12: 1687.3385 | N12: 447.28978 | O12: 127109.62 | P12: 10183041 | Q12: 1295897.4 | R12: 599629.92 | S12: 1420492 | T12: 37584.899 | U12: 63.46075 | V12: 1893.8928 | W12: 53.84275 | X12: 23996.381 | Y12: 53560884
A13: 2025 p
A15: Monthly
A16: 2020 | B16: January | C16: 78228.124 | D16: 25224.184 | E16: 117517.43 | F16: 66190.995 | G16: 1965093.7 | H16: 260.74397 | I16: 2117.0108 | J16: 93.55935 | K16: 84828.578 | L16: 1.74878 | M16: 2.42887 | N16: 0.17331 | O16: 0 | P16: 817487.31 | Q16: 6649.1816 | R16: 48274.37 | S16: 27380.134 | T16: 4555.9449 | U16: 0 | V16: 10.27882 | W16: 0 | X16: 1138.7085 | Y16: 3245054.6
B17: February | C17: 34273.273 | D17: 26776.93 | E17: 238072.45 | F17: 51595.137 | G17: 925356.46 | H17: 1393.9795 | I17: 1593.1199 | J17: 129.06916 | K17: 106167.18 | L17: 89.76097 | M17: 322.8403 | N17: 0 | O17: 93.44931 | P17: 674626.33 | Q17: 124028.21 | R17: 6211.257 | S17: 105613.45 | T17: 2071.4763 | U17: 0 | V17: 1.80068 | W17: 0 | X17: 964.65192 | Y17: 2299380.8
B18: March | C18: 96122.91 | D18: 23713.445 | E18: 121185.08 | F18: 60022.181 | G18: 1877999.6 | H18: 2945.8605 | I18: 971.72164 | J18: 261.29235 | K18: 100050.05 | L18: 174.98241 | M18: 134.91193 | N18: 4.61012 | O18: 25.75565 | P18: 992084.91 | Q18: 39250.784 | R18: 28254.065 | S18: 1369.8356 | T18: 5984.6193 | U18: 0 | V18: 121.24829 | W18: 0 | X18: 1453.1217 | Y18: 3352131
B19: April | C19: 116313.4 | D19: 13977.311 | E19: 195445.41 | F19: 47564.201 | G19: 1023601.2 | H19: 88.59585 | I19: 779.1362 | J19: 9.45 | K19: 41783.918 | L19: 118.87422 | M19: 63.8173 | N19: 0.00714 | O19: 1.81196 | P19: 788938.93 | Q19: 52526.414 | R19: 9735.6584 | S19: 720674.86 | T19: 5857.6597 | U19: 0 | V19: 286.62255 | W19: 0 | X19: 1726.6077 | Y19: 3019493.9
B20: May | C20: 91695.499 | D20: 29251.602 | E20: 158412.2 | F20: 59389.09 | G20: 1092411.5 | H20: 942.9067 | I20: 2436.5923 | J20: 0.4 | K20: 106507.72 | L20: 78.49361 | M20: 21.367 | N20: 27.67646 | O20: 3.53744 | P20: 541200.02 | Q20: 83615.663 | R20: 20744.229 | S20: 4380.849 | T20: 7725.2514 | U20: 0 | V20: 252.3957 | W20: 0 | X20: 1986.1469 | Y20: 2201083.2
B21: June | C21: 63942.345 | D21: 44419.442 | E21: 144136.12 | F21: 74690.963 | G21: 2759799.8 | H21: 1121.7418 | I21: 1953.6338 | J21: 35.218 | K21: 94135.719 | L21: 23.22626 | M21: 166.41865 | N21: 8.76391 | O21: 13.80922 | P21: 608136.64 | Q21: 127838.97 | R21: 15526.406 | S21: 17365.758 | T21: 536.37715 | U21: 0 | V21: 129.5715 | W21: 0 | X21: 1749.6018 | Y21: 3955730.5
B22: July | C22: 106200.28 | D22: 53202.091 | E22: 135556.44 | F22: 98509.395 | G22: 1476380.4 | H22: 805.71515 | I22: 1811.4918 | J22: 127.60431 | K22: 102785.26 | L22: 0.71387 | M22: 41.97084 | N22: 0 | O22: 105.27745 | P22: 634032.2 | Q22: 45394.089 | R22: 17521.68 | S22: 3532.8052 | T22: 440.0538 | U22: 0 | V22: 59.84897 | W22: 0 | X22: 1615.2599 | Y22: 2678122.6
B23: August | C23: 88008.975 | D23: 49550.12 | E23: 110446.7 | F23: 96104.055 | G23: 1565365.4 | H23: 302.28371 | I23: 2131.5962 | J23: 178.81699 | K23: 76310.162 | L23: 120.15845 | M23: 107.92488 | N23: 90.76112 | O23: 5.5031 | P23: 669370.24 | Q23: 42164.347 | R23: 30580.169 | S23: 81470.321 | T23: 462.85554 | U23: 0 | V23: 78.9136 | W23: 0 | X23: 1137.2685 | Y23: 2813986.5
B24: September | C24: 80581.807 | D24: 53277.771 | E24: 81702.679 | F24: 108873.87 | G24: 1555392.8 | H24: 1003.7853 | I24: 1989.5311 | J24: 0.23488 | K24: 77653.503 | L24: 81.61522 | M24: 116.96153 | N24: 4.17606 | O24: 20.64507 | P24: 439543.96 | Q24: 134416.41 | R24: 4436.9811 | S24: 54226.405 | T24: 591.28711 | U24: 0 | V24: 88.1439 | W24: 0 | X24: 2866.5588 | Y24: 2596869.2
B25: October | C25: 57356.525 | D25: 49234.762 | E25: 283592.04 | F25: 91888.843 | G25: 1801055.4 | H25: 2375.8508 | I25: 2590.2889 | J25: 0.3759 | K25: 111427.02 | L25: 210.33806 | M25: 86.67304 | N25: 77.96491 | O25: 1.95431 | P25: 798808.43 | Q25: 103125.62 | R25: 9747.9674 | S25: 12660.284 | T25: 472.26359 | U25: 0 | V25: 15.39672 | W25: 0.5 | X25: 1917.967 | Y25: 3326646.5
B26: November | C26: 98178.123 | D26: 49366.205 | E26: 153508.45 | F26: 83874.148 | G26: 1528562.9 | H26: 647.84044 | I26: 2213.8547 | J26: 3.37742 | K26: 138079.21 | L26: 56.2418 | M26: 64.77804 | N26: 4.65574 | O26: 12.96888 | P26: 472148.64 | Q26: 153043.62 | R26: 17171.262 | S26: 2962.9587 | T26: 391.24494 | U26: 0 | V26: 54.04383 | W26: 0.02331 | X26: 2119.9693 | Y26: 2702464.6
B27: December | C27: 174557.44 | D27: 54089.371 | E27: 84557.429 | F27: 75859.452 | G27: 1826645.4 | H27: 1069.8491 | I27: 1101.1521 | J27: 186.48804 | K27: 96106.221 | L27: 88.65757 | M27: 3.36232 | N27: 0 | O27: 3.63656 | P27: 420436.95 | Q27: 158982.16 | R27: 9626.0932 | S27: 37997.775 | T27: 190.98357 | U27: 0 | V27: 10.81012 | W27: 0 | X27: 1005.6525 | Y27: 2942518.9
A29: 2021 | B29: January | C29: 205632 | D29: 24758 | E29: 157957 | F29: 87058 | G29: 1471147 | H29: 1821 | I29: 2468.3659 | J29: 5 | K29: 72081 | L29: 2 | M29: 222 | N29: 144 | O29: 0 | P29: 421067 | Q29: 58517 | R29: 8714.8519 | S29: 6168.3533 | T29: 903 | U29: 0 | V29: 117 | W29: 0 | X29: 1077 | Y29: 2519859.6
B30: February | C30: 117692 | D30: 27695 | E30: 103678 | F30: 68485 | G30: 1446510 | H30: 755 | I30: 1487 | J30: 4 | K30: 73186 | L30: 30 | M30: 4 | N30: 1 | O30: 1 | P30: 553753 | Q30: 116126 | R30: 46378 | S30: 9653 | T30: 203 | U30: 0 | V30: 52 | W30: 0 | X30: 1366 | Y30: 2567059
B31: March | C31: 206723.98 | D31: 29106.282 | E31: 144833.52 | F31: 70528.269 | G31: 1545819.4 | H31: 2229.0909 | I31: 3362.2604 | J31: 191.936 | K31: 86098.06 | L31: 0 | M31: 44 | N31: 0 | O31: 0 | P31: 825605.93 | Q31: 139910.06 | R31: 12781.831 | S31: 3955.3452 | T31: 463.82603 | U31: 0 | V31: 3 | W31: 0 | X31: 773.49708 | Y31: 3072430.3
B32: April | C32: 215411.45 | D32: 25156.162 | E32: 455425.13 | F32: 103604.11 | G32: 1564533.7 | H32: 412.00295 | I32: 286.33999 | J32: 3 | K32: 172159.27 | L32: 2 | M32: 31 | N32: 5 | O32: 0 | P32: 445005.04 | Q32: 92168.74 | R32: 22484.854 | S32: 112499.24 | T32: 146 | U32: 0 | V32: 7 | W32: 23 | X32: 890 | Y32: 3210253
B33: May | C33: 80560.421 | D33: 45648.684 | E33: 380659.49 | F33: 86301.779 | G33: 1033745 | H33: 2617.4068 | I33: 752.30949 | J33: 2 | K33: 59004.813 | L33: 96.2494 | M33: 2 | N33: 0 | O33: 8 | P33: 343036.27 | Q33: 46256.377 | R33: 12587.258 | S33: 100865.31 | T33: 841 | U33: 0 | V33: 37 | W33: 6 | X33: 1447.9791 | Y33: 2194475.3
B34: June | C34: 43417.149 | D34: 59348.469 | E34: 188891.01 | F34: 77885.406 | G34: 1704587.8 | H34: 1891.0783 | I34: 2399.1104 | J34: 0 | K34: 81822.33 | L34: 88.68202 | M34: 60.7103 | N34: 113.07145 | O34: 6.73048 | P34: 668558.53 | Q34: 90680.285 | R34: 46030.138 | S34: 209432.61 | T34: 5172.3868 | U34: 0 | V34: 13.5103 | W34: 0 | X34: 633 | Y34: 3181032
B35: July | C35: 14030.827 | D35: 63543.265 | E35: 337515.63 | F35: 61570.447 | G35: 1980684.9 | H35: 2285.173 | I35: 2418 | J35: 120 | K35: 69896.094 | L35: 134.64931 | M35: 224.00864 | N35: 3.49809 | O35: 12.10184 | P35: 584279.82 | Q35: 85528.845 | R35: 21844.248 | S35: 8150.0674 | T35: 498.26393 | U35: 0 | V35: 81.25781 | W35: 121.11943 | X35: 1604 | Y35: 3234546.3
B36: August | C36: 56118.597 | D36: 67943.045 | E36: 204129.81 | F36: 71897.577 | G36: 1632766 | H36: 765.61413 | I36: 3858.8631 | J36: 135 | K36: 83635.572 | L36: 27.27836 | M36: 58.6142 | N36: 0 | O36: 4.7246 | P36: 409600.71 | Q36: 183224.9 | R36: 54479.568 | S36: 14185.717 | T36: 950.23993 | U36: 0 | V36: 322.35321 | W36: 1556.2264 | X36: 0 | Y36: 2785660.4
B37: September | C37: 47514.59 | D37: 90655.88 | E37: 314703.97 | F37: 80405.973 | G37: 1501354.6 | H37: 1446.8338 | I37: 811.23867 | J37: 1.7813 | K37: 94835.746 | L37: 258.87014 | M37: 48.02306 | N37: 0 | O37: 0 | P37: 506886.3 | Q37: 51449.109 | R37: 13915.348 | S37: 5748.1447 | T37: 1658.2838 | U37: 0 | V37: 2 | W37: 0 | X37: 1917 | Y37: 2713613.7
B38: October | C38: 124069.18 | D38: 81591.41 | E38: 107280.94 | F38: 70510.659 | G38: 1208341.4 | H38: 5651.4024 | I38: 1958.4637 | J38: 88.07403 | K38: 75047.701 | L38: 193.8141 | M38: 107.26115 | N38: 26 | O38: 1 | P38: 381628.04 | Q38: 133215.2 | R38: 15569.388 | S38: 2341.1278 | T38: 607.56373 | U38: 0 | V38: 111 | W38: 0 | X38: 1369.464 | Y38: 2209709.1
B39: November | C39: 127939.78 | D39: 77064.839 | E39: 231364.2 | F39: 69889.225 | G39: 2275709.9 | H39: 10615.756 | I39: 1188.8923 | J39: 18.89764 | K39: 113762.21 | L39: 159.93844 | M39: 0 | N39: 2 | O39: 6934 | P39: 234940.06 | Q39: 96431.661 | R39: 1988.189 | S39: 703.86727 | T39: 514.97071 | U39: 0 | V39: 3159 | W39: 3 | X39: 958.30866 | Y39: 3253348.7
B40: December | C40: 152978.55 | D40: 83048.4 | E40: 627159.66 | F40: 75924.956 | G40: 1400406.5 | H40: 666.73809 | I40: 2092.8021 | J40: 15.88 | K40: 104289.61 | L40: 1566.65 | M40: 549.55944 | N40: 19 | O40: 2393 | P40: 500618.27 | Q40: 48949.014 | R40: 26315.507 | S40: 6091.5668 | T40: 80.51082 | U40: 0 | V40: 2 | W40: 0 | X40: 2392.2404 | Y40: 3035560.4
A42: 2022 | B42: January | C42: 140306.59 | D42: 37096.045 | E42: 94440.387 | F42: 72888.771 | G42: 1970172.2 | H42: 475.75969 | I42: 1219.6989 | J42: 239.90282 | K42: 98454.324 | L42: 1374.2571 | M42: 110.22012 | N42: 5.01565 | O42: 3350.1 | P42: 697069.69 | Q42: 56011.27 | R42: 9228.8593 | S42: 43661.146 | T42: 1936.0383 | U42: 0 | V42: 40.78812 | W42: 0.76707 | X42: 2303.5539 | Y42: 3230385.4
B43: February | C43: 127726.69 | D43: 36407.021 | E43: 299968.97 | F43: 44909.635 | G43: 1027266.5 | H43: 3455.3069 | I43: 1820.3111 | J43: 58.05062 | K43: 113353.5 | L43: 98.94593 | M43: 84.35418 | N43: 78.35109 | O43: 6965.2223 | P43: 469211.77 | Q43: 52186.845 | R43: 39175.562 | S43: 4132.113 | T43: 633.04664 | U43: 0 | V43: 11.24992 | W43: 2.64286 | X43: 958.86306 | Y43: 2228504.9
...

Sheet 6_PrinX
A1: Table 6 | B1: PRINCIPLE DOMESTIC EXPORT
B2: KINA (000)
B3: ANNUALY | F3: MONTHLY
F4: 2022 | R4: 2023 | AD4: 2024 | AP4: 2025
A5: Commodities | B5: 2022 | C5: 2023 | D5: 2024 | E5: 2025 p | F5: JAN | G5: FEB | H5: MAR | I5: APR | J5: MAY | K5: JUN | L5: JUL | M5: AUG | N5: SEPT | O5: OCT | P5: NOV | Q5: DEC | R5: JAN | S5: FEB | T5: MAR | U5: APR | V5: MAY | W5: JUN | X5: JUL | Y5: AUG | Z5: SEPT | AA5: OCT | AB5: NOV | AC5: DEC | AD5: JAN | AE5: FEB | AF5: MAR | AG5: APR | AH5: MAY | AI5: JUN | AJ5: JUL | AK5: AUG | AL5: SEPT | AM5: OCT | AN5: NOV | AO5: DEC | AP5: JAN | AQ5: FEB | AR5: MAR | AS5: APR | AT5: MAY | AU5: JUN | AV5: JUL | AW5: AUG | AX5: SEPT | AY5: OCT | AZ5: NOV | BA5: DEC
A6: Petroleum gases and other gaseous hydrocarbons. | B6: =SUM(F6:Q6) -> 12676908 | C6: =SUM(R6:AC6) -> 13153070 | D6: =SUM(AD6:AO6) -> 20581177 | E6: 10916067 | F6: 1374702.7 | G6: 941130.33 | H6: 937307.22 | I6: 1163074.7 | J6: 1043386.8 | K6: 1051495.3 | L6: 1153893.5 | M6: 819180.57 | N6: 1346960.3 | O6: 1037159.4 | P6: 916331.62 | Q6: 892285.43 | R6: 1246137.8 | S6: 890828.55 | T6: 1132256.5 | U6: 1222309.3 | V6: 1119844.6 | W6: 1068538.5 | X6: 1154221.3 | Y6: 1243855.3 | Z6: 926210.07 | AA6: 1147371.5 | AB6: 1175828.5 | AC6: 825668.08 | AD6: 2219338.9 | AE6: 1632033.2 | AF6: 1758156.3 | AG6: 1312005.5 | AH6: 1149971.3 | AI6: 907414.12 | AJ6: 2463121.4 | AK6: 1902807.3 | AL6: 1636950.1 | AM6: 1976666 | AN6: 1677496.4 | AO6: 1945216.8 | AP6: 1730585.2 | AQ6: 2075024.5 | AR6: 1493117.4 | AS6: 1460229.3 | AT6: 1941028.1 | AU6: 2216082.7
A7: Gold | B7: =SUM(F7:Q7) -> 9002176.1 | C7: =SUM(R7:AC7) -> 8637711.6 | D7: =SUM(AD7:AO7) -> 11538032 | E7: 8915840.1 | F7: 806909.13 | G7: 539194.61 | H7: 1364035.1 | I7: 719743.31 | J7: 624484.61 | K7: 879486.37 | L7: 688858.94 | M7: 973372.11 | N7: 842553.11 | O7: 476988.47 | P7: 656062.89 | Q7: 430487.49 | R7: 687128.07 | S7: 686867.39 | T7: 635839.67 | U7: 632503.41 | V7: 870893.79 | W7: 671681.08 | X7: 599962.55 | Y7: 669235.25 | Z7: 671350.06 | AA7: 623758.47 | AB7: 733518.91 | AC7: 1154972.9 | AD7: 811047.38 | AE7: 1016108.4 | AF7: 692327.2 | AG7: 976889.18 | AH7: 683204.29 | AI7: 1015951.9 | AJ7: 755547.15 | AK7: 1138999.6 | AL7: 1147763.1 | AM7: 951382.13 | AN7: 834633.28 | AO7: 1514178 | AP7: 1351767.8 | AQ7: 1585259.9 | AR7: 1128857.7 | AS7: 1853594.4 | AT7: 1260956.4 | AU7: 1735403.8
A8: Copper ores and concentrates. | B8: =SUM(F8:Q8) -> 2590592.8 | C8: =SUM(R8:AC8) -> 1653755.8 | D8: =SUM(AD8:AO8) -> 4995778.7 | E8: 4021651.4 | F8: 8117.8253 | G8: 5202.4001 | H8: 1508799.8 | I8: 0 | J8: 26.78893 | K8: 160892.03 | L8: 81037.525 | M8: 63443.81 | N8: 418742.35 | O8: 146079.34 | P8: 98677.405 | Q8: 99573.488 | R8: 134274.86 | S8: 214399.78 | T8: 145744.83 | U8: 219031.87 | V8: 178507.72 | W8: 74306.025 | X8: 70115.633 | Y8: 203441.63 | Z8: 71897.045 | AA8: 113836.96 | AB8: 13343.553 | AC8: 214855.86 | AD8: 305614.59 | AE8: 215193.81 | AF8: 177047.72 | AG8: 188074.26 | AH8: 552914.85 | AI8: 353666.5 | AJ8: 555097.18 | AK8: 615309.49 | AL8: 416312.79 | AM8: 427188.61 | AN8: 607650.99 | AO8: 581707.91 | AP8: 293316.31 | AQ8: 510813.53 | AR8: 782159.79 | AS8: 831689.57 | AT8: 743161.64 | AU8: 860510.56
A9: Palm oil and its fractions, whether or not refined, but not chemically modified. | B9: =SUM(F9:Q9) -> 3113707.5 | C9: =SUM(R9:AC9) -> 2895226.1 | D9: =SUM(AD9:AO9) -> 2445621.3 | E9: 1805464.7 | F9: 76590.067 | G9: 250461.21 | H9: 134152.65 | I9: 133443.1 | J9: 433978.08 | K9: 293920.46 | L9: 177879.99 | M9: 279330.76 | N9: 968749.8 | O9: 179699.43 | P9: 58576.936 | Q9: 126925.04 | R9: 183397.49 | S9: 129981.25 | T9: 298290.4 | U9: 194619.9 | V9: 399854.11 | W9: 106533.66 | X9: 151793.46 | Y9: 156593.71 | Z9: 701669.66 | AA9: 81311.066 | AB9: 132516.33 | AC9: 358665.11 | AD9: 152815.42 | AE9: 102380.69 | AF9: 245897.42 | AG9: 319243.75 | AH9: 265590.87 | AI9: 167977.28 | AJ9: 152111.27 | AK9: 65375.792 | AL9: 459371.3 | AM9: 169832.67 | AN9: 168460.58 | AO9: 176564.23 | AP9: 78930.153 | AQ9: 425800.8 | AR9: 405828.15 | AS9: 308064.42 | AT9: 426140.92 | AU9: 160700.22
